Back to Multiple platform build/check report for BioC 3.17: simplified long |
|
This page was generated on 2023-09-21 11:34:16 -0400 (Thu, 21 Sep 2023).
Hostname | OS | Arch (*) | R version | Installed pkgs |
---|---|---|---|---|
nebbiolo1 | Linux (Ubuntu 22.04.2 LTS) | x86_64 | 4.3.1 (2023-06-16) -- "Beagle Scouts" | 4625 |
palomino3 | Windows Server 2022 Datacenter | x64 | 4.3.1 (2023-06-16 ucrt) -- "Beagle Scouts" | 4378 |
merida1 | macOS 12.6.4 Monterey | x86_64 | 4.3.1 (2023-06-16) -- "Beagle Scouts" | 4394 |
Click on any hostname to see more info about the system (e.g. compilers) (*) as reported by 'uname -p', except on Windows and Mac OS X |
Package 61/2230 | Hostname | OS / Arch | INSTALL | BUILD | CHECK | BUILD BIN | ||||||||
ANCOMBC 2.2.2 (landing page) Huang Lin
| nebbiolo1 | Linux (Ubuntu 22.04.2 LTS) / x86_64 | OK | OK | OK | ![]() | ||||||||
palomino3 | Windows Server 2022 Datacenter / x64 | OK | OK | OK | OK | ![]() | ||||||||
merida1 | macOS 12.6.4 Monterey / x86_64 | OK | OK | OK | OK | ![]() | ||||||||
To the developers/maintainers of the ANCOMBC package: - Allow up to 24 hours (and sometimes 48 hours) for your latest push to git@git.bioconductor.org:packages/ANCOMBC.git to reflect on this report. See Troubleshooting Build Report for more information. - Use the following Renviron settings to reproduce errors and warnings. - If 'R CMD check' started to fail recently on the Linux builder(s) over a missing dependency, add the missing dependency to 'Suggests:' in your DESCRIPTION file. See Renviron.bioc for more information. |
Package: ANCOMBC |
Version: 2.2.2 |
Command: /home/biocbuild/bbs-3.17-bioc/R/bin/R CMD build --keep-empty-dirs --no-resave-data ANCOMBC |
StartedAt: 2023-09-20 15:52:21 -0400 (Wed, 20 Sep 2023) |
EndedAt: 2023-09-20 16:03:17 -0400 (Wed, 20 Sep 2023) |
EllapsedTime: 656.0 seconds |
RetCode: 0 |
Status: OK |
PackageFile: ANCOMBC_2.2.2.tar.gz |
PackageFileSize: 1.019 MiB |
############################################################################## ############################################################################## ### ### Running command: ### ### /home/biocbuild/bbs-3.17-bioc/R/bin/R CMD build --keep-empty-dirs --no-resave-data ANCOMBC ### ############################################################################## ############################################################################## * checking for file ‘ANCOMBC/DESCRIPTION’ ... OK * preparing ‘ANCOMBC’: * checking DESCRIPTION meta-information ... OK * installing the package to process help pages Loading required namespace: ANCOMBC Registered S3 methods overwritten by 'treeio': method from MRCA.phylo tidytree MRCA.treedata tidytree Nnode.treedata tidytree Ntip.treedata tidytree ancestor.phylo tidytree ancestor.treedata tidytree child.phylo tidytree child.treedata tidytree full_join.phylo tidytree full_join.treedata tidytree groupClade.phylo tidytree groupClade.treedata tidytree groupOTU.phylo tidytree groupOTU.treedata tidytree inner_join.phylo tidytree inner_join.treedata tidytree is.rooted.treedata tidytree nodeid.phylo tidytree nodeid.treedata tidytree nodelab.phylo tidytree nodelab.treedata tidytree offspring.phylo tidytree offspring.treedata tidytree parent.phylo tidytree parent.treedata tidytree root.treedata tidytree rootnode.phylo tidytree sibling.phylo tidytree * saving partial Rd database * creating vignettes ... OK * checking for LF line-endings in source and make files and shell scripts * checking for empty or unneeded directories * looking to see if a ‘data/datalist’ file should be added * building ‘ANCOMBC_2.2.2.tar.gz’