Back to Multiple platform build/check report for BioC 3.17: simplified long |
|
This page was generated on 2023-03-29 11:05:24 -0400 (Wed, 29 Mar 2023).
Hostname | OS | Arch (*) | R version | Installed pkgs |
---|---|---|---|---|
nebbiolo1 | Linux (Ubuntu 22.04.1 LTS) | x86_64 | R Under development (unstable) (2023-03-16 r83996) -- "Unsuffered Consequences" | 4547 |
palomino3 | Windows Server 2022 Datacenter | x64 | R Under development (unstable) (2023-03-15 r83984 ucrt) -- "Unsuffered Consequences" | 4308 |
merida1 | macOS 10.14.6 Mojave | x86_64 | R Under development (unstable) (2023-03-16 r83985) -- "Unsuffered Consequences" | 4301 |
Click on any hostname to see more info about the system (e.g. compilers) (*) as reported by 'uname -p', except on Windows and Mac OS X |
To the developers/maintainers of the DominoEffect package: - Please allow up to 24 hours (and sometimes 48 hours) for your latest push to git@git.bioconductor.org:packages/DominoEffect.git to reflect on this report. See How and When does the builder pull? When will my changes propagate? for more information. - Make sure to use the following settings in order to reproduce any error or warning you see on this page. |
Package 571/2195 | Hostname | OS / Arch | INSTALL | BUILD | CHECK | BUILD BIN | ||||||||
DominoEffect 1.19.0 (landing page) Marija Buljan
| nebbiolo1 | Linux (Ubuntu 22.04.1 LTS) / x86_64 | OK | OK | OK | ![]() | ||||||||
palomino3 | Windows Server 2022 Datacenter / x64 | OK | OK | OK | OK | ![]() | ||||||||
merida1 | macOS 10.14.6 Mojave / x86_64 | OK | OK | OK | OK | ![]() | ||||||||
Package: DominoEffect |
Version: 1.19.0 |
Command: rm -rf DominoEffect.buildbin-libdir && mkdir DominoEffect.buildbin-libdir && F:\biocbuild\bbs-3.17-bioc\R\bin\R.exe CMD INSTALL --build --library=DominoEffect.buildbin-libdir DominoEffect_1.19.0.tar.gz |
StartedAt: 2023-03-29 06:47:50 -0400 (Wed, 29 Mar 2023) |
EndedAt: 2023-03-29 06:48:36 -0400 (Wed, 29 Mar 2023) |
EllapsedTime: 45.5 seconds |
RetCode: 0 |
Status: OK |
PackageFile: DominoEffect_1.19.0.zip |
PackageFileSize: 587.2 KiB |
############################################################################## ############################################################################## ### ### Running command: ### ### rm -rf DominoEffect.buildbin-libdir && mkdir DominoEffect.buildbin-libdir && F:\biocbuild\bbs-3.17-bioc\R\bin\R.exe CMD INSTALL --build --library=DominoEffect.buildbin-libdir DominoEffect_1.19.0.tar.gz ### ############################################################################## ############################################################################## * installing *source* package 'DominoEffect' ... ** using staged installation ** R ** data *** moving datasets to lazyload DB ** inst ** byte-compile and prepare package for lazy loading ** help *** installing help indices ** building package indices ** installing vignettes ** testing if installed package can be loaded from temporary location ** testing if installed package can be loaded from final location ** testing if installed package keeps a record of temporary installation path * MD5 sums packaged installation of 'DominoEffect' as DominoEffect_1.19.0.zip * DONE (DominoEffect)