Back to Multiple platform build/check report for BioC 3.17:   simplified   long
ABCDEFGHIJKL[M]NOPQRSTUVWXYZ

This page was generated on 2023-06-05 11:04:04 -0400 (Mon, 05 Jun 2023).

HostnameOSArch (*)R versionInstalled pkgs
nebbiolo1Linux (Ubuntu 22.04.2 LTS)x86_644.3.0 RC (2023-04-13 r84269) -- "Already Tomorrow" 4623
palomino3Windows Server 2022 Datacenterx644.3.0 RC (2023-04-13 r84269 ucrt) -- "Already Tomorrow" 4374
merida1macOS 12.6.4 Montereyx86_644.3.0 RC (2023-04-13 r84257) -- "Already Tomorrow" 4332
Click on any hostname to see more info about the system (e.g. compilers)      (*) as reported by 'uname -p', except on Windows and Mac OS X

BUILD results for MADSEQ on nebbiolo1


To the developers/maintainers of the MADSEQ package:
- Allow up to 24 hours (and sometimes 48 hours) for your latest push to git@git.bioconductor.org:packages/MADSEQ.git to reflect on this report. See Troubleshooting Build Report for more information.

- Use the following Renviron settings to reproduce errors and warnings.

Note: If "R CMD check" recently failed on the Linux builder over a missing dependency, add the missing dependency to "Suggests" in your DESCRIPTION file. See the Renviron.bioc for details.

raw results

Package 1100/2229HostnameOS / ArchINSTALLBUILDCHECKBUILD BIN
MADSEQ 1.26.0  (landing page)
Yu Kong
Snapshot Date: 2023-06-04 14:00:14 -0400 (Sun, 04 Jun 2023)
git_url: https://git.bioconductor.org/packages/MADSEQ
git_branch: RELEASE_3_17
git_last_commit: 8105206
git_last_commit_date: 2023-04-25 10:47:27 -0400 (Tue, 25 Apr 2023)
nebbiolo1Linux (Ubuntu 22.04.2 LTS) / x86_64  OK    OK    OK  UNNEEDED, same version is already published
palomino3Windows Server 2022 Datacenter / x64  OK    OK    OK    OK  UNNEEDED, same version is already published
merida1macOS 12.6.4 Monterey / x86_64  OK    OK    OK    NA  

Summary

Package: MADSEQ
Version: 1.26.0
Command: /home/biocbuild/bbs-3.17-bioc/R/bin/R CMD build --keep-empty-dirs --no-resave-data MADSEQ
StartedAt: 2023-06-04 17:09:47 -0400 (Sun, 04 Jun 2023)
EndedAt: 2023-06-04 17:11:00 -0400 (Sun, 04 Jun 2023)
EllapsedTime: 73.1 seconds
RetCode: 0
Status:   OK  
PackageFile: MADSEQ_1.26.0.tar.gz
PackageFileSize: 1.941 MiB

Command output

##############################################################################
##############################################################################
###
### Running command:
###
###   /home/biocbuild/bbs-3.17-bioc/R/bin/R CMD build --keep-empty-dirs --no-resave-data MADSEQ
###
##############################################################################
##############################################################################


* checking for file ‘MADSEQ/DESCRIPTION’ ... OK
* preparing ‘MADSEQ’:
* checking DESCRIPTION meta-information ... OK
* installing the package to build vignettes
* creating vignettes ... OK
* checking for LF line-endings in source and make files and shell scripts
* checking for empty or unneeded directories
  NB: this package now depends on R (>= 3.5.0)
  WARNING: Added dependency on R >= 3.5.0 because serialized objects in
  serialize/load version 3 cannot be read in older versions of R.
  File(s) containing such objects:
    ‘MADSEQ/inst/AQP7/hg19_AQP7_gr.RDS’
    ‘MADSEQ/inst/AQP7/hg38_AQP7_gr.RDS’
    ‘MADSEQ/inst/AQP7/hs37d5_AQP7_gr.RDS’
    ‘MADSEQ/inst/HLA/hg19_HLA_gr.RDS’ ‘MADSEQ/inst/HLA/hg38_HLA_gr.RDS’
    ‘MADSEQ/inst/HLA/hs37d5_HLA_gr.RDS’ ‘MADSEQ/inst/gap/hg19_gap_gr.RDS’
    ‘MADSEQ/inst/gap/hg38_gap_gr.RDS’ ‘MADSEQ/inst/gap/hs37d5_gap_gr.RDS’
* building ‘MADSEQ_1.26.0.tar.gz’