Back to Multiple platform build/check report for BioC 3.17: simplified long |
|
This page was generated on 2023-03-20 11:06:12 -0400 (Mon, 20 Mar 2023).
Hostname | OS | Arch (*) | R version | Installed pkgs |
---|---|---|---|---|
nebbiolo1 | Linux (Ubuntu 22.04.1 LTS) | x86_64 | R Under development (unstable) (2023-03-16 r83996) -- "Unsuffered Consequences" | 4297 |
palomino3 | Windows Server 2022 Datacenter | x64 | R Under development (unstable) (2023-03-15 r83984 ucrt) -- "Unsuffered Consequences" | 4286 |
merida1 | macOS 10.14.6 Mojave | x86_64 | R Under development (unstable) (2023-03-16 r83985) -- "Unsuffered Consequences" | 4150 |
Click on any hostname to see more info about the system (e.g. compilers) (*) as reported by 'uname -p', except on Windows and Mac OS X |
To the developers/maintainers of the spicyR package: - Please allow up to 24 hours (and sometimes 48 hours) for your latest push to git@git.bioconductor.org:packages/spicyR.git to reflect on this report. See How and When does the builder pull? When will my changes propagate? for more information. - Make sure to use the following settings in order to reproduce any error or warning you see on this page. |
Package 1950/2189 | Hostname | OS / Arch | INSTALL | BUILD | CHECK | BUILD BIN | ||||||||
spicyR 1.11.6 (landing page) Ellis Patrick
| nebbiolo1 | Linux (Ubuntu 22.04.1 LTS) / x86_64 | OK | OK | OK | ![]() | ||||||||
palomino3 | Windows Server 2022 Datacenter / x64 | OK | OK | OK | OK | ![]() | ||||||||
merida1 | macOS 10.14.6 Mojave / x86_64 | ERROR | ERROR | skipped | skipped | |||||||||
Package: spicyR |
Version: 1.11.6 |
Command: F:\biocbuild\bbs-3.17-bioc\R\bin\R.exe CMD check --no-multiarch --install=check:spicyR.install-out.txt --library=F:\biocbuild\bbs-3.17-bioc\R\library --no-vignettes --timings spicyR_1.11.6.tar.gz |
StartedAt: 2023-03-20 06:49:25 -0400 (Mon, 20 Mar 2023) |
EndedAt: 2023-03-20 06:53:33 -0400 (Mon, 20 Mar 2023) |
EllapsedTime: 248.4 seconds |
RetCode: 0 |
Status: OK |
CheckDir: spicyR.Rcheck |
Warnings: 0 |
############################################################################## ############################################################################## ### ### Running command: ### ### F:\biocbuild\bbs-3.17-bioc\R\bin\R.exe CMD check --no-multiarch --install=check:spicyR.install-out.txt --library=F:\biocbuild\bbs-3.17-bioc\R\library --no-vignettes --timings spicyR_1.11.6.tar.gz ### ############################################################################## ############################################################################## * using log directory 'F:/biocbuild/bbs-3.17-bioc/meat/spicyR.Rcheck' * using R Under development (unstable) (2023-03-15 r83984 ucrt) * using platform: x86_64-w64-mingw32 (64-bit) * R was compiled by gcc.exe (GCC) 12.2.0 GNU Fortran (GCC) 12.2.0 * running under: Windows Server 2022 x64 (build 20348) * using session charset: UTF-8 * using option '--no-vignettes' * checking for file 'spicyR/DESCRIPTION' ... OK * checking extension type ... Package * this is package 'spicyR' version '1.11.6' * package encoding: UTF-8 * checking package namespace information ... OK * checking package dependencies ... OK * checking if this is a source package ... OK * checking if there is a namespace ... OK * checking for hidden files and directories ... OK * checking for portable file names ... OK * checking whether package 'spicyR' can be installed ... OK * checking installed package size ... NOTE installed size is 5.9Mb sub-directories of 1Mb or more: data 4.1Mb * checking package directory ... OK * checking 'build' directory ... OK * checking DESCRIPTION meta-information ... OK * checking top-level files ... OK * checking for left-over files ... OK * checking index information ... OK * checking package subdirectories ... OK * checking R files for non-ASCII characters ... OK * checking R files for syntax errors ... OK * checking whether the package can be loaded ... OK * checking whether the package can be loaded with stated dependencies ... OK * checking whether the package can be unloaded cleanly ... OK * checking whether the namespace can be loaded with stated dependencies ... OK * checking whether the namespace can be unloaded cleanly ... OK * checking dependencies in R code ... OK * checking S3 generic/method consistency ... OK * checking replacement functions ... OK * checking foreign function calls ... OK * checking R code for possible problems ... NOTE bubblePlot: no visible binding for global variable 'condition' calcWeights: no visible binding for global variable 'pairwiseAssoc' inhomL: no visible binding for global variable 'j' inhomL: no visible binding for global variable 'value' inhomL: no visible binding for global variable 'i' inhomL: no visible binding for global variable 'd' inhomL: no visible binding for global variable 'cellTypeI' inhomL: no visible binding for global variable 'cellTypeJ' inhomL: no visible global function definition for '.' inhomL: no visible binding for global variable 'wt' inhomLPair: no visible binding for global variable 'i' spatialLMBootstrap : functionToReplicate: no visible global function definition for 'nrows' spicy: no visible global function definition for 'column_to_rownames' spicy: no visible global function definition for '%>%' spicy: no visible binding for global variable 'konditionalResult' spicy: no visible global function definition for 'select' spicy: no visible binding for global variable 'test' spicy: no visible binding for global variable 'konditional' spicy: no visible global function definition for 'pivot_wider' spicy: no visible global function definition for 'mutate' spicy: no visible global function definition for 'separate' spicy: no visible binding for global variable 'fromName' spicy: no visible binding for global variable 'parent' Undefined global functions or variables: %>% . cellTypeI cellTypeJ column_to_rownames condition d fromName i j konditional konditionalResult mutate nrows pairwiseAssoc parent pivot_wider select separate test value wt * checking Rd files ... OK * checking Rd metadata ... OK * checking Rd cross-references ... OK * checking for missing documentation entries ... OK * checking for code/documentation mismatches ... OK * checking Rd \usage sections ... OK * checking Rd contents ... OK * checking for unstated dependencies in examples ... OK * checking contents of 'data' directory ... OK * checking data for non-ASCII characters ... OK * checking LazyData ... OK * checking data for ASCII and uncompressed saves ... OK * checking files in 'vignettes' ... OK * checking examples ... OK Examples with CPU (user + system) or elapsed time > 5s user system elapsed spicy 16.34 0.3 16.67 * checking for unstated dependencies in vignettes ... OK * checking package vignettes in 'inst/doc' ... OK * checking running R code from vignettes ... SKIPPED * checking re-building of vignette outputs ... SKIPPED * checking PDF version of manual ... OK * DONE Status: 2 NOTEs See 'F:/biocbuild/bbs-3.17-bioc/meat/spicyR.Rcheck/00check.log' for details.
spicyR.Rcheck/00install.out
############################################################################## ############################################################################## ### ### Running command: ### ### F:\biocbuild\bbs-3.17-bioc\R\bin\R.exe CMD INSTALL spicyR ### ############################################################################## ############################################################################## * installing to library 'F:/biocbuild/bbs-3.17-bioc/R/library' * installing *source* package 'spicyR' ... ** using staged installation ** R ** data *** moving datasets to lazyload DB ** inst ** byte-compile and prepare package for lazy loading ** help *** installing help indices ** building package indices ** installing vignettes ** testing if installed package can be loaded from temporary location ** testing if installed package can be loaded from final location ** testing if installed package keeps a record of temporary installation path * DONE (spicyR)
spicyR.Rcheck/spicyR-Ex.timings
name | user | system | elapsed | |
Accessors | 0.54 | 0.01 | 0.56 | |
SegmentedCells | 0.24 | 0.00 | 0.24 | |
colTest | 4.69 | 0.11 | 4.80 | |
getPairwise | 3.44 | 0.08 | 3.50 | |
getProp | 1.14 | 0.00 | 1.14 | |
plot-SegmentedCells | 0.19 | 0.00 | 0.19 | |
show-SegmentedCells | 0.28 | 0.01 | 0.30 | |
signifPlot | 1.89 | 0.05 | 1.94 | |
spicy | 16.34 | 0.30 | 16.67 | |
topPairs | 0.02 | 0.00 | 0.01 | |