Back to Multiple platform build/check report for BioC 3.17:   simplified   long
ABCDEFGHIJKL[M]NOPQRSTUVWXYZ

This page was generated on 2023-03-21 11:04:45 -0400 (Tue, 21 Mar 2023).

HostnameOSArch (*)R versionInstalled pkgs
nebbiolo1Linux (Ubuntu 22.04.1 LTS)x86_64R Under development (unstable) (2023-03-16 r83996) -- "Unsuffered Consequences" 4305
palomino3Windows Server 2022 Datacenterx64R Under development (unstable) (2023-03-15 r83984 ucrt) -- "Unsuffered Consequences" 4287
merida1macOS 10.14.6 Mojavex86_64R Under development (unstable) (2023-03-16 r83985) -- "Unsuffered Consequences" 4286
Click on any hostname to see more info about the system (e.g. compilers)      (*) as reported by 'uname -p', except on Windows and Mac OS X

All results for package MSnbase


To the developers/maintainers of the MSnbase package:
- Please allow up to 24 hours (and sometimes 48 hours) for your latest push to git@git.bioconductor.org:packages/MSnbase.git to
reflect on this report. See How and When does the builder pull? When will my changes propagate? for more information.
- Make sure to use the following settings in order to reproduce any error or warning you see on this page.

raw results

Package 1286/2189HostnameOS / ArchINSTALLBUILDCHECKBUILD BIN
MSnbase 2.25.2  (landing page)
Laurent Gatto
Snapshot Date: 2023-03-20 14:00:22 -0400 (Mon, 20 Mar 2023)
git_url: https://git.bioconductor.org/packages/MSnbase
git_branch: master
git_last_commit: 90707ae2
git_last_commit_date: 2023-02-17 12:17:08 -0400 (Fri, 17 Feb 2023)
nebbiolo1Linux (Ubuntu 22.04.1 LTS) / x86_64  OK    OK    OK  UNNEEDED, same version is already published
palomino3Windows Server 2022 Datacenter / x64  OK    OK    OK    OK  UNNEEDED, same version is already published
merida1macOS 10.14.6 Mojave / x86_64  OK    OK    OK    OK  UNNEEDED, same version is already published

Results for Bioconductor software packages that depend directly on package MSnbase

QUICK STATSOS / ArchINSTALLBUILDCHECKBUILD BIN
nebbiolo1Linux (Ubuntu 22.04.1 LTS) / x86_64
0020
0119
02413
palomino3Windows Server 2022 Datacenter / x64
0020
0218
02412
0018
merida1macOS 10.14.6 Mojave / x86_64
0020
0119
03412
0019
Package 1/20HostnameOS / ArchINSTALLBUILDCHECKBUILD BIN
bandle 1.3.0  (landing page)
Oliver M. Crook
git_last_commit: ee829a0
git_last_commit_date: 2022-11-01 11:26:51 -0400
nebbiolo1Linux (Ubuntu 22.04.1 LTS) / x86_64  OK    OK    OK  UNNEEDED, same version is already published
palomino3Windows Server 2022 Datacenter / x64  OK    OK    OK    OK  UNNEEDED, same version is already published
merida1macOS 10.14.6 Mojave / x86_64  OK    OK    OK    OK  UNNEEDED, same version is already published
Package 2/20HostnameOS / ArchINSTALLBUILDCHECKBUILD BIN
cliqueMS 1.13.0  (landing page)
Oriol Senan Campos
git_last_commit: 5d7daed
git_last_commit_date: 2022-11-01 11:21:00 -0400
nebbiolo1Linux (Ubuntu 22.04.1 LTS) / x86_64  OK    ERROR  skipped
palomino3Windows Server 2022 Datacenter / x64  OK    ERROR  skippedskipped
merida1macOS 10.14.6 Mojave / x86_64  OK    ERROR  skippedskipped
Package 3/20HostnameOS / ArchINSTALLBUILDCHECKBUILD BIN
CluMSID 1.15.0  (landing page)
Tobias Depke
git_last_commit: fa7f0d8
git_last_commit_date: 2022-11-01 11:19:03 -0400
nebbiolo1Linux (Ubuntu 22.04.1 LTS) / x86_64  OK    OK    WARNINGS  UNNEEDED, same version is already published
palomino3Windows Server 2022 Datacenter / x64  OK    OK    WARNINGS    OK  UNNEEDED, same version is already published
merida1macOS 10.14.6 Mojave / x86_64  OK    OK    WARNINGS    OK  UNNEEDED, same version is already published
Package 4/20HostnameOS / ArchINSTALLBUILDCHECKBUILD BIN
DAPAR 1.31.5  (landing page)
Samuel Wieczorek
git_last_commit: bca4e73
git_last_commit_date: 2023-03-09 07:50:00 -0400
nebbiolo1Linux (Ubuntu 22.04.1 LTS) / x86_64  OK    OK    ERROR  
palomino3Windows Server 2022 Datacenter / x64  OK    OK    ERROR    OK  
merida1macOS 10.14.6 Mojave / x86_64  OK    OK    ERROR    OK  
Package 5/20HostnameOS / ArchINSTALLBUILDCHECKBUILD BIN
DEP 1.21.0  (landing page)
Arne Smits
git_last_commit: d92e15f
git_last_commit_date: 2022-11-01 11:16:08 -0400
nebbiolo1Linux (Ubuntu 22.04.1 LTS) / x86_64  OK    OK    WARNINGS  UNNEEDED, same version is already published
palomino3Windows Server 2022 Datacenter / x64  OK    OK    WARNINGS    OK  UNNEEDED, same version is already published
merida1macOS 10.14.6 Mojave / x86_64  OK    OK    WARNINGS    OK  UNNEEDED, same version is already published
Package 6/20HostnameOS / ArchINSTALLBUILDCHECKBUILD BIN
MobilityTransformR 1.3.0  (landing page)
Liesa Salzer
git_last_commit: 9adcb5e
git_last_commit_date: 2022-11-01 11:26:31 -0400
nebbiolo1Linux (Ubuntu 22.04.1 LTS) / x86_64  OK    OK    OK  UNNEEDED, same version is already published
palomino3Windows Server 2022 Datacenter / x64  OK    OK    OK    OK  UNNEEDED, same version is already published
merida1macOS 10.14.6 Mojave / x86_64  OK    OK    OK    OK  UNNEEDED, same version is already published
Package 7/20HostnameOS / ArchINSTALLBUILDCHECKBUILD BIN
msmsEDA 1.37.0  (landing page)
Josep Gregori
git_last_commit: ae66680
git_last_commit_date: 2022-11-01 11:08:30 -0400
nebbiolo1Linux (Ubuntu 22.04.1 LTS) / x86_64  OK    OK    OK  UNNEEDED, same version is already published
palomino3Windows Server 2022 Datacenter / x64  OK    OK    OK    OK  UNNEEDED, same version is already published
merida1macOS 10.14.6 Mojave / x86_64  OK    OK    OK    OK  UNNEEDED, same version is already published
Package 8/20HostnameOS / ArchINSTALLBUILDCHECKBUILD BIN
msmsTests 1.37.0  (landing page)
Josep Gregori i Font
git_last_commit: 43f7f5b
git_last_commit_date: 2022-11-01 11:08:31 -0400
nebbiolo1Linux (Ubuntu 22.04.1 LTS) / x86_64  OK    OK    OK  UNNEEDED, same version is already published
palomino3Windows Server 2022 Datacenter / x64  OK    OK    OK    OK  UNNEEDED, same version is already published
merida1macOS 10.14.6 Mojave / x86_64  OK    OK    OK    OK  UNNEEDED, same version is already published
Package 9/20HostnameOS / ArchINSTALLBUILDCHECKBUILD BIN
MSnID 1.33.0  (landing page)
Vlad Petyuk
git_last_commit: 981bf32
git_last_commit_date: 2022-11-01 11:10:19 -0400
nebbiolo1Linux (Ubuntu 22.04.1 LTS) / x86_64  OK    OK    OK  UNNEEDED, same version is already published
palomino3Windows Server 2022 Datacenter / x64  OK    OK    OK    OK  UNNEEDED, same version is already published
merida1macOS 10.14.6 Mojave / x86_64  OK    OK    OK    OK  UNNEEDED, same version is already published
Package 10/20HostnameOS / ArchINSTALLBUILDCHECKBUILD BIN
MSstatsQC 2.17.0  (landing page)
Eralp Dogu
git_last_commit: aa00f54
git_last_commit_date: 2022-11-01 11:16:24 -0400
nebbiolo1Linux (Ubuntu 22.04.1 LTS) / x86_64  OK    OK    ERROR  
palomino3Windows Server 2022 Datacenter / x64  OK    OK    ERROR    OK  
merida1macOS 10.14.6 Mojave / x86_64  OK    OK    ERROR    OK  
Package 11/20HostnameOS / ArchINSTALLBUILDCHECKBUILD BIN
peakPantheR 1.13.1  (landing page)
Arnaud Wolfer
git_last_commit: 556094d
git_last_commit_date: 2022-12-12 12:38:17 -0400
nebbiolo1Linux (Ubuntu 22.04.1 LTS) / x86_64  OK    OK    OK  UNNEEDED, same version is already published
palomino3Windows Server 2022 Datacenter / x64  OK    OK    OK    OK  UNNEEDED, same version is already published
merida1macOS 10.14.6 Mojave / x86_64  OK    OK    ERROR    OK  
Package 12/20HostnameOS / ArchINSTALLBUILDCHECKBUILD BIN
PrInCE 1.15.0  (landing page)
Michael Skinnider
git_last_commit: e912393
git_last_commit_date: 2022-11-01 11:19:23 -0400
nebbiolo1Linux (Ubuntu 22.04.1 LTS) / x86_64  OK    OK    WARNINGS  UNNEEDED, same version is already published
palomino3Windows Server 2022 Datacenter / x64  OK    OK    WARNINGS    OK  UNNEEDED, same version is already published
merida1macOS 10.14.6 Mojave / x86_64  OK    OK    WARNINGS    OK  UNNEEDED, same version is already published
Package 13/20HostnameOS / ArchINSTALLBUILDCHECKBUILD BIN
pRoloc 1.39.1  (landing page)
Laurent Gatto
git_last_commit: c3f181e
git_last_commit_date: 2023-01-31 08:25:34 -0400
nebbiolo1Linux (Ubuntu 22.04.1 LTS) / x86_64  OK    OK    OK  UNNEEDED, same version is already published
palomino3Windows Server 2022 Datacenter / x64  OK    OK    OK    OK  UNNEEDED, same version is already published
merida1macOS 10.14.6 Mojave / x86_64  OK    OK    OK    OK  UNNEEDED, same version is already published
Package 14/20HostnameOS / ArchINSTALLBUILDCHECKBUILD BIN
pRolocGUI 2.9.0  (landing page)
Lisa Breckels
git_last_commit: ae984fb
git_last_commit_date: 2022-11-01 11:09:55 -0400
nebbiolo1Linux (Ubuntu 22.04.1 LTS) / x86_64  OK    OK    OK  UNNEEDED, same version is already published
palomino3Windows Server 2022 Datacenter / x64  OK    OK    OK    OK  UNNEEDED, same version is already published
merida1macOS 10.14.6 Mojave / x86_64  OK    OK    OK    OK  UNNEEDED, same version is already published
Package 15/20HostnameOS / ArchINSTALLBUILDCHECKBUILD BIN
ptairMS 1.7.0  (landing page)
camille Roquencourt
git_last_commit: 3b019b8
git_last_commit_date: 2022-11-01 11:24:34 -0400
nebbiolo1Linux (Ubuntu 22.04.1 LTS) / x86_64  OK    OK    OK  UNNEEDED, same version is already published
palomino3Windows Server 2022 Datacenter / x64  OK    ERROR  skippedskipped
merida1macOS 10.14.6 Mojave / x86_64  OK    OK    OK    OK  UNNEEDED, same version is already published
Package 16/20HostnameOS / ArchINSTALLBUILDCHECKBUILD BIN
qPLEXanalyzer 1.17.1  (landing page)
Ashley Sawle
git_last_commit: 0c5ee12
git_last_commit_date: 2023-03-14 12:15:28 -0400
nebbiolo1Linux (Ubuntu 22.04.1 LTS) / x86_64  OK    OK    OK  UNNEEDED, same version is already published
palomino3Windows Server 2022 Datacenter / x64  OK    OK    OK    OK  UNNEEDED, same version is already published
merida1macOS 10.14.6 Mojave / x86_64  OK    OK    OK    OK  UNNEEDED, same version is already published
Package 17/20HostnameOS / ArchINSTALLBUILDCHECKBUILD BIN
RMassBank 3.9.0  (landing page)
RMassBank at Eawag
git_last_commit: b05aa95
git_last_commit_date: 2022-11-01 11:07:13 -0400
nebbiolo1Linux (Ubuntu 22.04.1 LTS) / x86_64  OK    OK    WARNINGS  UNNEEDED, same version is already published
palomino3Windows Server 2022 Datacenter / x64  OK    OK    WARNINGS    OK  UNNEEDED, same version is already published
merida1macOS 10.14.6 Mojave / x86_64  OK    OK    WARNINGS    OK  UNNEEDED, same version is already published
Package 18/20HostnameOS / ArchINSTALLBUILDCHECKBUILD BIN
synapter 2.23.0  (landing page)
Laurent Gatto
git_last_commit: c4dc7ee
git_last_commit_date: 2022-11-01 11:07:08 -0400
nebbiolo1Linux (Ubuntu 22.04.1 LTS) / x86_64  OK    OK    OK  UNNEEDED, same version is already published
palomino3Windows Server 2022 Datacenter / x64  OK    OK    OK    OK  UNNEEDED, same version is already published
merida1macOS 10.14.6 Mojave / x86_64  OK    OK    OK    OK  UNNEEDED, same version is already published
Package 19/20HostnameOS / ArchINSTALLBUILDCHECKBUILD BIN
topdownr 1.21.0  (landing page)
Sebastian Gibb
git_last_commit: 4298e88
git_last_commit_date: 2022-11-01 11:16:38 -0400
nebbiolo1Linux (Ubuntu 22.04.1 LTS) / x86_64  OK    OK    OK  UNNEEDED, same version is already published
palomino3Windows Server 2022 Datacenter / x64  OK    OK    OK    OK  UNNEEDED, same version is already published
merida1macOS 10.14.6 Mojave / x86_64  OK    OK    OK    OK  UNNEEDED, same version is already published
Package 20/20HostnameOS / ArchINSTALLBUILDCHECKBUILD BIN
xcms 3.21.3  (landing page)
Steffen Neumann
git_last_commit: c00b35a
git_last_commit_date: 2023-03-13 13:12:56 -0400
nebbiolo1Linux (Ubuntu 22.04.1 LTS) / x86_64  OK    OK    OK  UNNEEDED, same version is already published
palomino3Windows Server 2022 Datacenter / x64  OK    OK    OK    OK  UNNEEDED, same version is already published
merida1macOS 10.14.6 Mojave / x86_64  OK    OK    OK    OK  UNNEEDED, same version is already published