Back to Multiple platform build/check report for BioC 3.17:   simplified   long
AB[C]DEFGHIJKLMNOPQRSTUVWXYZ

This page was generated on 2023-03-18 11:05:55 -0400 (Sat, 18 Mar 2023).

HostnameOSArch (*)R versionInstalled pkgs
nebbiolo1Linux (Ubuntu 22.04.1 LTS)x86_64R Under development (unstable) (2023-03-16 r83996) -- "Unsuffered Consequences" 4282
palomino3Windows Server 2022 Datacenterx64R Under development (unstable) (2023-03-15 r83984 ucrt) -- "Unsuffered Consequences" 4279
merida1macOS 10.14.6 Mojavex86_64R Under development (unstable) (2023-03-16 r83985) -- "Unsuffered Consequences" 4145
Click on any hostname to see more info about the system (e.g. compilers)      (*) as reported by 'uname -p', except on Windows and Mac OS X

CHECK results for circRNAprofiler on merida1


To the developers/maintainers of the circRNAprofiler package:
- Please allow up to 24 hours (and sometimes 48 hours) for your latest push to git@git.bioconductor.org:packages/circRNAprofiler.git to
reflect on this report. See How and When does the builder pull? When will my changes propagate? for more information.
- Make sure to use the following settings in order to reproduce any error or warning you see on this page.

raw results

Package 342/2189HostnameOS / ArchINSTALLBUILDCHECKBUILD BIN
circRNAprofiler 1.13.7  (landing page)
Simona Aufiero
Snapshot Date: 2023-03-17 14:27:35 -0400 (Fri, 17 Mar 2023)
git_url: https://git.bioconductor.org/packages/circRNAprofiler
git_branch: master
git_last_commit: a1cfa55
git_last_commit_date: 2023-01-23 04:19:23 -0400 (Mon, 23 Jan 2023)
nebbiolo1Linux (Ubuntu 22.04.1 LTS) / x86_64  OK    OK    OK  UNNEEDED, same version is already published
palomino3Windows Server 2022 Datacenter / x64  OK    OK    OK    OK  UNNEEDED, same version is already published
merida1macOS 10.14.6 Mojave / x86_64  OK    OK    ERROR    OK  

Summary

Package: circRNAprofiler
Version: 1.13.7
Command: /Library/Frameworks/R.framework/Resources/bin/R CMD check --install=check:circRNAprofiler.install-out.txt --library=/Library/Frameworks/R.framework/Resources/library --no-vignettes --timings circRNAprofiler_1.13.7.tar.gz
StartedAt: 2023-03-17 23:20:03 -0400 (Fri, 17 Mar 2023)
EndedAt: 2023-03-17 23:57:48 -0400 (Fri, 17 Mar 2023)
EllapsedTime: 2265.4 seconds
RetCode: 1
Status:   ERROR  
CheckDir: circRNAprofiler.Rcheck
Warnings: NA

Command output

##############################################################################
##############################################################################
###
### Running command:
###
###   /Library/Frameworks/R.framework/Resources/bin/R CMD check --install=check:circRNAprofiler.install-out.txt --library=/Library/Frameworks/R.framework/Resources/library --no-vignettes --timings circRNAprofiler_1.13.7.tar.gz
###
##############################################################################
##############################################################################


* using log directory ‘/Users/biocbuild/bbs-3.17-bioc/meat/circRNAprofiler.Rcheck’
* using R Under development (unstable) (2023-03-16 r83985)
* using platform: x86_64-apple-darwin17.0 (64-bit)
* R was compiled by
    Apple clang version 12.0.0 (clang-1200.0.32.29)
    GNU Fortran (GCC) 8.2.0
* running under: macOS Mojave 10.14.6
* using session charset: UTF-8
* using option ‘--no-vignettes’
* checking for file ‘circRNAprofiler/DESCRIPTION’ ... OK
* checking extension type ... Package
* this is package ‘circRNAprofiler’ version ‘1.13.7’
* package encoding: UTF-8
* checking package namespace information ... OK
* checking package dependencies ... OK
* checking if this is a source package ... OK
* checking if there is a namespace ... OK
* checking for hidden files and directories ... OK
* checking for portable file names ... OK
* checking for sufficient/correct file permissions ... OK
* checking whether package ‘circRNAprofiler’ can be installed ... OK
* checking installed package size ... OK
* checking package directory ... OK
* checking ‘build’ directory ... OK
* checking DESCRIPTION meta-information ... OK
* checking top-level files ... OK
* checking for left-over files ... OK
* checking index information ... OK
* checking package subdirectories ... OK
* checking R files for non-ASCII characters ... OK
* checking R files for syntax errors ... OK
* checking whether the package can be loaded ... OK
* checking whether the package can be loaded with stated dependencies ... OK
* checking whether the package can be unloaded cleanly ... OK
* checking whether the namespace can be loaded with stated dependencies ... OK
* checking whether the namespace can be unloaded cleanly ... OK
* checking dependencies in R code ... OK
* checking S3 generic/method consistency ... OK
* checking replacement functions ... OK
* checking foreign function calls ... OK
* checking R code for possible problems ... NOTE
.getRBPmotifsAttract: no visible binding for global variable ‘Organism’
.getRBPmotifsAttract: no visible binding for global variable
  ‘Gene_name’
.getRBPmotifsAttract: no visible binding for global variable ‘Motif’
.getRBPmotifsMEME: no visible binding for global variable ‘path’
.matchWithKnowRBPs: no visible binding for global variable ‘motif’
.reshapeCounts: no visible binding for global variable ‘motif’
.splitRBPs: no visible binding for global variable ‘motif’
mergeMotifs: no visible binding for global variable ‘motif’
Undefined global functions or variables:
  Gene_name Motif Organism motif path
* checking Rd files ... OK
* checking Rd metadata ... OK
* checking Rd cross-references ... OK
* checking for missing documentation entries ... OK
* checking for code/documentation mismatches ... OK
* checking Rd \usage sections ... OK
* checking Rd contents ... OK
* checking for unstated dependencies in examples ... OK
* checking contents of ‘data’ directory ... OK
* checking data for non-ASCII characters ... OK
* checking data for ASCII and uncompressed saves ... OK
* checking files in ‘vignettes’ ... OK
* checking examples ... OK
Examples with CPU (user + system) or elapsed time > 5s
                    user system elapsed
liftBSJcoords     33.692  2.863  54.976
plotLenBSEs       19.947  0.139  27.145
plotLenIntrons    19.761  0.134  26.757
mergeBSJunctions  11.480  0.469  18.073
plotExPosition    10.278  0.066  14.990
plotTotExons      10.234  0.071  13.997
plotExBetweenBSEs 10.223  0.072  14.212
plotHostGenes     10.054  0.060  14.079
getDeseqRes        9.179  0.105  14.296
volcanoPlot        7.989  0.085  11.287
plotMotifs         4.151  0.070   8.199
* checking for unstated dependencies in ‘tests’ ... OK
* checking tests ...
  Running ‘testthat.R’
 ERROR
Running the tests in ‘tests/testthat.R’ failed.
Last 13 lines of output:
  ── Error ('test_getMotifs.R:193:13'): getMotifs() and mergeMotifs() generates the correct data structure
      with circRNA and BSJ seqs ──
  Error in `.getUserDBmotifs(database, species, memeIndexFilePath, reverse, 
      pathToMotifs)`: object 'rbpMotifsFromDBnew' not found
  Backtrace:
      ▆
   1. └─circRNAprofiler::getMotifs(...) at test_getMotifs.R:193:12
   2.   └─circRNAprofiler:::.filterMotifs(...)
   3.     └─circRNAprofiler:::.getUserDBmotifs(...)
   4.       └─base::rbind(motifsFromFileNew[, c(1, 2)], rbpMotifsFromDBnew)
   5.         └─base::rbind(deparse.level, ...)
  
  [ FAIL 3 | WARN 31 | SKIP 1 | PASS 216 ]
  Error: Test failures
  Execution halted
* checking for unstated dependencies in vignettes ... OK
* checking package vignettes in ‘inst/doc’ ... OK
* checking running R code from vignettes ... SKIPPED
* checking re-building of vignette outputs ... SKIPPED
* checking PDF version of manual ... OK
* DONE

Status: 1 ERROR, 1 NOTE
See
  ‘/Users/biocbuild/bbs-3.17-bioc/meat/circRNAprofiler.Rcheck/00check.log’
for details.


Installation output

circRNAprofiler.Rcheck/00install.out

##############################################################################
##############################################################################
###
### Running command:
###
###   /Library/Frameworks/R.framework/Resources/bin/R CMD INSTALL circRNAprofiler
###
##############################################################################
##############################################################################


* installing to library ‘/Library/Frameworks/R.framework/Versions/4.3/Resources/library’
* installing *source* package ‘circRNAprofiler’ ...
** using staged installation
** R
** data
** inst
** byte-compile and prepare package for lazy loading
** help
*** installing help indices
** building package indices
** installing vignettes
** testing if installed package can be loaded from temporary location
** testing if installed package can be loaded from final location
** testing if installed package keeps a record of temporary installation path
* DONE (circRNAprofiler)

Tests output

circRNAprofiler.Rcheck/tests/testthat.Rout.fail


R Under development (unstable) (2023-03-16 r83985) -- "Unsuffered Consequences"
Copyright (C) 2023 The R Foundation for Statistical Computing
Platform: x86_64-apple-darwin17.0 (64-bit)

R is free software and comes with ABSOLUTELY NO WARRANTY.
You are welcome to redistribute it under certain conditions.
Type 'license()' or 'licence()' for distribution details.

R is a collaborative project with many contributors.
Type 'contributors()' for more information and
'citation()' on how to cite R or R packages in publications.

Type 'demo()' for some demos, 'help()' for on-line help, or
'help.start()' for an HTML browser interface to help.
Type 'q()' to quit R.

> library(testthat)
> library(circRNAprofiler)
> 
> test_check("circRNAprofiler")

Analysing: Ncoa6:-:chr2:155440785:155437860
Analysing: Arhgap5:+:chr12:52516079:52542636
Analysing: Arhgap5:+:chr12:52516079:52542636
Analysing: Pwwp2a:+:chr11:43704534:43705477trying URL 'https://attract.cnic.es/attract/static/ATtRACT.zip'
downloaded 3730 bytes

URL can not be reached:  https://attract.cnic.es/attract/static/ATtRACT.zip .
ATtRACT motif can not be analyzed.trying URL 'https://attract.cnic.es/attract/static/ATtRACT.zip'
downloaded 3730 bytes

URL can not be reached:  https://attract.cnic.es/attract/static/ATtRACT.zip .
ATtRACT motif can not be analyzed.trying URL 'https://attract.cnic.es/attract/static/ATtRACT.zip'
downloaded 3730 bytes

URL can not be reached:  https://attract.cnic.es/attract/static/ATtRACT.zip .
ATtRACT motif can not be analyzed.[ FAIL 3 | WARN 31 | SKIP 1 | PASS 216 ]

══ Skipped tests ═══════════════════════════════════════════════════════════════
• empty test (1)

══ Failed tests ════════════════════════════════════════════════════════════════
── Error ('test_getMotifs.R:34:19'): getMotifs() and mergeMotifs() generate the correct data structure
    with GR seqs ──
Error in `.getUserDBmotifs(database, species, memeIndexFilePath, reverse, 
    pathToMotifs)`: object 'rbpMotifsFromDBnew' not found
Backtrace:
    ▆
 1. └─circRNAprofiler::getMotifs(...) at test_getMotifs.R:34:18
 2.   └─circRNAprofiler:::.filterMotifs(...)
 3.     └─circRNAprofiler:::.getUserDBmotifs(...)
 4.       └─base::rbind(motifsFromFileNew[, c(1, 2)], rbpMotifsFromDBnew)
 5.         └─base::rbind(deparse.level, ...)
── Error ('test_getMotifs.R:118:19'): getMotifs() generates a list with the correct
    content with GR seqs ──
Error in `.getUserDBmotifs(database, species, memeIndexFilePath, reverse, 
    pathToMotifs)`: object 'rbpMotifsFromDBnew' not found
Backtrace:
    ▆
 1. └─circRNAprofiler::getMotifs(...) at test_getMotifs.R:118:18
 2.   └─circRNAprofiler:::.filterMotifs(...)
 3.     └─circRNAprofiler:::.getUserDBmotifs(...)
 4.       └─base::rbind(motifsFromFileNew[, c(1, 2)], rbpMotifsFromDBnew)
 5.         └─base::rbind(deparse.level, ...)
── Error ('test_getMotifs.R:193:13'): getMotifs() and mergeMotifs() generates the correct data structure
    with circRNA and BSJ seqs ──
Error in `.getUserDBmotifs(database, species, memeIndexFilePath, reverse, 
    pathToMotifs)`: object 'rbpMotifsFromDBnew' not found
Backtrace:
    ▆
 1. └─circRNAprofiler::getMotifs(...) at test_getMotifs.R:193:12
 2.   └─circRNAprofiler:::.filterMotifs(...)
 3.     └─circRNAprofiler:::.getUserDBmotifs(...)
 4.       └─base::rbind(motifsFromFileNew[, c(1, 2)], rbpMotifsFromDBnew)
 5.         └─base::rbind(deparse.level, ...)

[ FAIL 3 | WARN 31 | SKIP 1 | PASS 216 ]
Error: Test failures
Execution halted

Example timings

circRNAprofiler.Rcheck/circRNAprofiler-Ex.timings

nameusersystemelapsed
ahChainFiles0.2520.0110.369
ahRepeatMasker0.0030.0020.004
annotateBSJs3.0670.0744.447
annotateRepeats3.0170.2244.808
annotateSNPsGWAS2.4100.0413.879
attractSpecies0.0020.0020.009
backSplicedJunctions1.1590.0091.783
checkProjectFolder0.0030.0010.005
filterCirc0.9900.0131.471
formatGTF0.0010.0000.005
getBackSplicedJunctions0.0010.0010.002
getCircSeqs2.3730.0433.645
getDeseqRes 9.179 0.10514.296
getDetectionTools0.0040.0000.004
getEdgerRes1.3920.0172.106
getMiRsites2.3530.0423.676
getMotifs2.4520.0524.822
getRandomBSJunctions0.5770.0110.788
getRegexPattern0.0030.0010.004
getSeqsAcrossBSJs2.2910.0413.336
getSeqsFromGRs2.3810.0393.556
gtf0.0340.0040.054
gwasTraits0.0080.0020.013
importCircExplorer20.0740.0030.109
importCircMarker0.2580.0070.370
importKnife0.0600.0020.084
importMapSplice0.1440.0020.193
importNCLscan0.0730.0030.100
importOther0.0510.0020.068
importUroborus0.0530.0020.079
initCircRNAprofiler000
iupac0.0020.0020.004
liftBSJcoords33.692 2.86354.976
memeDB0.0020.0020.005
mergeBSJunctions11.480 0.46918.073
mergeMotifs2.3710.0504.868
mergedBSJunctions0.7600.0080.974
miRspeciesCodes0.0040.0050.008
plotExBetweenBSEs10.223 0.07214.212
plotExPosition10.278 0.06614.990
plotHostGenes10.054 0.06014.079
plotLenBSEs19.947 0.13927.145
plotLenIntrons19.761 0.13426.757
plotMiR2.3600.0483.214
plotMotifs4.1510.0708.199
plotTotExons10.234 0.07113.997
rearrangeMiRres2.3690.0403.294
volcanoPlot 7.989 0.08511.287