Back to Multiple platform build/check report for BioC 3.17:   simplified   long
A[B]CDEFGHIJKLMNOPQRSTUVWXYZ

This page was generated on 2023-03-31 11:02:14 -0400 (Fri, 31 Mar 2023).

HostnameOSArch (*)R versionInstalled pkgs
nebbiolo1Linux (Ubuntu 22.04.1 LTS)x86_64R Under development (unstable) (2023-03-16 r83996) -- "Unsuffered Consequences" 4547
palomino3Windows Server 2022 Datacenterx64R Under development (unstable) (2023-03-15 r83984 ucrt) -- "Unsuffered Consequences" 4308
Click on any hostname to see more info about the system (e.g. compilers)      (*) as reported by 'uname -p', except on Windows and Mac OS X

All results for package bsseq


To the developers/maintainers of the bsseq package:
- Allow up to 24 hours (and sometimes 48 hours) for your latest push to git@git.bioconductor.org:packages/bsseq.git to reflect on this report. See Troubleshooting Build Report for more information.

- Use the following Renviron settings to reproduce errors and warnings.

Note: If "R CMD check" recently failed on the Linux builder over a missing dependency, add the missing dependency to "Suggests" in your DESCRIPTION file. See the Renviron.bioc for details.

raw results

Package 240/2195HostnameOS / ArchINSTALLBUILDCHECKBUILD BIN
bsseq 1.35.0  (landing page)
Kasper Daniel Hansen
Snapshot Date: 2023-03-30 14:00:16 -0400 (Thu, 30 Mar 2023)
git_url: https://git.bioconductor.org/packages/bsseq
git_branch: devel
git_last_commit: ed8b19c
git_last_commit_date: 2022-11-01 11:07:09 -0400 (Tue, 01 Nov 2022)
nebbiolo1Linux (Ubuntu 22.04.1 LTS) / x86_64  OK    OK    ERROR  
palomino3Windows Server 2022 Datacenter / x64  OK    OK    ERROR    OK  

Results for Bioconductor software packages that depend directly on package bsseq

QUICK STATSOS / ArchINSTALLBUILDCHECKBUILD BIN
nebbiolo1Linux (Ubuntu 22.04.1 LTS) / x86_64
0012
0012
1317
palomino3Windows Server 2022 Datacenter / x64
0012
0012
2127
0012
Package 1/12HostnameOS / ArchINSTALLBUILDCHECKBUILD BIN
biscuiteer 1.13.1  (landing page)
Jacob Morrison
git_last_commit: 2d14d1d
git_last_commit_date: 2023-02-21 14:41:27 -0400
nebbiolo1Linux (Ubuntu 22.04.1 LTS) / x86_64  OK    OK    WARNINGS  UNNEEDED, same version is already published
palomino3Windows Server 2022 Datacenter / x64  OK    OK    WARNINGS    OK  NO, package depends on 'bsseq' which is not available
Package 2/12HostnameOS / ArchINSTALLBUILDCHECKBUILD BIN
borealis 1.3.2  (landing page)
Garrett Jenkinson
git_last_commit: 1209b38
git_last_commit_date: 2022-12-30 13:23:19 -0400
nebbiolo1Linux (Ubuntu 22.04.1 LTS) / x86_64  OK    OK    OK  UNNEEDED, same version is already published
palomino3Windows Server 2022 Datacenter / x64  OK    OK    OK    OK  NO, package depends on 'bsseq' which is not available
Package 3/12HostnameOS / ArchINSTALLBUILDCHECKBUILD BIN
DMRcate 2.13.0  (landing page)
Tim Peters
git_last_commit: 1da4c5d
git_last_commit_date: 2022-11-01 11:09:16 -0400
nebbiolo1Linux (Ubuntu 22.04.1 LTS) / x86_64  OK    OK    OK  UNNEEDED, same version is already published
palomino3Windows Server 2022 Datacenter / x64  OK    OK    TIMEOUT    OK  
Package 4/12HostnameOS / ArchINSTALLBUILDCHECKBUILD BIN
dmrseq 1.19.1  (landing page)
Keegan Korthauer
git_last_commit: dc9eb07
git_last_commit_date: 2023-03-29 23:19:02 -0400
nebbiolo1Linux (Ubuntu 22.04.1 LTS) / x86_64  OK    OK    ERROR  
palomino3Windows Server 2022 Datacenter / x64  OK    OK    OK    OK  NO, package depends on 'bsseq' which is not available
Package 5/12HostnameOS / ArchINSTALLBUILDCHECKBUILD BIN
DSS 2.47.1  (landing page)
Hao Wu , Hao Feng
git_last_commit: 041111f
git_last_commit_date: 2022-12-21 10:42:22 -0400
nebbiolo1Linux (Ubuntu 22.04.1 LTS) / x86_64  OK    OK    ERROR  
palomino3Windows Server 2022 Datacenter / x64  OK    OK    WARNINGS    OK  NO, package depends on 'bsseq' which is not available
Package 6/12HostnameOS / ArchINSTALLBUILDCHECKBUILD BIN
MethCP 1.13.1  (landing page)
Boying Gong
git_last_commit: 2bc4bbb
git_last_commit_date: 2023-03-30 12:46:14 -0400
nebbiolo1Linux (Ubuntu 22.04.1 LTS) / x86_64  OK    OK    ERROR  
palomino3Windows Server 2022 Datacenter / x64  OK    OK    ERROR    OK  
Package 7/12HostnameOS / ArchINSTALLBUILDCHECKBUILD BIN
methylCC 1.13.1  (landing page)
Stephanie C. Hicks
git_last_commit: d106ccb
git_last_commit_date: 2022-11-04 21:44:20 -0400
nebbiolo1Linux (Ubuntu 22.04.1 LTS) / x86_64  OK    OK    OK  UNNEEDED, same version is already published
palomino3Windows Server 2022 Datacenter / x64  OK    OK    OK    OK  NO, package depends on 'bsseq' which is not available
Package 8/12HostnameOS / ArchINSTALLBUILDCHECKBUILD BIN
methylSig 1.11.0  (landing page)
Raymond G. Cavalcante
git_last_commit: 5d89bed
git_last_commit_date: 2022-11-01 11:21:55 -0400
nebbiolo1Linux (Ubuntu 22.04.1 LTS) / x86_64  OK    OK    OK  UNNEEDED, same version is already published
palomino3Windows Server 2022 Datacenter / x64  OK    OK    OK    OK  NO, package depends on 'bsseq' which is not available
Package 9/12HostnameOS / ArchINSTALLBUILDCHECKBUILD BIN
MIRA 1.21.0  (landing page)
John Lawson
git_last_commit: e528412
git_last_commit_date: 2022-11-01 11:16:28 -0400
nebbiolo1Linux (Ubuntu 22.04.1 LTS) / x86_64  OK    OK    OK  UNNEEDED, same version is already published
palomino3Windows Server 2022 Datacenter / x64  OK    OK    OK    OK  NO, package depends on 'bsseq' which is not available
Package 10/12HostnameOS / ArchINSTALLBUILDCHECKBUILD BIN
NanoMethViz 2.5.3  (landing page)
Shian Su
git_last_commit: e2e552b
git_last_commit_date: 2023-02-13 00:08:27 -0400
nebbiolo1Linux (Ubuntu 22.04.1 LTS) / x86_64  OK    OK    OK  UNNEEDED, same version is already published
palomino3Windows Server 2022 Datacenter / x64  OK    OK    OK    OK  NO, package depends on 'bsseq' which is not available
Package 11/12HostnameOS / ArchINSTALLBUILDCHECKBUILD BIN
scmeth 1.19.0  (landing page)
Divy Kangeyan
git_last_commit: 2196961
git_last_commit_date: 2022-11-01 11:17:10 -0400
nebbiolo1Linux (Ubuntu 22.04.1 LTS) / x86_64  OK    OK    OK  UNNEEDED, same version is already published
palomino3Windows Server 2022 Datacenter / x64  OK    OK    OK    OK  NO, package depends on 'bsseq' which is not available
Package 12/12HostnameOS / ArchINSTALLBUILDCHECKBUILD BIN
SOMNiBUS 1.7.0  (landing page)
Audrey Lema├žon
git_last_commit: 911e665
git_last_commit_date: 2023-02-21 11:57:08 -0400
nebbiolo1Linux (Ubuntu 22.04.1 LTS) / x86_64  OK    OK    TIMEOUT  
palomino3Windows Server 2022 Datacenter / x64  OK    OK    TIMEOUT    OK