Switch to simplified report

Multiple platform build/check report for BioC 3.17

This page was generated on 2023-03-21 11:07:40 -0400 (Tue, 21 Mar 2023).

Approx. Package Snapshot Date (git pull): 2023-03-20 14:00:22 -0400 (Mon, 20 Mar 2023)

HostnameOSArch (*)R versionInstalled pkgs
nebbiolo1Linux (Ubuntu 22.04.1 LTS)x86_64R Under development (unstable) (2023-03-16 r83996) -- "Unsuffered Consequences" 4305
palomino3Windows Server 2022 Datacenterx64R Under development (unstable) (2023-03-15 r83984 ucrt) -- "Unsuffered Consequences" 4287
merida1macOS 10.14.6 Mojavex86_64R Under development (unstable) (2023-03-16 r83985) -- "Unsuffered Consequences" 4286
Click on any hostname to see more info about the system (e.g. compilers)      (*) as reported by 'uname -p', except on Windows and Mac OS X

Package status is indicated by one of the following glyphs
  TIMEOUT  
INSTALL, BUILD, CHECK or BUILD BIN of package took more than 40 minutes
  ERROR  
Bad DESCRIPTION file, or INSTALL, BUILD or BUILD BIN of package failed, or CHECK produced errors
  WARNINGS  
CHECK of package produced warnings
  OK  
INSTALL, BUILD, CHECK or BUILD BIN of package went OK
  NA  
INSTALL, BUILD, CHECK or BUILD BIN result is not available because of an anomaly in the Build System
skipped
CHECK or BUILD BIN of package was skipped because the BUILD step failed
Click on any glyph in the report below to access the detailed report.
Package propagation status is indicated by one of the following LEDs
YES YES: Package was propagated because it didn't previously exist or version was bumped
NO NO: Package was not propagated because of a problem (impossible dependencies, or version lower than what is already propagated)
UNNEEDED UNNEEDED: Package was not propagated because it is already in the repository with this version. A version bump is required in order to propagate it

A crossed-out package name indicates the package is deprecated


QUICK STATSOS / ArchINSTALLBUILDCHECKBUILD BIN
nebbiolo1Linux (Ubuntu 22.04.1 LTS) / x86_64
0282160
0842104
7444071646
palomino3Windows Server 2022 Datacenter / x64
0262132
1902067
4593831621
012066
merida1macOS 10.14.6 Mojave / x86_64
0552124
91332037
24633801570
012036
A
ABCDEFGHIJKLMNOPQRSTUVWXYZ
Package 1/2189HostnameOS / ArchINSTALLBUILDCHECKBUILD BIN
a4 1.47.0  (landing page)
Laure Cougnaud
git_last_commit: 60ec666
git_last_commit_date: 2022-11-01 11:05:52 -0400
nebbiolo1Linux (Ubuntu 22.04.1 LTS) / x86_64  OK    OK    OK  UNNEEDED, same version is already published
palomino3Windows Server 2022 Datacenter / x64  OK    OK    OK    OK  UNNEEDED, same version is already published
merida1macOS 10.14.6 Mojave / x86_64  OK    OK    OK    OK  UNNEEDED, same version is already published
Package 2/2189HostnameOS / ArchINSTALLBUILDCHECKBUILD BIN
a4Base 1.47.0  (landing page)
Laure Cougnaud
git_last_commit: 06934f7
git_last_commit_date: 2022-11-01 11:05:49 -0400
nebbiolo1Linux (Ubuntu 22.04.1 LTS) / x86_64  OK    OK    OK  UNNEEDED, same version is already published
palomino3Windows Server 2022 Datacenter / x64  OK    OK    OK    OK  UNNEEDED, same version is already published
merida1macOS 10.14.6 Mojave / x86_64  OK    OK    OK    OK  UNNEEDED, same version is already published
Package 3/2189HostnameOS / ArchINSTALLBUILDCHECKBUILD BIN
a4Classif 1.47.0  (landing page)
Laure Cougnaud
git_last_commit: 0156382
git_last_commit_date: 2022-11-01 11:05:50 -0400
nebbiolo1Linux (Ubuntu 22.04.1 LTS) / x86_64  OK    OK    OK  UNNEEDED, same version is already published
palomino3Windows Server 2022 Datacenter / x64  OK    OK    OK    OK  UNNEEDED, same version is already published
merida1macOS 10.14.6 Mojave / x86_64  OK    OK    OK    OK  UNNEEDED, same version is already published
Package 4/2189HostnameOS / ArchINSTALLBUILDCHECKBUILD BIN
a4Core 1.47.0  (landing page)
Laure Cougnaud
git_last_commit: f2db066
git_last_commit_date: 2022-11-01 11:05:51 -0400
nebbiolo1Linux (Ubuntu 22.04.1 LTS) / x86_64  OK    OK    OK  UNNEEDED, same version is already published
palomino3Windows Server 2022 Datacenter / x64  OK    OK    OK    OK  UNNEEDED, same version is already published
merida1macOS 10.14.6 Mojave / x86_64  OK    OK    OK    OK  UNNEEDED, same version is already published
Package 5/2189HostnameOS / ArchINSTALLBUILDCHECKBUILD BIN
a4Preproc 1.47.0  (landing page)
Laure Cougnaud
git_last_commit: 7820196
git_last_commit_date: 2022-11-01 11:05:49 -0400
nebbiolo1Linux (Ubuntu 22.04.1 LTS) / x86_64  OK    OK    OK  UNNEEDED, same version is already published
palomino3Windows Server 2022 Datacenter / x64  OK    OK    OK    OK  UNNEEDED, same version is already published
merida1macOS 10.14.6 Mojave / x86_64  OK    OK    OK    OK  UNNEEDED, same version is already published
Package 6/2189HostnameOS / ArchINSTALLBUILDCHECKBUILD BIN
a4Reporting 1.47.0  (landing page)
Laure Cougnaud
git_last_commit: 2e55f3e
git_last_commit_date: 2022-11-01 11:05:51 -0400
nebbiolo1Linux (Ubuntu 22.04.1 LTS) / x86_64  OK    OK    OK  UNNEEDED, same version is already published
palomino3Windows Server 2022 Datacenter / x64  OK    OK    OK    OK  UNNEEDED, same version is already published
merida1macOS 10.14.6 Mojave / x86_64  OK    OK    OK    OK  UNNEEDED, same version is already published
Package 7/2189HostnameOS / ArchINSTALLBUILDCHECKBUILD BIN
ABarray 1.67.0  (landing page)
Yongming Andrew Sun
git_last_commit: 5c3fdf9
git_last_commit_date: 2022-11-01 10:41:39 -0400
nebbiolo1Linux (Ubuntu 22.04.1 LTS) / x86_64  OK    OK    OK  UNNEEDED, same version is already published
palomino3Windows Server 2022 Datacenter / x64  OK    OK    OK    OK  UNNEEDED, same version is already published
merida1macOS 10.14.6 Mojave / x86_64  OK    OK    OK    OK  UNNEEDED, same version is already published
Package 8/2189HostnameOS / ArchINSTALLBUILDCHECKBUILD BIN
abseqR 1.17.0  (landing page)
JiaHong Fong
git_last_commit: 09231d9
git_last_commit_date: 2022-11-01 11:18:49 -0400
nebbiolo1Linux (Ubuntu 22.04.1 LTS) / x86_64  OK    OK    OK  UNNEEDED, same version is already published
palomino3Windows Server 2022 Datacenter / x64  OK    OK    OK    OK  UNNEEDED, same version is already published
merida1macOS 10.14.6 Mojave / x86_64  OK    ERROR  skippedskipped
Package 9/2189HostnameOS / ArchINSTALLBUILDCHECKBUILD BIN
ABSSeq 1.53.0  (landing page)
Wentao Yang
git_last_commit: 9a53426
git_last_commit_date: 2022-11-01 11:09:27 -0400
nebbiolo1Linux (Ubuntu 22.04.1 LTS) / x86_64  OK    OK    OK  UNNEEDED, same version is already published
palomino3Windows Server 2022 Datacenter / x64  OK    OK    OK    OK  UNNEEDED, same version is already published
merida1macOS 10.14.6 Mojave / x86_64  OK    OK    OK    OK  UNNEEDED, same version is already published
Package 10/2189HostnameOS / ArchINSTALLBUILDCHECKBUILD BIN
acde 1.29.0  (landing page)
Juan Pablo Acosta
git_last_commit: 85063e2
git_last_commit_date: 2022-11-01 11:11:44 -0400
nebbiolo1Linux (Ubuntu 22.04.1 LTS) / x86_64  OK    OK    OK  UNNEEDED, same version is already published
palomino3Windows Server 2022 Datacenter / x64  OK    OK    OK    OK  UNNEEDED, same version is already published
merida1macOS 10.14.6 Mojave / x86_64  OK    OK    OK    OK  UNNEEDED, same version is already published
Package 11/2189HostnameOS / ArchINSTALLBUILDCHECKBUILD BIN
ACE 1.17.0  (landing page)
Jos B Poell
git_last_commit: b290d38
git_last_commit_date: 2022-11-01 11:18:08 -0400
nebbiolo1Linux (Ubuntu 22.04.1 LTS) / x86_64  OK    OK    OK  UNNEEDED, same version is already published
palomino3Windows Server 2022 Datacenter / x64  OK    OK    OK    OK  UNNEEDED, same version is already published
merida1macOS 10.14.6 Mojave / x86_64  OK    OK    OK    OK  UNNEEDED, same version is already published
Package 12/2189HostnameOS / ArchINSTALLBUILDCHECKBUILD BIN
aCGH 1.77.0  (landing page)
Peter Dimitrov
git_last_commit: 0507fcb
git_last_commit_date: 2022-11-01 10:37:29 -0400
nebbiolo1Linux (Ubuntu 22.04.1 LTS) / x86_64  OK    OK    OK  UNNEEDED, same version is already published
palomino3Windows Server 2022 Datacenter / x64  OK    OK    OK    OK  UNNEEDED, same version is already published
merida1macOS 10.14.6 Mojave / x86_64  OK    OK    OK    OK  UNNEEDED, same version is already published
Package 13/2189HostnameOS / ArchINSTALLBUILDCHECKBUILD BIN
ACME 2.55.0  (landing page)
Sean Davis
git_last_commit: ad84f63
git_last_commit_date: 2022-11-01 11:03:24 -0400
nebbiolo1Linux (Ubuntu 22.04.1 LTS) / x86_64  OK    OK    WARNINGS  UNNEEDED, same version is already published
palomino3Windows Server 2022 Datacenter / x64  OK    OK    WARNINGS    OK  UNNEEDED, same version is already published
merida1macOS 10.14.6 Mojave / x86_64  OK    OK    OK    OK  UNNEEDED, same version is already published
Package 14/2189HostnameOS / ArchINSTALLBUILDCHECKBUILD BIN
ADaCGH2 2.39.0  (landing page)
Ramon Diaz-Uriarte
git_last_commit: bedb582
git_last_commit_date: 2022-11-01 11:05:24 -0400
nebbiolo1Linux (Ubuntu 22.04.1 LTS) / x86_64  OK    OK    OK  UNNEEDED, same version is already published
palomino3Windows Server 2022 Datacenter / x64  OK    OK    OK    OK  UNNEEDED, same version is already published
merida1macOS 10.14.6 Mojave / x86_64  OK    OK    OK    OK  UNNEEDED, same version is already published
Package 15/2189HostnameOS / ArchINSTALLBUILDCHECKBUILD BIN
ADAM 1.15.0  (landing page)
Jose Luiz Rybarczyk Filho
git_last_commit: aa13630
git_last_commit_date: 2022-11-01 11:18:54 -0400
nebbiolo1Linux (Ubuntu 22.04.1 LTS) / x86_64  OK    OK    OK  UNNEEDED, same version is already published
palomino3Windows Server 2022 Datacenter / x64  OK    OK    OK    OK  UNNEEDED, same version is already published
merida1macOS 10.14.6 Mojave / x86_64  OK    OK    OK    OK  UNNEEDED, same version is already published
Package 16/2189HostnameOS / ArchINSTALLBUILDCHECKBUILD BIN
ADAMgui 1.15.0  (landing page)
Jose Luiz Rybarczyk Filho
git_last_commit: b98ba73
git_last_commit_date: 2022-11-01 11:19:43 -0400
nebbiolo1Linux (Ubuntu 22.04.1 LTS) / x86_64  OK    OK    OK  UNNEEDED, same version is already published
palomino3Windows Server 2022 Datacenter / x64  OK    OK    OK    OK  UNNEEDED, same version is already published
merida1macOS 10.14.6 Mojave / x86_64  OK    OK    OK    OK  UNNEEDED, same version is already published
Package 17/2189HostnameOS / ArchINSTALLBUILDCHECKBUILD BIN
adductomicsR 1.15.0  (landing page)
Josie Hayes
git_last_commit: 59528e1
git_last_commit_date: 2022-11-01 11:19:09 -0400
nebbiolo1Linux (Ubuntu 22.04.1 LTS) / x86_64  OK    OK    WARNINGS  UNNEEDED, same version is already published
palomino3Windows Server 2022 Datacenter / x64  OK    OK    WARNINGS    OK  UNNEEDED, same version is already published
merida1macOS 10.14.6 Mojave / x86_64  OK    OK    WARNINGS    OK  UNNEEDED, same version is already published
Package 18/2189HostnameOS / ArchINSTALLBUILDCHECKBUILD BIN
ADImpute 1.9.0  (landing page)
Ana Carolina Leote
git_last_commit: 3cde034
git_last_commit_date: 2022-11-01 11:23:18 -0400
nebbiolo1Linux (Ubuntu 22.04.1 LTS) / x86_64  OK    OK    WARNINGS  UNNEEDED, same version is already published
palomino3Windows Server 2022 Datacenter / x64  OK    OK    WARNINGS    OK  UNNEEDED, same version is already published
merida1macOS 10.14.6 Mojave / x86_64  OK    OK    WARNINGS    OK  UNNEEDED, same version is already published
Package 19/2189HostnameOS / ArchINSTALLBUILDCHECKBUILD BIN
adSplit 1.69.0  (landing page)
Claudio Lottaz
git_last_commit: 91b7b9d
git_last_commit_date: 2022-11-01 10:40:46 -0400
nebbiolo1Linux (Ubuntu 22.04.1 LTS) / x86_64  OK    OK    OK  UNNEEDED, same version is already published
palomino3Windows Server 2022 Datacenter / x64  OK    OK    OK    OK  UNNEEDED, same version is already published
merida1macOS 10.14.6 Mojave / x86_64  OK    OK    OK    OK  UNNEEDED, same version is already published
Package 20/2189HostnameOS / ArchINSTALLBUILDCHECKBUILD BIN
AffiXcan 1.17.0  (landing page)
Alessandro Lussana
git_last_commit: bfa4a10
git_last_commit_date: 2022-11-01 11:18:34 -0400
nebbiolo1Linux (Ubuntu 22.04.1 LTS) / x86_64  OK    OK    OK  UNNEEDED, same version is already published
palomino3Windows Server 2022 Datacenter / x64  OK    OK    OK    OK  UNNEEDED, same version is already published
merida1macOS 10.14.6 Mojave / x86_64  OK    OK    OK    OK  UNNEEDED, same version is already published
Package 21/2189HostnameOS / ArchINSTALLBUILDCHECKBUILD BIN
affxparser 1.71.0  (landing page)
Kasper Daniel Hansen
git_last_commit: b492174
git_last_commit_date: 2022-11-01 10:39:52 -0400
nebbiolo1Linux (Ubuntu 22.04.1 LTS) / x86_64  OK    OK    WARNINGS  UNNEEDED, same version is already published
palomino3Windows Server 2022 Datacenter / x64  ERROR    OK    ERROR    ERROR  
merida1macOS 10.14.6 Mojave / x86_64  OK    OK    WARNINGS    OK  UNNEEDED, same version is already published
Package 22/2189HostnameOS / ArchINSTALLBUILDCHECKBUILD BIN
affy 1.77.0  (landing page)
Rafael A. Irizarry
git_last_commit: b3ddc54
git_last_commit_date: 2022-11-01 10:35:21 -0400
nebbiolo1Linux (Ubuntu 22.04.1 LTS) / x86_64  OK    OK    WARNINGS  UNNEEDED, same version is already published
palomino3Windows Server 2022 Datacenter / x64  OK    OK    WARNINGS    OK  UNNEEDED, same version is already published
merida1macOS 10.14.6 Mojave / x86_64  OK    OK    WARNINGS    OK  UNNEEDED, same version is already published
Package 23/2189HostnameOS / ArchINSTALLBUILDCHECKBUILD BIN
affycomp 1.75.0  (landing page)
Rafael A. Irizarry
git_last_commit: 2efcddb
git_last_commit_date: 2022-11-01 10:35:39 -0400
nebbiolo1Linux (Ubuntu 22.04.1 LTS) / x86_64  OK    OK    OK  UNNEEDED, same version is already published
palomino3Windows Server 2022 Datacenter / x64  OK    OK    OK    OK  UNNEEDED, same version is already published
merida1macOS 10.14.6 Mojave / x86_64  OK    OK    OK    OK  UNNEEDED, same version is already published
Package 24/2189HostnameOS / ArchINSTALLBUILDCHECKBUILD BIN
affyContam 1.57.0  (landing page)
V. Carey
git_last_commit: 61b14f0
git_last_commit_date: 2022-11-01 11:04:10 -0400
nebbiolo1Linux (Ubuntu 22.04.1 LTS) / x86_64  OK    OK    OK  UNNEEDED, same version is already published
palomino3Windows Server 2022 Datacenter / x64  OK    OK    OK    OK  UNNEEDED, same version is already published
merida1macOS 10.14.6 Mojave / x86_64  OK    OK    OK    OK  UNNEEDED, same version is already published
Package 25/2189HostnameOS / ArchINSTALLBUILDCHECKBUILD BIN
affycoretools 1.71.1  (landing page)
James W. MacDonald
git_last_commit: 972020d
git_last_commit_date: 2023-02-21 09:50:40 -0400
nebbiolo1Linux (Ubuntu 22.04.1 LTS) / x86_64  OK    OK    OK  UNNEEDED, same version is already published
palomino3Windows Server 2022 Datacenter / x64  OK    OK    OK    OK  UNNEEDED, same version is already published
merida1macOS 10.14.6 Mojave / x86_64  OK    OK    OK    OK  UNNEEDED, same version is already published
Package 26/2189HostnameOS / ArchINSTALLBUILDCHECKBUILD BIN
affyILM 1.51.0  (landing page)
Myriam Kroll and Fabrice Berger
git_last_commit: f189a0c
git_last_commit_date: 2022-11-01 11:05:06 -0400
nebbiolo1Linux (Ubuntu 22.04.1 LTS) / x86_64  OK    OK    OK  UNNEEDED, same version is already published
palomino3Windows Server 2022 Datacenter / x64  OK    OK    OK    OK  UNNEEDED, same version is already published
merida1macOS 10.14.6 Mojave / x86_64  OK    OK    OK    OK  UNNEEDED, same version is already published
Package 27/2189HostnameOS / ArchINSTALLBUILDCHECKBUILD BIN
affyio 1.69.0  (landing page)
Ben Bolstad
git_last_commit: fbee11e
git_last_commit_date: 2022-11-01 10:35:15 -0400
nebbiolo1Linux (Ubuntu 22.04.1 LTS) / x86_64  OK    OK    WARNINGS  UNNEEDED, same version is already published
palomino3Windows Server 2022 Datacenter / x64  OK    OK    WARNINGS    OK  UNNEEDED, same version is already published
merida1macOS 10.14.6 Mojave / x86_64  OK    OK    WARNINGS    OK  UNNEEDED, same version is already published
Package 28/2189HostnameOS / ArchINSTALLBUILDCHECKBUILD BIN
affylmGUI 1.73.0  (landing page)
Gordon Smyth
git_last_commit: 5fbfea1
git_last_commit_date: 2022-11-01 10:37:05 -0400
nebbiolo1Linux (Ubuntu 22.04.1 LTS) / x86_64  OK    OK    OK  UNNEEDED, same version is already published
palomino3Windows Server 2022 Datacenter / x64  OK    OK    OK    OK  UNNEEDED, same version is already published
merida1macOS 10.14.6 Mojave / x86_64  OK    OK    OK    OK  UNNEEDED, same version is already published
Package 29/2189HostnameOS / ArchINSTALLBUILDCHECKBUILD BIN
affyPLM 1.75.1  (landing page)
Ben Bolstad
git_last_commit: c6baedf
git_last_commit_date: 2023-01-19 18:55:17 -0400
nebbiolo1Linux (Ubuntu 22.04.1 LTS) / x86_64  OK    OK    WARNINGS  UNNEEDED, same version is already published
palomino3Windows Server 2022 Datacenter / x64  OK    OK    WARNINGS    OK  UNNEEDED, same version is already published
merida1macOS 10.14.6 Mojave / x86_64  OK    OK    OK    OK  UNNEEDED, same version is already published
Package 30/2189HostnameOS / ArchINSTALLBUILDCHECKBUILD BIN
AffyRNADegradation 1.45.0  (landing page)
Mario Fasold
git_last_commit: d46a4b1
git_last_commit_date: 2022-11-01 11:06:35 -0400
nebbiolo1Linux (Ubuntu 22.04.1 LTS) / x86_64  OK    OK    OK  UNNEEDED, same version is already published
palomino3Windows Server 2022 Datacenter / x64  OK    OK    OK    OK  UNNEEDED, same version is already published
merida1macOS 10.14.6 Mojave / x86_64  OK    OK    OK    OK  UNNEEDED, same version is already published
Package 31/2189HostnameOS / ArchINSTALLBUILDCHECKBUILD BIN
AGDEX 1.47.0  (landing page)
Cuilan lani Gao
git_last_commit: e9f212e
git_last_commit_date: 2022-11-01 11:06:18 -0400
nebbiolo1Linux (Ubuntu 22.04.1 LTS) / x86_64  OK    OK    OK  UNNEEDED, same version is already published
palomino3Windows Server 2022 Datacenter / x64  OK    OK    OK    OK  UNNEEDED, same version is already published
merida1macOS 10.14.6 Mojave / x86_64  OK    OK    OK    OK  UNNEEDED, same version is already published
Package 32/2189HostnameOS / ArchINSTALLBUILDCHECKBUILD BIN
aggregateBioVar 1.9.0  (landing page)
Jason Ratcliff
git_last_commit: 2f91b10
git_last_commit_date: 2022-11-01 11:22:58 -0400
nebbiolo1Linux (Ubuntu 22.04.1 LTS) / x86_64  OK    OK    OK  UNNEEDED, same version is already published
palomino3Windows Server 2022 Datacenter / x64  OK    OK    OK    OK  UNNEEDED, same version is already published
merida1macOS 10.14.6 Mojave / x86_64  OK    OK    OK    OK  UNNEEDED, same version is already published
Package 33/2189HostnameOS / ArchINSTALLBUILDCHECKBUILD BIN
agilp 3.31.0  (landing page)
Benny Chain
git_last_commit: f4705dd
git_last_commit_date: 2022-11-01 11:07:27 -0400
nebbiolo1Linux (Ubuntu 22.04.1 LTS) / x86_64  OK    OK    OK  UNNEEDED, same version is already published
palomino3Windows Server 2022 Datacenter / x64  OK    OK    OK    OK  UNNEEDED, same version is already published
merida1macOS 10.14.6 Mojave / x86_64  OK    OK    OK    OK  UNNEEDED, same version is already published
Package 34/2189HostnameOS / ArchINSTALLBUILDCHECKBUILD BIN
AgiMicroRna 2.49.0  (landing page)
Pedro Lopez-Romero
git_last_commit: 15ecb03
git_last_commit_date: 2022-11-01 11:04:37 -0400
nebbiolo1Linux (Ubuntu 22.04.1 LTS) / x86_64  OK    OK    WARNINGS  UNNEEDED, same version is already published
palomino3Windows Server 2022 Datacenter / x64  OK    OK    WARNINGS    OK  UNNEEDED, same version is already published
merida1macOS 10.14.6 Mojave / x86_64  OK    OK    WARNINGS    OK  UNNEEDED, same version is already published
Package 35/2189HostnameOS / ArchINSTALLBUILDCHECKBUILD BIN
AIMS 1.31.0  (landing page)
Eric R Paquet
git_last_commit: c9c10e9
git_last_commit_date: 2022-11-01 11:10:48 -0400
nebbiolo1Linux (Ubuntu 22.04.1 LTS) / x86_64  OK    OK    OK  UNNEEDED, same version is already published
palomino3Windows Server 2022 Datacenter / x64  OK    OK    OK    OK  UNNEEDED, same version is already published
merida1macOS 10.14.6 Mojave / x86_64  OK    OK    OK    OK  UNNEEDED, same version is already published
Package 36/2189HostnameOS / ArchINSTALLBUILDCHECKBUILD BIN
airpart 1.7.1  (landing page)
Wancen Mu
git_last_commit: a1a7443
git_last_commit_date: 2023-03-08 14:25:43 -0400
nebbiolo1Linux (Ubuntu 22.04.1 LTS) / x86_64  OK    OK    OK  UNNEEDED, same version is already published
palomino3Windows Server 2022 Datacenter / x64  OK    OK    OK    OK  UNNEEDED, same version is already published
merida1macOS 10.14.6 Mojave / x86_64  OK    OK    OK    OK  UNNEEDED, same version is already published
Package 37/2189HostnameOS / ArchINSTALLBUILDCHECKBUILD BIN
alabaster 0.99.0  (landing page)
Aaron Lun
git_last_commit: 9fd6f70
git_last_commit_date: 2023-01-19 11:43:03 -0400
nebbiolo1Linux (Ubuntu 22.04.1 LTS) / x86_64  OK    OK    OK  UNNEEDED, same version is already published
palomino3Windows Server 2022 Datacenter / x64  OK    OK    OK    OK  NO, package depends on 'alabaster.base' which is not available
merida1macOS 10.14.6 Mojave / x86_64  OK    OK    OK    OK  UNNEEDED, same version is already published
Package 38/2189HostnameOS / ArchINSTALLBUILDCHECKBUILD BIN
alabaster.base 0.99.5  (landing page)
Aaron Lun
git_last_commit: ac51a01
git_last_commit_date: 2023-03-05 01:05:35 -0400
nebbiolo1Linux (Ubuntu 22.04.1 LTS) / x86_64  OK    OK    WARNINGS  UNNEEDED, same version is already published
palomino3Windows Server 2022 Datacenter / x64  OK    OK    ERROR    OK  
merida1macOS 10.14.6 Mojave / x86_64  OK    OK    WARNINGS    OK  UNNEEDED, same version is already published
Package 39/2189HostnameOS / ArchINSTALLBUILDCHECKBUILD BIN
alabaster.bumpy 0.99.1  (landing page)
Aaron Lun
git_last_commit: 0964853
git_last_commit_date: 2023-02-28 14:23:31 -0400
nebbiolo1Linux (Ubuntu 22.04.1 LTS) / x86_64  OK    OK    OK  UNNEEDED, same version is already published
palomino3Windows Server 2022 Datacenter / x64  OK    OK    OK    OK  NO, package depends on 'alabaster.base' which is not available
merida1macOS 10.14.6 Mojave / x86_64  OK    OK    OK    OK  UNNEEDED, same version is already published
Package 40/2189HostnameOS / ArchINSTALLBUILDCHECKBUILD BIN
alabaster.mae 0.99.1  (landing page)
Aaron Lun
git_last_commit: 46a508e
git_last_commit_date: 2023-02-21 00:57:40 -0400
nebbiolo1Linux (Ubuntu 22.04.1 LTS) / x86_64  OK    OK    OK  UNNEEDED, same version is already published
palomino3Windows Server 2022 Datacenter / x64  OK    OK    OK    OK  NO, package depends on 'alabaster.base' which is not available
merida1macOS 10.14.6 Mojave / x86_64  OK    OK    OK    OK  UNNEEDED, same version is already published
Package 41/2189HostnameOS / ArchINSTALLBUILDCHECKBUILD BIN
alabaster.matrix 0.99.1  (landing page)
Aaron Lun
git_last_commit: e77077a
git_last_commit_date: 2023-02-16 17:18:00 -0400
nebbiolo1Linux (Ubuntu 22.04.1 LTS) / x86_64  OK    OK    OK  UNNEEDED, same version is already published
palomino3Windows Server 2022 Datacenter / x64  OK    OK    OK    OK  NO, package depends on 'alabaster.base' which is not available
merida1macOS 10.14.6 Mojave / x86_64  OK    OK    OK    OK  UNNEEDED, same version is already published
Package 42/2189HostnameOS / ArchINSTALLBUILDCHECKBUILD BIN
alabaster.ranges 0.99.2  (landing page)
Aaron Lun
git_last_commit: 7ea70ba
git_last_commit_date: 2023-02-28 14:10:53 -0400
nebbiolo1Linux (Ubuntu 22.04.1 LTS) / x86_64  OK    OK    OK  UNNEEDED, same version is already published
palomino3Windows Server 2022 Datacenter / x64  OK    OK    OK    OK  NO, package depends on 'alabaster.base' which is not available
merida1macOS 10.14.6 Mojave / x86_64  OK    OK    OK    OK  UNNEEDED, same version is already published
Package 43/2189HostnameOS / ArchINSTALLBUILDCHECKBUILD BIN
alabaster.sce 0.99.1  (landing page)
Aaron Lun
git_last_commit: 57bbac9
git_last_commit_date: 2023-02-21 00:48:03 -0400
nebbiolo1Linux (Ubuntu 22.04.1 LTS) / x86_64  OK    OK    OK  UNNEEDED, same version is already published
palomino3Windows Server 2022 Datacenter / x64  OK    OK    OK    OK  NO, package depends on 'alabaster.base' which is not available
merida1macOS 10.14.6 Mojave / x86_64  OK    OK    OK    OK  UNNEEDED, same version is already published
Package 44/2189HostnameOS / ArchINSTALLBUILDCHECKBUILD BIN
alabaster.schemas 0.99.1  (landing page)
Aaron Lun
git_last_commit: 31d772e
git_last_commit_date: 2023-02-21 00:58:52 -0400
nebbiolo1Linux (Ubuntu 22.04.1 LTS) / x86_64  OK    OK    OK  UNNEEDED, same version is already published
palomino3Windows Server 2022 Datacenter / x64  OK    OK    OK    OK  UNNEEDED, same version is already published
merida1macOS 10.14.6 Mojave / x86_64  OK    OK    OK    OK  UNNEEDED, same version is already published
Package 45/2189HostnameOS / ArchINSTALLBUILDCHECKBUILD BIN
alabaster.se 0.99.1  (landing page)
Aaron Lun
git_last_commit: fc95188
git_last_commit_date: 2023-02-21 00:36:36 -0400
nebbiolo1Linux (Ubuntu 22.04.1 LTS) / x86_64  OK    OK    OK  UNNEEDED, same version is already published
palomino3Windows Server 2022 Datacenter / x64  OK    OK    OK    OK  NO, package depends on 'alabaster.base' which is not available
merida1macOS 10.14.6 Mojave / x86_64  OK    OK    OK    OK  UNNEEDED, same version is already published
Package 46/2189HostnameOS / ArchINSTALLBUILDCHECKBUILD BIN
alabaster.spatial 0.99.2  (landing page)
Aaron Lun
git_last_commit: b29eee9
git_last_commit_date: 2023-02-28 17:49:21 -0400
nebbiolo1Linux (Ubuntu 22.04.1 LTS) / x86_64  OK    OK    OK  UNNEEDED, same version is already published
palomino3Windows Server 2022 Datacenter / x64  OK    OK    OK    OK  NO, package depends on 'alabaster.base' which is not available
merida1macOS 10.14.6 Mojave / x86_64  OK    OK    OK    OK  UNNEEDED, same version is already published
Package 47/2189HostnameOS / ArchINSTALLBUILDCHECKBUILD BIN
alabaster.string 0.99.2  (landing page)
Aaron Lun
git_last_commit: 5a86f5a
git_last_commit_date: 2023-02-28 13:28:55 -0400
nebbiolo1Linux (Ubuntu 22.04.1 LTS) / x86_64  OK    OK    OK  UNNEEDED, same version is already published
palomino3Windows Server 2022 Datacenter / x64  OK    OK    OK    OK  NO, package depends on 'alabaster.base' which is not available
merida1macOS 10.14.6 Mojave / x86_64  OK    OK    OK    OK  UNNEEDED, same version is already published
Package 48/2189HostnameOS / ArchINSTALLBUILDCHECKBUILD BIN
alabaster.vcf 0.99.1  (landing page)
Aaron Lun
git_last_commit: f4fc025
git_last_commit_date: 2023-02-28 15:06:53 -0400
nebbiolo1Linux (Ubuntu 22.04.1 LTS) / x86_64  OK    OK    OK  UNNEEDED, same version is already published
palomino3Windows Server 2022 Datacenter / x64  OK    OK    OK    OK  NO, package depends on 'alabaster.base' which is not available
merida1macOS 10.14.6 Mojave / x86_64  OK    OK    OK    OK  UNNEEDED, same version is already published
Package 49/2189HostnameOS / ArchINSTALLBUILDCHECKBUILD BIN
ALDEx2 1.31.0  (landing page)
Greg Gloor
git_last_commit: eba0542
git_last_commit_date: 2022-11-01 11:10:23 -0400
nebbiolo1Linux (Ubuntu 22.04.1 LTS) / x86_64  OK    OK    WARNINGS  UNNEEDED, same version is already published
palomino3Windows Server 2022 Datacenter / x64  OK    OK    WARNINGS    OK  UNNEEDED, same version is already published
merida1macOS 10.14.6 Mojave / x86_64  OK    OK    WARNINGS    OK  UNNEEDED, same version is already published
Package 50/2189HostnameOS / ArchINSTALLBUILDCHECKBUILD BIN
alevinQC 1.15.1  (landing page)
Charlotte Soneson
git_last_commit: 05e3f3e
git_last_commit_date: 2022-11-04 11:06:07 -0400
nebbiolo1Linux (Ubuntu 22.04.1 LTS) / x86_64  OK    OK    OK  UNNEEDED, same version is already published
palomino3Windows Server 2022 Datacenter / x64  OK    OK    OK    OK  UNNEEDED, same version is already published
merida1macOS 10.14.6 Mojave / x86_64  OK    OK    OK    OK  UNNEEDED, same version is already published
Package 51/2189HostnameOS / ArchINSTALLBUILDCHECKBUILD BIN
AllelicImbalance 1.37.0  (landing page)
Jesper R Gadin
git_last_commit: 330d8ed
git_last_commit_date: 2022-11-01 11:08:46 -0400
nebbiolo1Linux (Ubuntu 22.04.1 LTS) / x86_64  OK    OK    OK  UNNEEDED, same version is already published
palomino3Windows Server 2022 Datacenter / x64  OK    OK    OK    OK  UNNEEDED, same version is already published
merida1macOS 10.14.6 Mojave / x86_64  OK    OK    OK    OK  UNNEEDED, same version is already published
Package 52/2189HostnameOS / ArchINSTALLBUILDCHECKBUILD BIN
AlphaBeta 1.13.0  (landing page)
Yadollah Shahryary Dizaji
git_last_commit: fb92321
git_last_commit_date: 2022-11-01 11:20:18 -0400
nebbiolo1Linux (Ubuntu 22.04.1 LTS) / x86_64  OK    OK    OK  UNNEEDED, same version is already published
palomino3Windows Server 2022 Datacenter / x64  OK    OK    OK    OK  UNNEEDED, same version is already published
merida1macOS 10.14.6 Mojave / x86_64  OK    OK    OK    OK  UNNEEDED, same version is already published
Package 53/2189HostnameOS / ArchINSTALLBUILDCHECKBUILD BIN
alpine 1.25.0  (landing page)
Michael Love
git_last_commit: 609ae1e
git_last_commit_date: 2022-11-01 11:14:18 -0400
nebbiolo1Linux (Ubuntu 22.04.1 LTS) / x86_64  OK    OK    OK  UNNEEDED, same version is already published
palomino3Windows Server 2022 Datacenter / x64  OK    OK    OK    OK  UNNEEDED, same version is already published
merida1macOS 10.14.6 Mojave / x86_64  OK    OK    OK    OK  UNNEEDED, same version is already published
Package 54/2189HostnameOS / ArchINSTALLBUILDCHECKBUILD BIN
AlpsNMR 4.1.6  (landing page)
Sergio Oller Moreno
git_last_commit: 989a653
git_last_commit_date: 2023-02-16 04:29:52 -0400
nebbiolo1Linux (Ubuntu 22.04.1 LTS) / x86_64  OK    OK    OK  UNNEEDED, same version is already published
palomino3Windows Server 2022 Datacenter / x64  OK    OK    OK    OK  UNNEEDED, same version is already published
merida1macOS 10.14.6 Mojave / x86_64  OK    OK    OK    OK  UNNEEDED, same version is already published
Package 55/2189HostnameOS / ArchINSTALLBUILDCHECKBUILD BIN
altcdfenvs 2.61.0  (landing page)
Laurent Gautier
git_last_commit: 657dd6a
git_last_commit_date: 2022-11-01 10:36:55 -0400
nebbiolo1Linux (Ubuntu 22.04.1 LTS) / x86_64  OK    OK    OK  UNNEEDED, same version is already published
palomino3Windows Server 2022 Datacenter / x64  OK    OK    OK    OK  UNNEEDED, same version is already published
merida1macOS 10.14.6 Mojave / x86_64  OK    OK    OK    OK  UNNEEDED, same version is already published
Package 56/2189HostnameOS / ArchINSTALLBUILDCHECKBUILD BIN
AMARETTO 1.15.2  (landing page)
Olivier Gevaert
git_last_commit: 197d44c
git_last_commit_date: 2023-01-15 12:26:18 -0400
nebbiolo1Linux (Ubuntu 22.04.1 LTS) / x86_64  OK    OK    WARNINGS  UNNEEDED, same version is already published
palomino3Windows Server 2022 Datacenter / x64  OK    OK    WARNINGS    OK  UNNEEDED, same version is already published
merida1macOS 10.14.6 Mojave / x86_64  OK    OK    WARNINGS    OK  UNNEEDED, same version is already published
Package 57/2189HostnameOS / ArchINSTALLBUILDCHECKBUILD BIN
AMOUNTAIN 1.25.0  (landing page)
Dong Li
git_last_commit: cda6220
git_last_commit_date: 2022-11-01 11:14:02 -0400
nebbiolo1Linux (Ubuntu 22.04.1 LTS) / x86_64  OK    OK    OK  UNNEEDED, same version is already published
palomino3Windows Server 2022 Datacenter / x64  OK    OK    OK    OK  UNNEEDED, same version is already published
merida1macOS 10.14.6 Mojave / x86_64  OK    OK    OK    OK  UNNEEDED, same version is already published
Package 58/2189HostnameOS / ArchINSTALLBUILDCHECKBUILD BIN
amplican 1.21.0  (landing page)
Eivind Valen
git_last_commit: 5b04ab5
git_last_commit_date: 2022-11-01 11:16:19 -0400
nebbiolo1Linux (Ubuntu 22.04.1 LTS) / x86_64  ERROR    ERROR  skipped
palomino3Windows Server 2022 Datacenter / x64  ERROR    ERROR  skippedskipped
merida1macOS 10.14.6 Mojave / x86_64  ERROR    ERROR  skippedskipped
Package 59/2189HostnameOS / ArchINSTALLBUILDCHECKBUILD BIN
Anaquin 2.23.0  (landing page)
Ted Wong
git_last_commit: fae1a83
git_last_commit_date: 2022-11-01 11:14:18 -0400
nebbiolo1Linux (Ubuntu 22.04.1 LTS) / x86_64  OK    OK    OK  UNNEEDED, same version is already published
palomino3Windows Server 2022 Datacenter / x64  OK    OK    OK    OK  UNNEEDED, same version is already published
merida1macOS 10.14.6 Mojave / x86_64  OK    OK    OK    OK  UNNEEDED, same version is already published
Package 60/2189HostnameOS / ArchINSTALLBUILDCHECKBUILD BIN
ANCOMBC 2.1.2  (landing page)
Huang Lin
git_last_commit: 57657ff
git_last_commit_date: 2022-12-17 17:21:12 -0400
nebbiolo1Linux (Ubuntu 22.04.1 LTS) / x86_64  OK    OK    OK  UNNEEDED, same version is already published
palomino3Windows Server 2022 Datacenter / x64  OK    OK    OK    OK  UNNEEDED, same version is already published
merida1macOS 10.14.6 Mojave / x86_64  OK    TIMEOUT  skippedskipped
Package 61/2189HostnameOS / ArchINSTALLBUILDCHECKBUILD BIN
AneuFinder 1.27.0  (landing page)
Aaron Taudt
git_last_commit: 340387c
git_last_commit_date: 2022-11-01 11:13:19 -0400
nebbiolo1Linux (Ubuntu 22.04.1 LTS) / x86_64  ERROR    ERROR  skipped
palomino3Windows Server 2022 Datacenter / x64  ERROR    ERROR  skippedskipped
merida1macOS 10.14.6 Mojave / x86_64  ERROR    ERROR  skippedskipped
Package 62/2189HostnameOS / ArchINSTALLBUILDCHECKBUILD BIN
ANF 1.21.0  (landing page)
Tianle Ma
git_last_commit: c6ce44c
git_last_commit_date: 2022-11-01 11:16:30 -0400
nebbiolo1Linux (Ubuntu 22.04.1 LTS) / x86_64  OK    OK    OK  UNNEEDED, same version is already published
palomino3Windows Server 2022 Datacenter / x64  OK    OK    OK    OK  UNNEEDED, same version is already published
merida1macOS 10.14.6 Mojave / x86_64  OK    OK    OK    OK  UNNEEDED, same version is already published
Package 63/2189HostnameOS / ArchINSTALLBUILDCHECKBUILD BIN
animalcules 1.15.0  (landing page)
Yue Zhao
git_last_commit: 16e712c
git_last_commit_date: 2022-11-01 11:19:53 -0400
nebbiolo1Linux (Ubuntu 22.04.1 LTS) / x86_64  OK    OK    WARNINGS  UNNEEDED, same version is already published
palomino3Windows Server 2022 Datacenter / x64  OK    OK    WARNINGS    OK  UNNEEDED, same version is already published
merida1macOS 10.14.6 Mojave / x86_64  OK    OK    WARNINGS    OK  UNNEEDED, same version is already published
Package 64/2189HostnameOS / ArchINSTALLBUILDCHECKBUILD BIN
annaffy 1.71.0  (landing page)
Colin A. Smith
git_last_commit: 02defd3
git_last_commit_date: 2022-11-01 10:35:52 -0400
nebbiolo1Linux (Ubuntu 22.04.1 LTS) / x86_64  OK    OK    WARNINGS  UNNEEDED, same version is already published
palomino3Windows Server 2022 Datacenter / x64  OK    OK    WARNINGS    OK  UNNEEDED, same version is already published
merida1macOS 10.14.6 Mojave / x86_64  OK    OK    WARNINGS    OK  UNNEEDED, same version is already published
Package 65/2189HostnameOS / ArchINSTALLBUILDCHECKBUILD BIN
annmap 1.41.0  (landing page)
Chris Wirth
git_last_commit: 5d59609
git_last_commit_date: 2022-11-01 11:07:03 -0400
nebbiolo1Linux (Ubuntu 22.04.1 LTS) / x86_64  OK    OK    WARNINGS  UNNEEDED, same version is already published
palomino3Windows Server 2022 Datacenter / x64... NOT SUPPORTED ...
merida1macOS 10.14.6 Mojave / x86_64  OK    OK    WARNINGS    OK  UNNEEDED, same version is already published
Package 66/2189HostnameOS / ArchINSTALLBUILDCHECKBUILD BIN
annotate 1.77.0  (landing page)
Bioconductor Package Maintainer
git_last_commit: 84b32d4
git_last_commit_date: 2022-11-01 10:34:51 -0400
nebbiolo1Linux (Ubuntu 22.04.1 LTS) / x86_64  OK    OK    OK  UNNEEDED, same version is already published
palomino3Windows Server 2022 Datacenter / x64  OK    OK    OK    OK  UNNEEDED, same version is already published
merida1macOS 10.14.6 Mojave / x86_64  OK    OK    OK    OK  UNNEEDED, same version is already published
Package 67/2189HostnameOS / ArchINSTALLBUILDCHECKBUILD BIN
AnnotationDbi 1.61.2  (landing page)
Bioconductor Package Maintainer
git_last_commit: ec93a70
git_last_commit_date: 2023-03-09 16:43:03 -0400
nebbiolo1Linux (Ubuntu 22.04.1 LTS) / x86_64  OK    OK    WARNINGS  UNNEEDED, same version is already published
palomino3Windows Server 2022 Datacenter / x64  OK    OK    WARNINGS    OK  UNNEEDED, same version is already published
merida1macOS 10.14.6 Mojave / x86_64  OK    OK    WARNINGS    OK  UNNEEDED, same version is already published
Package 68/2189HostnameOS / ArchINSTALLBUILDCHECKBUILD BIN
AnnotationFilter 1.23.0  (landing page)
Bioconductor Package Maintainer
git_last_commit: a054ce0
git_last_commit_date: 2022-11-01 11:15:27 -0400
nebbiolo1Linux (Ubuntu 22.04.1 LTS) / x86_64  OK    OK    OK  UNNEEDED, same version is already published
palomino3Windows Server 2022 Datacenter / x64  OK    OK    OK    OK  UNNEEDED, same version is already published
merida1macOS 10.14.6 Mojave / x86_64  OK    OK    OK    OK  UNNEEDED, same version is already published
Package 69/2189HostnameOS / ArchINSTALLBUILDCHECKBUILD BIN
AnnotationForge 1.41.1  (landing page)
Bioconductor Package Maintainer
git_last_commit: 27b4772
git_last_commit_date: 2023-02-15 12:23:38 -0400
nebbiolo1Linux (Ubuntu 22.04.1 LTS) / x86_64  OK    OK    OK  UNNEEDED, same version is already published
palomino3Windows Server 2022 Datacenter / x64  OK    OK    OK    OK  UNNEEDED, same version is already published
merida1macOS 10.14.6 Mojave / x86_64  OK    OK    OK    OK  UNNEEDED, same version is already published
Package 70/2189HostnameOS / ArchINSTALLBUILDCHECKBUILD BIN
AnnotationHub 3.7.3  (landing page)
Bioconductor Package Maintainer
git_last_commit: 04c62d2
git_last_commit_date: 2023-02-28 18:02:49 -0400
nebbiolo1Linux (Ubuntu 22.04.1 LTS) / x86_64  OK    OK    WARNINGS  UNNEEDED, same version is already published
palomino3Windows Server 2022 Datacenter / x64  OK    OK    WARNINGS    OK  UNNEEDED, same version is already published
merida1macOS 10.14.6 Mojave / x86_64  OK    OK    WARNINGS    OK  UNNEEDED, same version is already published
Package 71/2189HostnameOS / ArchINSTALLBUILDCHECKBUILD BIN
AnnotationHubData 1.29.1  (landing page)
Bioconductor Package Maintainer
git_last_commit: 3214594
git_last_commit_date: 2022-12-13 10:09:22 -0400
nebbiolo1Linux (Ubuntu 22.04.1 LTS) / x86_64  OK    OK    WARNINGS  UNNEEDED, same version is already published
palomino3Windows Server 2022 Datacenter / x64  OK    OK    WARNINGS    OK  UNNEEDED, same version is already published
merida1macOS 10.14.6 Mojave / x86_64  OK    OK    WARNINGS    OK  UNNEEDED, same version is already published
Package 72/2189HostnameOS / ArchINSTALLBUILDCHECKBUILD BIN
annotationTools 1.73.0  (landing page)
Alexandre Kuhn
git_last_commit: 87ead78
git_last_commit_date: 2022-11-01 11:03:20 -0400
nebbiolo1Linux (Ubuntu 22.04.1 LTS) / x86_64  OK    OK    OK  UNNEEDED, same version is already published
palomino3Windows Server 2022 Datacenter / x64  OK    OK    OK    OK  UNNEEDED, same version is already published
merida1macOS 10.14.6 Mojave / x86_64  OK    OK    OK    OK  UNNEEDED, same version is already published
Package 73/2189HostnameOS / ArchINSTALLBUILDCHECKBUILD BIN
annotatr 1.25.0  (landing page)
Raymond G. Cavalcante
git_last_commit: b9eb281
git_last_commit_date: 2022-11-01 11:14:43 -0400
nebbiolo1Linux (Ubuntu 22.04.1 LTS) / x86_64  OK    OK    OK  UNNEEDED, same version is already published
palomino3Windows Server 2022 Datacenter / x64  OK    OK    OK    OK  UNNEEDED, same version is already published
merida1macOS 10.14.6 Mojave / x86_64  OK    OK    OK    OK  UNNEEDED, same version is already published
Package 74/2189HostnameOS / ArchINSTALLBUILDCHECKBUILD BIN
anota 1.47.0  (landing page)
Ola Larsson
git_last_commit: d6b4bea
git_last_commit_date: 2022-11-01 11:05:53 -0400
nebbiolo1Linux (Ubuntu 22.04.1 LTS) / x86_64  OK    OK    OK  UNNEEDED, same version is already published
palomino3Windows Server 2022 Datacenter / x64  OK    OK    OK    OK  UNNEEDED, same version is already published
merida1macOS 10.14.6 Mojave / x86_64  OK    OK    OK    OK  UNNEEDED, same version is already published
Package 75/2189HostnameOS / ArchINSTALLBUILDCHECKBUILD BIN
anota2seq 1.21.0  (landing page)
Christian Oertlin , Julie Lorent
git_last_commit: 54f3300
git_last_commit_date: 2022-11-01 11:16:31 -0400
nebbiolo1Linux (Ubuntu 22.04.1 LTS) / x86_64  OK    OK    WARNINGS  UNNEEDED, same version is already published
palomino3Windows Server 2022 Datacenter / x64  OK    OK    OK    OK  UNNEEDED, same version is already published
merida1macOS 10.14.6 Mojave / x86_64  OK    OK    OK    OK  UNNEEDED, same version is already published
Package 76/2189HostnameOS / ArchINSTALLBUILDCHECKBUILD BIN
antiProfiles 1.39.0  (landing page)
Hector Corrada Bravo
git_last_commit: 906b6b2
git_last_commit_date: 2022-11-01 11:08:09 -0400
nebbiolo1Linux (Ubuntu 22.04.1 LTS) / x86_64  OK    OK    OK  UNNEEDED, same version is already published
palomino3Windows Server 2022 Datacenter / x64  OK    OK    OK    OK  UNNEEDED, same version is already published
merida1macOS 10.14.6 Mojave / x86_64  OK    OK    OK    OK  UNNEEDED, same version is already published
Package 77/2189HostnameOS / ArchINSTALLBUILDCHECKBUILD BIN
AnVIL 1.11.3  (landing page)
Martin Morgan
git_last_commit: 3c2999b
git_last_commit_date: 2022-12-06 10:45:37 -0400
nebbiolo1Linux (Ubuntu 22.04.1 LTS) / x86_64  OK    OK    WARNINGS  UNNEEDED, same version is already published
palomino3Windows Server 2022 Datacenter / x64  OK    OK    WARNINGS    OK  UNNEEDED, same version is already published
merida1macOS 10.14.6 Mojave / x86_64  OK    OK    WARNINGS    OK  UNNEEDED, same version is already published
Package 78/2189HostnameOS / ArchINSTALLBUILDCHECKBUILD BIN
AnVILBilling 1.9.0  (landing page)
Vince Carey
git_last_commit: 8dba368
git_last_commit_date: 2022-11-01 11:23:16 -0400
nebbiolo1Linux (Ubuntu 22.04.1 LTS) / x86_64  OK    OK    OK  UNNEEDED, same version is already published
palomino3Windows Server 2022 Datacenter / x64  OK    OK    OK    OK  UNNEEDED, same version is already published
merida1macOS 10.14.6 Mojave / x86_64  OK    OK    OK    OK  UNNEEDED, same version is already published
Package 79/2189HostnameOS / ArchINSTALLBUILDCHECKBUILD BIN
AnVILPublish 1.9.0  (landing page)
Martin Morgan
git_last_commit: 1390ef3
git_last_commit_date: 2022-11-01 11:23:10 -0400
nebbiolo1Linux (Ubuntu 22.04.1 LTS) / x86_64  OK    OK    OK  UNNEEDED, same version is already published
palomino3Windows Server 2022 Datacenter / x64  OK    OK    OK    OK  UNNEEDED, same version is already published
merida1macOS 10.14.6 Mojave / x86_64  OK    OK    OK    OK  UNNEEDED, same version is already published
Package 80/2189HostnameOS / ArchINSTALLBUILDCHECKBUILD BIN
AnVILWorkflow 0.99.28  (landing page)
Sehyun Oh
git_last_commit: 7063415
git_last_commit_date: 2023-02-24 13:03:22 -0400
nebbiolo1Linux (Ubuntu 22.04.1 LTS) / x86_64  OK    OK    OK  UNNEEDED, same version is already published
palomino3Windows Server 2022 Datacenter / x64  OK    OK    OK    OK  UNNEEDED, same version is already published
merida1macOS 10.14.6 Mojave / x86_64  OK    OK    OK    OK  UNNEEDED, same version is already published
Package 81/2189HostnameOS / ArchINSTALLBUILDCHECKBUILD BIN
APAlyzer 1.13.0  (landing page)
Ruijia Wang
git_last_commit: 7ca6719
git_last_commit_date: 2022-11-01 11:20:19 -0400
nebbiolo1Linux (Ubuntu 22.04.1 LTS) / x86_64  OK    OK    WARNINGS  UNNEEDED, same version is already published
palomino3Windows Server 2022 Datacenter / x64  OK    OK    WARNINGS    OK  UNNEEDED, same version is already published
merida1macOS 10.14.6 Mojave / x86_64  OK    OK    WARNINGS    OK  UNNEEDED, same version is already published
Package 82/2189HostnameOS / ArchINSTALLBUILDCHECKBUILD BIN
apComplex 2.65.0  (landing page)
Denise Scholtens
git_last_commit: da43727
git_last_commit_date: 2022-11-01 10:38:32 -0400
nebbiolo1Linux (Ubuntu 22.04.1 LTS) / x86_64  OK    OK    OK  UNNEEDED, same version is already published
palomino3Windows Server 2022 Datacenter / x64  OK    OK    OK    OK  UNNEEDED, same version is already published
merida1macOS 10.14.6 Mojave / x86_64  OK    OK    OK    OK  UNNEEDED, same version is already published
Package 83/2189HostnameOS / ArchINSTALLBUILDCHECKBUILD BIN
apeglm 1.21.0  (landing page)
Anqi Zhu
git_last_commit: 015b724
git_last_commit_date: 2022-11-01 11:16:16 -0400
nebbiolo1Linux (Ubuntu 22.04.1 LTS) / x86_64  OK    OK    OK  UNNEEDED, same version is already published
palomino3Windows Server 2022 Datacenter / x64  OK    OK    OK    OK  UNNEEDED, same version is already published
merida1macOS 10.14.6 Mojave / x86_64  OK    OK    OK    OK  UNNEEDED, same version is already published
Package 84/2189HostnameOS / ArchINSTALLBUILDCHECKBUILD BIN
APL 1.3.0  (landing page)
Elzbieta Gralinska
git_last_commit: 8a4464f
git_last_commit_date: 2022-11-01 11:27:04 -0400
nebbiolo1Linux (Ubuntu 22.04.1 LTS) / x86_64  OK    OK    OK  UNNEEDED, same version is already published
palomino3Windows Server 2022 Datacenter / x64  OK    OK    OK    OK  UNNEEDED, same version is already published
merida1macOS 10.14.6 Mojave / x86_64  OK    OK    OK    OK  UNNEEDED, same version is already published
Package 85/2189HostnameOS / ArchINSTALLBUILDCHECKBUILD BIN
appreci8R 1.17.0  (landing page)
Sarah Sandmann
git_last_commit: dd2c123
git_last_commit_date: 2022-11-01 11:18:06 -0400
nebbiolo1Linux (Ubuntu 22.04.1 LTS) / x86_64  OK    OK    OK  UNNEEDED, same version is already published
palomino3Windows Server 2022 Datacenter / x64  OK    OK    OK    OK  UNNEEDED, same version is already published
merida1macOS 10.14.6 Mojave / x86_64  OK    OK    OK    OK  UNNEEDED, same version is already published
Package 86/2189HostnameOS / ArchINSTALLBUILDCHECKBUILD BIN
aroma.light 3.29.0  (landing page)
Henrik Bengtsson
git_last_commit: f38e878
git_last_commit_date: 2022-11-01 10:41:49 -0400
nebbiolo1Linux (Ubuntu 22.04.1 LTS) / x86_64  OK    OK    OK  UNNEEDED, same version is already published
palomino3Windows Server 2022 Datacenter / x64  OK    OK    OK    OK  UNNEEDED, same version is already published
merida1macOS 10.14.6 Mojave / x86_64  OK    OK    OK    OK  UNNEEDED, same version is already published
Package 87/2189HostnameOS / ArchINSTALLBUILDCHECKBUILD BIN
ArrayExpress 1.59.3  (landing page)
Jose Marugan
git_last_commit: e6b84e0
git_last_commit_date: 2023-03-20 05:57:29 -0400
nebbiolo1Linux (Ubuntu 22.04.1 LTS) / x86_64  OK    OK    OK  UNNEEDED, same version is already published
palomino3Windows Server 2022 Datacenter / x64  OK    OK    OK    OK  YES
merida1macOS 10.14.6 Mojave / x86_64  OK    OK    OK    OK  UNNEEDED, same version is already published
Package 88/2189HostnameOS / ArchINSTALLBUILDCHECKBUILD BIN
ArrayExpressHTS 1.49.1  (landing page)
Angela Goncalves , Andrew Tikhonov
git_last_commit: c9590d2
git_last_commit_date: 2022-12-01 14:06:42 -0400
nebbiolo1Linux (Ubuntu 22.04.1 LTS) / x86_64  ERROR    ERROR  skipped
palomino3Windows Server 2022 Datacenter / x64... NOT SUPPORTED ...
merida1macOS 10.14.6 Mojave / x86_64  ERROR    ERROR  skippedskipped
Package 89/2189HostnameOS / ArchINSTALLBUILDCHECKBUILD BIN
arrayMvout 1.57.0  (landing page)
V. Carey
git_last_commit: 023a8fa
git_last_commit_date: 2022-11-01 11:04:11 -0400
nebbiolo1Linux (Ubuntu 22.04.1 LTS) / x86_64  OK    OK    OK  UNNEEDED, same version is already published
palomino3Windows Server 2022 Datacenter / x64  OK    OK    OK    OK  UNNEEDED, same version is already published
merida1macOS 10.14.6 Mojave / x86_64  OK    OK    OK    OK  UNNEEDED, same version is already published
Package 90/2189HostnameOS / ArchINSTALLBUILDCHECKBUILD BIN
arrayQuality 1.77.0  (landing page)
Agnes Paquet
git_last_commit: 23daadb
git_last_commit_date: 2022-11-01 10:36:58 -0400
nebbiolo1Linux (Ubuntu 22.04.1 LTS) / x86_64  OK    OK    WARNINGS  UNNEEDED, same version is already published
palomino3Windows Server 2022 Datacenter / x64  OK    OK    WARNINGS    OK  UNNEEDED, same version is already published
merida1macOS 10.14.6 Mojave / x86_64  OK    OK    WARNINGS    OK  UNNEEDED, same version is already published
Package 91/2189HostnameOS / ArchINSTALLBUILDCHECKBUILD BIN
arrayQualityMetrics 3.55.0  (landing page)
Mike Smith
git_last_commit: 346f0c8
git_last_commit_date: 2022-11-01 11:03:33 -0400
nebbiolo1Linux (Ubuntu 22.04.1 LTS) / x86_64  OK    OK    OK  UNNEEDED, same version is already published
palomino3Windows Server 2022 Datacenter / x64  OK    OK    OK    OK  UNNEEDED, same version is already published
merida1macOS 10.14.6 Mojave / x86_64  OK    OK    OK    OK  UNNEEDED, same version is already published
Package 92/2189HostnameOS / ArchINSTALLBUILDCHECKBUILD BIN
ARRmNormalization 1.39.0  (landing page)
Jean-Philippe Fortin
git_last_commit: 90edebe
git_last_commit_date: 2022-11-01 11:07:56 -0400
nebbiolo1Linux (Ubuntu 22.04.1 LTS) / x86_64  OK    OK    OK  UNNEEDED, same version is already published
palomino3Windows Server 2022 Datacenter / x64  OK    OK    OK    OK  UNNEEDED, same version is already published
merida1macOS 10.14.6 Mojave / x86_64  OK    OK    OK    OK  UNNEEDED, same version is already published
Package 93/2189HostnameOS / ArchINSTALLBUILDCHECKBUILD BIN
artMS 1.17.0  (landing page)
David Jimenez-Morales
git_last_commit: 12c93b7
git_last_commit_date: 2022-11-01 11:18:48 -0400
nebbiolo1Linux (Ubuntu 22.04.1 LTS) / x86_64  OK    OK    OK  UNNEEDED, same version is already published
palomino3Windows Server 2022 Datacenter / x64  OK    OK    OK    OK  UNNEEDED, same version is already published
merida1macOS 10.14.6 Mojave / x86_64  OK    OK    OK    OK  UNNEEDED, same version is already published
Package 94/2189HostnameOS / ArchINSTALLBUILDCHECKBUILD BIN
ASAFE 1.25.0  (landing page)
Qian Zhang
git_last_commit: 79d23ba
git_last_commit_date: 2022-11-01 11:14:06 -0400
nebbiolo1Linux (Ubuntu 22.04.1 LTS) / x86_64  OK    OK    OK  UNNEEDED, same version is already published
palomino3Windows Server 2022 Datacenter / x64  OK    OK    OK    OK  UNNEEDED, same version is already published
merida1macOS 10.14.6 Mojave / x86_64  OK    OK    OK    OK  UNNEEDED, same version is already published
Package 95/2189HostnameOS / ArchINSTALLBUILDCHECKBUILD BIN
ASEB 1.43.0  (landing page)
Likun Wang
git_last_commit: 1b15a5c
git_last_commit_date: 2022-11-01 11:06:34 -0400
nebbiolo1Linux (Ubuntu 22.04.1 LTS) / x86_64  OK    OK    WARNINGS  UNNEEDED, same version is already published
palomino3Windows Server 2022 Datacenter / x64  OK    OK    OK    OK  UNNEEDED, same version is already published
merida1macOS 10.14.6 Mojave / x86_64  ERROR    ERROR  skippedskipped
Package 96/2189HostnameOS / ArchINSTALLBUILDCHECKBUILD BIN
ASGSCA 1.33.0  (landing page)
Hela Romdhani
git_last_commit: 3c0adc1
git_last_commit_date: 2022-11-01 11:10:28 -0400
nebbiolo1Linux (Ubuntu 22.04.1 LTS) / x86_64  OK    OK    OK  UNNEEDED, same version is already published
palomino3Windows Server 2022 Datacenter / x64  OK    OK    OK    OK  UNNEEDED, same version is already published
merida1macOS 10.14.6 Mojave / x86_64  OK    OK    OK    OK  UNNEEDED, same version is already published
Package 97/2189HostnameOS / ArchINSTALLBUILDCHECKBUILD BIN
ASICS 2.15.0  (landing page)
Gaëlle Lefort
git_last_commit: 87caac3
git_last_commit_date: 2022-11-01 11:17:27 -0400
nebbiolo1Linux (Ubuntu 22.04.1 LTS) / x86_64  OK    OK    OK  UNNEEDED, same version is already published
palomino3Windows Server 2022 Datacenter / x64  OK    OK    OK    OK  UNNEEDED, same version is already published
merida1macOS 10.14.6 Mojave / x86_64  OK    OK    OK    OK  UNNEEDED, same version is already published
Package 98/2189HostnameOS / ArchINSTALLBUILDCHECKBUILD BIN
ASpediaFI 1.13.1  (landing page)
Doyeong Yu
git_last_commit: 1168c9e
git_last_commit_date: 2023-01-20 10:45:20 -0400
nebbiolo1Linux (Ubuntu 22.04.1 LTS) / x86_64  ERROR    ERROR  skipped
palomino3Windows Server 2022 Datacenter / x64  ERROR    ERROR  skippedskipped
merida1macOS 10.14.6 Mojave / x86_64  ERROR    ERROR  skippedskipped
Package 99/2189HostnameOS / ArchINSTALLBUILDCHECKBUILD BIN
ASpli 2.9.0  (landing page)
Estefania Mancini
git_last_commit: 22dbaf4
git_last_commit_date: 2022-11-01 11:14:10 -0400
nebbiolo1Linux (Ubuntu 22.04.1 LTS) / x86_64  OK    OK    OK  UNNEEDED, same version is already published
palomino3Windows Server 2022 Datacenter / x64  OK    OK    OK    OK  UNNEEDED, same version is already published
merida1macOS 10.14.6 Mojave / x86_64  OK    OK    OK    OK  UNNEEDED, same version is already published
Package 100/2189HostnameOS / ArchINSTALLBUILDCHECKBUILD BIN
AssessORF 1.17.0  (landing page)
Deepank Korandla
git_last_commit: 6041a54
git_last_commit_date: 2022-11-01 11:18:47 -0400
nebbiolo1Linux (Ubuntu 22.04.1 LTS) / x86_64  OK    OK    OK  UNNEEDED, same version is already published
palomino3Windows Server 2022 Datacenter / x64  OK    OK    OK    OK  UNNEEDED, same version is already published
merida1macOS 10.14.6 Mojave / x86_64  OK    OK    OK    OK  UNNEEDED, same version is already published
Package 101/2189HostnameOS / ArchINSTALLBUILDCHECKBUILD BIN
ASSET 2.17.0  (landing page)
Samsiddhi Bhattacharjee
git_last_commit: 8997e78
git_last_commit_date: 2022-11-01 11:08:36 -0400
nebbiolo1Linux (Ubuntu 22.04.1 LTS) / x86_64  OK    OK    OK  UNNEEDED, same version is already published
palomino3Windows Server 2022 Datacenter / x64  OK    OK    OK    OK  UNNEEDED, same version is already published
merida1macOS 10.14.6 Mojave / x86_64  OK    OK    OK    OK  UNNEEDED, same version is already published
Package 102/2189HostnameOS / ArchINSTALLBUILDCHECKBUILD BIN
ASSIGN 1.35.0  (landing page)
Ying Shen , W. Evan Johnson
git_last_commit: c659935
git_last_commit_date: 2022-11-01 11:09:27 -0400
nebbiolo1Linux (Ubuntu 22.04.1 LTS) / x86_64  OK    OK    OK  UNNEEDED, same version is already published
palomino3Windows Server 2022 Datacenter / x64  OK    OK    OK    OK  UNNEEDED, same version is already published
merida1macOS 10.14.6 Mojave / x86_64  OK    OK    OK    OK  UNNEEDED, same version is already published
Package 103/2189HostnameOS / ArchINSTALLBUILDCHECKBUILD BIN
ASURAT 1.3.0  (landing page)
Keita Iida
git_last_commit: 2cb00ef
git_last_commit_date: 2022-11-01 11:26:43 -0400
nebbiolo1Linux (Ubuntu 22.04.1 LTS) / x86_64  OK    OK    OK  UNNEEDED, same version is already published
palomino3Windows Server 2022 Datacenter / x64  OK    OK    OK    OK  UNNEEDED, same version is already published
merida1macOS 10.14.6 Mojave / x86_64  OK    OK    OK    OK  UNNEEDED, same version is already published
Package 104/2189HostnameOS / ArchINSTALLBUILDCHECKBUILD BIN
ATACCoGAPS 1.1.0  (landing page)
Rossin Erbe
git_last_commit: 234877c
git_last_commit_date: 2022-11-01 11:27:16 -0400
nebbiolo1Linux (Ubuntu 22.04.1 LTS) / x86_64  OK    OK    OK  UNNEEDED, same version is already published
palomino3Windows Server 2022 Datacenter / x64  OK    OK    OK    OK  UNNEEDED, same version is already published
merida1macOS 10.14.6 Mojave / x86_64  OK    OK    OK    OK  UNNEEDED, same version is already published
Package 105/2189HostnameOS / ArchINSTALLBUILDCHECKBUILD BIN
ATACseqQC 1.23.1  (landing page)
Jianhong Ou
git_last_commit: a3d6d8b
git_last_commit_date: 2023-01-30 16:00:52 -0400
nebbiolo1Linux (Ubuntu 22.04.1 LTS) / x86_64  OK    OK    OK  UNNEEDED, same version is already published
palomino3Windows Server 2022 Datacenter / x64  OK    OK    OK    OK  UNNEEDED, same version is already published
merida1macOS 10.14.6 Mojave / x86_64  OK    OK    OK    OK  UNNEEDED, same version is already published
Package 106/2189HostnameOS / ArchINSTALLBUILDCHECKBUILD BIN
ATACseqTFEA 1.1.1  (landing page)
Jianhong Ou
git_last_commit: 203524e
git_last_commit_date: 2022-11-04 14:13:13 -0400
nebbiolo1Linux (Ubuntu 22.04.1 LTS) / x86_64  OK    OK    OK  UNNEEDED, same version is already published
palomino3Windows Server 2022 Datacenter / x64  OK    OK    OK    OK  UNNEEDED, same version is already published
merida1macOS 10.14.6 Mojave / x86_64  OK    OK    OK    OK  UNNEEDED, same version is already published
Package 107/2189HostnameOS / ArchINSTALLBUILDCHECKBUILD BIN
atena 1.5.9  (landing page)
Beatriz Calvo-Serra
git_last_commit: 653a4a3
git_last_commit_date: 2023-03-20 12:32:18 -0400
nebbiolo1Linux (Ubuntu 22.04.1 LTS) / x86_64  OK    OK    ERROR  
palomino3Windows Server 2022 Datacenter / x64  OK    OK    ERROR    OK  
merida1macOS 10.14.6 Mojave / x86_64  OK    OK    ERROR    OK  
Package 108/2189HostnameOS / ArchINSTALLBUILDCHECKBUILD BIN
atSNP 1.15.0  (landing page)
Sunyoung Shin
git_last_commit: 726fb40
git_last_commit_date: 2022-11-01 11:19:16 -0400
nebbiolo1Linux (Ubuntu 22.04.1 LTS) / x86_64  OK    OK    OK  UNNEEDED, same version is already published
palomino3Windows Server 2022 Datacenter / x64  OK    OK    OK    OK  UNNEEDED, same version is already published
merida1macOS 10.14.6 Mojave / x86_64  OK    OK    OK    OK  UNNEEDED, same version is already published
Package 109/2189HostnameOS / ArchINSTALLBUILDCHECKBUILD BIN
attract 1.51.0  (landing page)
Samuel Zimmerman
git_last_commit: 05e02ca
git_last_commit_date: 2022-11-01 11:05:07 -0400
nebbiolo1Linux (Ubuntu 22.04.1 LTS) / x86_64  OK    OK    OK  UNNEEDED, same version is already published
palomino3Windows Server 2022 Datacenter / x64  OK    OK    OK    OK  UNNEEDED, same version is already published
merida1macOS 10.14.6 Mojave / x86_64  OK    OK    OK    OK  UNNEEDED, same version is already published
Package 110/2189HostnameOS / ArchINSTALLBUILDCHECKBUILD BIN
AUCell 1.21.2  (landing page)
Sara Aibar
git_last_commit: 6b2ee7c
git_last_commit_date: 2022-12-01 10:41:36 -0400
nebbiolo1Linux (Ubuntu 22.04.1 LTS) / x86_64  OK    OK    OK  UNNEEDED, same version is already published
palomino3Windows Server 2022 Datacenter / x64  OK    OK    OK    OK  UNNEEDED, same version is already published
merida1macOS 10.14.6 Mojave / x86_64  OK    OK    OK    OK  UNNEEDED, same version is already published
Package 111/2189HostnameOS / ArchINSTALLBUILDCHECKBUILD BIN
autonomics 1.7.0  (landing page)
Aditya Bhagwat
git_last_commit: 648ec51
git_last_commit_date: 2022-11-01 11:24:11 -0400
nebbiolo1Linux (Ubuntu 22.04.1 LTS) / x86_64  OK    OK    WARNINGS  UNNEEDED, same version is already published
palomino3Windows Server 2022 Datacenter / x64  OK    OK    WARNINGS    OK  UNNEEDED, same version is already published
merida1macOS 10.14.6 Mojave / x86_64  OK    ERROR  skippedskipped
Package 112/2189HostnameOS / ArchINSTALLBUILDCHECKBUILD BIN
AWFisher 1.13.0  (landing page)
Zhiguang Huo
git_last_commit: a1eee3e
git_last_commit_date: 2022-11-01 11:20:10 -0400
nebbiolo1Linux (Ubuntu 22.04.1 LTS) / x86_64  OK    OK    OK  UNNEEDED, same version is already published
palomino3Windows Server 2022 Datacenter / x64  OK    OK    OK    OK  UNNEEDED, same version is already published
merida1macOS 10.14.6 Mojave / x86_64  OK    OK    OK    OK  UNNEEDED, same version is already published
Package 113/2189HostnameOS / ArchINSTALLBUILDCHECKBUILD BIN
awst 1.7.0  (landing page)
Davide Risso
git_last_commit: 7ab7a61
git_last_commit_date: 2022-11-01 11:24:48 -0400
nebbiolo1Linux (Ubuntu 22.04.1 LTS) / x86_64  OK    OK    OK  UNNEEDED, same version is already published
palomino3Windows Server 2022 Datacenter / x64  OK    OK    OK    OK  UNNEEDED, same version is already published
merida1macOS 10.14.6 Mojave / x86_64  OK    OK    OK    OK  UNNEEDED, same version is already published
B
ABCDEFGHIJKLMNOPQRSTUVWXYZ
Package 114/2189HostnameOS / ArchINSTALLBUILDCHECKBUILD BIN
BaalChIP 1.25.0  (landing page)
Ines de Santiago
git_last_commit: 82bbb76
git_last_commit_date: 2022-11-01 11:14:26 -0400
nebbiolo1Linux (Ubuntu 22.04.1 LTS) / x86_64  OK    OK    WARNINGS  UNNEEDED, same version is already published
palomino3Windows Server 2022 Datacenter / x64  OK    OK    WARNINGS    OK  UNNEEDED, same version is already published
merida1macOS 10.14.6 Mojave / x86_64  OK    OK    WARNINGS    OK  UNNEEDED, same version is already published
Package 115/2189HostnameOS / ArchINSTALLBUILDCHECKBUILD BIN
bacon 1.27.0  (landing page)
Maarten van Iterson
git_last_commit: 95bf70f
git_last_commit_date: 2022-11-01 11:13:10 -0400
nebbiolo1Linux (Ubuntu 22.04.1 LTS) / x86_64  OK    OK    OK  UNNEEDED, same version is already published
palomino3Windows Server 2022 Datacenter / x64  OK    OK    OK    OK  UNNEEDED, same version is already published
merida1macOS 10.14.6 Mojave / x86_64  OK    OK    OK    OK  UNNEEDED, same version is already published
Package 116/2189HostnameOS / ArchINSTALLBUILDCHECKBUILD BIN
BADER 1.37.0  (landing page)
Andreas Neudecker
git_last_commit: cd5e596
git_last_commit_date: 2022-11-01 11:08:40 -0400
nebbiolo1Linux (Ubuntu 22.04.1 LTS) / x86_64  OK    OK    OK  UNNEEDED, same version is already published
palomino3Windows Server 2022 Datacenter / x64  OK    OK    OK    OK  UNNEEDED, same version is already published
merida1macOS 10.14.6 Mojave / x86_64  OK    OK    OK    OK  UNNEEDED, same version is already published
Package 117/2189HostnameOS / ArchINSTALLBUILDCHECKBUILD BIN
BadRegionFinder 1.27.0  (landing page)
Sarah Sandmann
git_last_commit: 1b861d0
git_last_commit_date: 2022-11-01 11:13:25 -0400
nebbiolo1Linux (Ubuntu 22.04.1 LTS) / x86_64  OK    OK    OK  UNNEEDED, same version is already published
palomino3Windows Server 2022 Datacenter / x64  OK    OK    OK    OK  UNNEEDED, same version is already published
merida1macOS 10.14.6 Mojave / x86_64  OK    OK    OK    OK  UNNEEDED, same version is already published
Package 118/2189HostnameOS / ArchINSTALLBUILDCHECKBUILD BIN
BAGS 2.39.0  (landing page)
Alejandro Quiroz-Zarate
git_last_commit: 8d130fc
git_last_commit_date: 2022-11-01 11:06:38 -0400
nebbiolo1Linux (Ubuntu 22.04.1 LTS) / x86_64  OK    OK    OK  UNNEEDED, same version is already published
palomino3Windows Server 2022 Datacenter / x64  OK    OK    OK    OK  UNNEEDED, same version is already published
merida1macOS 10.14.6 Mojave / x86_64  OK    OK    OK    OK  UNNEEDED, same version is already published
Package 119/2189HostnameOS / ArchINSTALLBUILDCHECKBUILD BIN
ballgown 2.31.0  (landing page)
Jack Fu
git_last_commit: db11666
git_last_commit_date: 2022-11-01 11:10:01 -0400
nebbiolo1Linux (Ubuntu 22.04.1 LTS) / x86_64  OK    OK    OK  UNNEEDED, same version is already published
palomino3Windows Server 2022 Datacenter / x64  OK    OK    OK    OK  UNNEEDED, same version is already published
merida1macOS 10.14.6 Mojave / x86_64  OK    OK    OK    OK  UNNEEDED, same version is already published
Package 120/2189HostnameOS / ArchINSTALLBUILDCHECKBUILD BIN
bambu 3.1.6  (landing page)
Ying Chen
git_last_commit: 5c758f5
git_last_commit_date: 2023-02-14 20:54:38 -0400
nebbiolo1Linux (Ubuntu 22.04.1 LTS) / x86_64  OK    OK    OK  UNNEEDED, same version is already published
palomino3Windows Server 2022 Datacenter / x64  OK    OK    OK    OK  UNNEEDED, same version is already published
merida1macOS 10.14.6 Mojave / x86_64  OK    OK    OK    OK  UNNEEDED, same version is already published
Package 121/2189HostnameOS / ArchINSTALLBUILDCHECKBUILD BIN
bamsignals 1.31.0  (landing page)
Johannes Helmuth
git_last_commit: 8f750f0
git_last_commit_date: 2022-11-01 11:11:17 -0400
nebbiolo1Linux (Ubuntu 22.04.1 LTS) / x86_64  OK    OK    WARNINGS  UNNEEDED, same version is already published
palomino3Windows Server 2022 Datacenter / x64  OK    OK    OK    OK  UNNEEDED, same version is already published
merida1macOS 10.14.6 Mojave / x86_64  OK    OK    WARNINGS    OK  UNNEEDED, same version is already published
Package 122/2189HostnameOS / ArchINSTALLBUILDCHECKBUILD BIN
BANDITS 1.15.0  (landing page)
Simone Tiberi
git_last_commit: 6c41f74
git_last_commit_date: 2022-11-01 11:19:40 -0400
nebbiolo1Linux (Ubuntu 22.04.1 LTS) / x86_64  OK    OK    OK  UNNEEDED, same version is already published
palomino3Windows Server 2022 Datacenter / x64  OK    OK    OK    OK  UNNEEDED, same version is already published
merida1macOS 10.14.6 Mojave / x86_64  OK    OK    OK    OK  UNNEEDED, same version is already published
Package 123/2189HostnameOS / ArchINSTALLBUILDCHECKBUILD BIN
bandle 1.3.0  (landing page)
Oliver M. Crook
git_last_commit: ee829a0
git_last_commit_date: 2022-11-01 11:26:51 -0400
nebbiolo1Linux (Ubuntu 22.04.1 LTS) / x86_64  OK    OK    OK  UNNEEDED, same version is already published
palomino3Windows Server 2022 Datacenter / x64  OK    OK    OK    OK  UNNEEDED, same version is already published
merida1macOS 10.14.6 Mojave / x86_64  OK    OK    OK    OK  UNNEEDED, same version is already published
Package 124/2189HostnameOS / ArchINSTALLBUILDCHECKBUILD BIN
banocc 1.23.0  (landing page)
George Weingart
git_last_commit: a024a6b
git_last_commit_date: 2022-11-01 11:15:30 -0400
nebbiolo1Linux (Ubuntu 22.04.1 LTS) / x86_64  OK    OK    OK  UNNEEDED, same version is already published
palomino3Windows Server 2022 Datacenter / x64  OK    ERROR  skippedskipped
merida1macOS 10.14.6 Mojave / x86_64  OK    OK    OK    OK  UNNEEDED, same version is already published
Package 125/2189HostnameOS / ArchINSTALLBUILDCHECKBUILD BIN
barcodetrackR 1.7.0  (landing page)
Diego Alexander Espinoza
git_last_commit: 801ba49
git_last_commit_date: 2022-11-01 11:24:29 -0400
nebbiolo1Linux (Ubuntu 22.04.1 LTS) / x86_64  OK    OK    OK  UNNEEDED, same version is already published
palomino3Windows Server 2022 Datacenter / x64  OK    OK    OK    OK  UNNEEDED, same version is already published
merida1macOS 10.14.6 Mojave / x86_64  OK    OK    OK    OK  UNNEEDED, same version is already published
Package 126/2189HostnameOS / ArchINSTALLBUILDCHECKBUILD BIN
basecallQC 1.23.0  (landing page)
Thomas Carroll
git_last_commit: 90046aa
git_last_commit_date: 2022-11-01 11:15:31 -0400
nebbiolo1Linux (Ubuntu 22.04.1 LTS) / x86_64  OK    OK    OK  UNNEEDED, same version is already published
palomino3Windows Server 2022 Datacenter / x64  OK    OK    OK    OK  UNNEEDED, same version is already published
merida1macOS 10.14.6 Mojave / x86_64  OK    OK    OK    OK  UNNEEDED, same version is already published
Package 127/2189HostnameOS / ArchINSTALLBUILDCHECKBUILD BIN
BaseSpaceR 1.43.0  (landing page)
Jared O'Connell
git_last_commit: 56a2e06
git_last_commit_date: 2022-11-01 11:08:02 -0400
nebbiolo1Linux (Ubuntu 22.04.1 LTS) / x86_64  OK    OK    WARNINGS  UNNEEDED, same version is already published
palomino3Windows Server 2022 Datacenter / x64  OK    OK    WARNINGS    OK  UNNEEDED, same version is already published
merida1macOS 10.14.6 Mojave / x86_64  OK    OK    WARNINGS    OK  UNNEEDED, same version is already published
Package 128/2189HostnameOS / ArchINSTALLBUILDCHECKBUILD BIN
Basic4Cseq 1.35.0  (landing page)
Carolin Walter
git_last_commit: 726420a
git_last_commit_date: 2022-11-01 11:09:18 -0400
nebbiolo1Linux (Ubuntu 22.04.1 LTS) / x86_64  OK    OK    OK  UNNEEDED, same version is already published
palomino3Windows Server 2022 Datacenter / x64  OK    OK    OK    OK  UNNEEDED, same version is already published
merida1macOS 10.14.6 Mojave / x86_64  OK    OK    OK    OK  UNNEEDED, same version is already published
Package 129/2189HostnameOS / ArchINSTALLBUILDCHECKBUILD BIN
BASiCS 2.11.9  (landing page)
Catalina Vallejos
git_last_commit: 98b99d7
git_last_commit_date: 2023-03-07 16:05:03 -0400
nebbiolo1Linux (Ubuntu 22.04.1 LTS) / x86_64  OK    OK    OK  UNNEEDED, same version is already published
palomino3Windows Server 2022 Datacenter / x64  OK    OK    OK    OK  UNNEEDED, same version is already published
merida1macOS 10.14.6 Mojave / x86_64  OK    OK    OK    OK  UNNEEDED, same version is already published
Package 130/2189HostnameOS / ArchINSTALLBUILDCHECKBUILD BIN
BASiCStan 1.1.0  (landing page)
Alan O'Callaghan
git_last_commit: 3a1a0eb
git_last_commit_date: 2022-11-01 11:27:25 -0400
nebbiolo1Linux (Ubuntu 22.04.1 LTS) / x86_64  OK    OK    OK  UNNEEDED, same version is already published
palomino3Windows Server 2022 Datacenter / x64  OK    OK    OK    OK  UNNEEDED, same version is already published
merida1macOS 10.14.6 Mojave / x86_64  OK    OK    OK    OK  UNNEEDED, same version is already published
Package 131/2189HostnameOS / ArchINSTALLBUILDCHECKBUILD BIN
BasicSTARRseq 1.27.0  (landing page)
Annika Buerger
git_last_commit: f75cc57
git_last_commit_date: 2022-11-01 11:12:51 -0400
nebbiolo1Linux (Ubuntu 22.04.1 LTS) / x86_64  OK    OK    OK  UNNEEDED, same version is already published
palomino3Windows Server 2022 Datacenter / x64  OK    OK    OK    OK  UNNEEDED, same version is already published
merida1macOS 10.14.6 Mojave / x86_64  OK    OK    OK    OK  UNNEEDED, same version is already published
Package 132/2189HostnameOS / ArchINSTALLBUILDCHECKBUILD BIN
basilisk 1.11.3  (landing page)
Aaron Lun
git_last_commit: 6b6ba9f
git_last_commit_date: 2023-03-15 15:43:26 -0400
nebbiolo1Linux (Ubuntu 22.04.1 LTS) / x86_64  OK    OK    OK  UNNEEDED, same version is already published
palomino3Windows Server 2022 Datacenter / x64  OK    OK    TIMEOUT    OK  
merida1macOS 10.14.6 Mojave / x86_64  OK    OK    TIMEOUT    OK  
Package 133/2189HostnameOS / ArchINSTALLBUILDCHECKBUILD BIN
basilisk.utils 1.11.2  (landing page)
Aaron Lun
git_last_commit: 7ee5213
git_last_commit_date: 2023-01-31 01:10:23 -0400
nebbiolo1Linux (Ubuntu 22.04.1 LTS) / x86_64  OK    OK    OK  UNNEEDED, same version is already published
palomino3Windows Server 2022 Datacenter / x64  OK    OK    OK    OK  UNNEEDED, same version is already published
merida1macOS 10.14.6 Mojave / x86_64  OK    OK    OK    OK  UNNEEDED, same version is already published
Package 134/2189HostnameOS / ArchINSTALLBUILDCHECKBUILD BIN
batchelor 1.15.1  (landing page)
Aaron Lun
git_last_commit: 59e325a
git_last_commit_date: 2023-01-02 20:16:37 -0400
nebbiolo1Linux (Ubuntu 22.04.1 LTS) / x86_64  OK    OK    OK  UNNEEDED, same version is already published
palomino3Windows Server 2022 Datacenter / x64  OK    OK    OK    OK  UNNEEDED, same version is already published
merida1macOS 10.14.6 Mojave / x86_64  OK    OK    OK    OK  UNNEEDED, same version is already published
Package 135/2189HostnameOS / ArchINSTALLBUILDCHECKBUILD BIN
BatchQC 1.27.0  (landing page)
Solaiappan Manimaran
git_last_commit: c228e93
git_last_commit_date: 2022-11-01 11:13:30 -0400
nebbiolo1Linux (Ubuntu 22.04.1 LTS) / x86_64  OK    OK    OK  UNNEEDED, same version is already published
palomino3Windows Server 2022 Datacenter / x64  OK    OK    OK    OK  UNNEEDED, same version is already published
merida1macOS 10.14.6 Mojave / x86_64  OK    OK    OK    OK  UNNEEDED, same version is already published
Package 136/2189HostnameOS / ArchINSTALLBUILDCHECKBUILD BIN
BayesKnockdown 1.25.0  (landing page)
William Chad Young
git_last_commit: cec0479
git_last_commit_date: 2022-11-01 11:14:12 -0400
nebbiolo1Linux (Ubuntu 22.04.1 LTS) / x86_64  OK    OK    OK  UNNEEDED, same version is already published
palomino3Windows Server 2022 Datacenter / x64  OK    OK    OK    OK  UNNEEDED, same version is already published
merida1macOS 10.14.6 Mojave / x86_64  OK    OK    OK    OK  UNNEEDED, same version is already published
Package 137/2189HostnameOS / ArchINSTALLBUILDCHECKBUILD BIN
BayesSpace 1.9.0  (landing page)
Matt Stone
git_last_commit: aded313
git_last_commit_date: 2022-11-01 11:23:03 -0400
nebbiolo1Linux (Ubuntu 22.04.1 LTS) / x86_64  OK    OK    OK  UNNEEDED, same version is already published
palomino3Windows Server 2022 Datacenter / x64  OK    OK    OK    OK  UNNEEDED, same version is already published
merida1macOS 10.14.6 Mojave / x86_64  OK    OK    OK    OK  UNNEEDED, same version is already published
Package 138/2189HostnameOS / ArchINSTALLBUILDCHECKBUILD BIN
bayNorm 1.17.0  (landing page)
Wenhao Tang
git_last_commit: 65ab79c
git_last_commit_date: 2022-11-01 11:18:38 -0400
nebbiolo1Linux (Ubuntu 22.04.1 LTS) / x86_64  OK    OK    OK  UNNEEDED, same version is already published
palomino3Windows Server 2022 Datacenter / x64  OK    OK    OK    OK  UNNEEDED, same version is already published
merida1macOS 10.14.6 Mojave / x86_64  OK    OK    OK    OK  UNNEEDED, same version is already published
Package 139/2189HostnameOS / ArchINSTALLBUILDCHECKBUILD BIN
baySeq 2.33.0  (landing page)
Thomas J. Hardcastle
git_last_commit: fd24c8e
git_last_commit_date: 2022-11-01 11:04:42 -0400
nebbiolo1Linux (Ubuntu 22.04.1 LTS) / x86_64  OK    ERROR  skipped
palomino3Windows Server 2022 Datacenter / x64  OK    ERROR  skippedskipped
merida1macOS 10.14.6 Mojave / x86_64  OK    ERROR  skippedskipped
Package 140/2189HostnameOS / ArchINSTALLBUILDCHECKBUILD BIN
BBCAnalyzer 1.29.0  (landing page)
Sarah Sandmann
git_last_commit: 84a40f4
git_last_commit_date: 2022-11-01 11:12:03 -0400
nebbiolo1Linux (Ubuntu 22.04.1 LTS) / x86_64  OK    OK    OK  UNNEEDED, same version is already published
palomino3Windows Server 2022 Datacenter / x64  OK    OK    WARNINGS    OK  UNNEEDED, same version is already published
merida1macOS 10.14.6 Mojave / x86_64  OK    OK    OK    OK  UNNEEDED, same version is already published
Package 141/2189HostnameOS / ArchINSTALLBUILDCHECKBUILD BIN
BCRANK 1.61.0  (landing page)
Adam Ameur
git_last_commit: a7b012e
git_last_commit_date: 2022-11-01 11:03:44 -0400
nebbiolo1Linux (Ubuntu 22.04.1 LTS) / x86_64  OK    OK    OK  UNNEEDED, same version is already published
palomino3Windows Server 2022 Datacenter / x64  OK    OK    OK    OK  UNNEEDED, same version is already published
merida1macOS 10.14.6 Mojave / x86_64  OK    OK    OK    OK  UNNEEDED, same version is already published
Package 142/2189HostnameOS / ArchINSTALLBUILDCHECKBUILD BIN
bcSeq 1.21.0  (landing page)
Jiaxing Lin
git_last_commit: 8bccf93
git_last_commit_date: 2022-11-01 11:16:48 -0400
nebbiolo1Linux (Ubuntu 22.04.1 LTS) / x86_64  OK    OK    WARNINGS  UNNEEDED, same version is already published
palomino3Windows Server 2022 Datacenter / x64  OK    OK    WARNINGS    OK  UNNEEDED, same version is already published
merida1macOS 10.14.6 Mojave / x86_64  OK    OK    OK    OK  UNNEEDED, same version is already published
Package 143/2189HostnameOS / ArchINSTALLBUILDCHECKBUILD BIN
BDMMAcorrect 1.17.0  (landing page)
ZHENWEI DAI
git_last_commit: b9d7264
git_last_commit_date: 2022-11-01 11:18:52 -0400
nebbiolo1Linux (Ubuntu 22.04.1 LTS) / x86_64  OK    OK    OK  UNNEEDED, same version is already published
palomino3Windows Server 2022 Datacenter / x64  OK    OK    OK    OK  UNNEEDED, same version is already published
merida1macOS 10.14.6 Mojave / x86_64  OK    OK    OK    OK  UNNEEDED, same version is already published
Package 144/2189HostnameOS / ArchINSTALLBUILDCHECKBUILD BIN
beachmat 2.15.0  (landing page)
Aaron Lun
git_last_commit: 030d39d
git_last_commit_date: 2022-11-01 11:15:58 -0400
nebbiolo1Linux (Ubuntu 22.04.1 LTS) / x86_64  OK    OK    OK  UNNEEDED, same version is already published
palomino3Windows Server 2022 Datacenter / x64  OK    OK    OK    OK  UNNEEDED, same version is already published
merida1macOS 10.14.6 Mojave / x86_64  OK    OK    OK    OK  UNNEEDED, same version is already published
Package 145/2189HostnameOS / ArchINSTALLBUILDCHECKBUILD BIN
beadarray 2.49.0  (landing page)
Mark Dunning
git_last_commit: bdc74cc
git_last_commit_date: 2022-11-01 10:40:39 -0400
nebbiolo1Linux (Ubuntu 22.04.1 LTS) / x86_64  OK    OK    OK  UNNEEDED, same version is already published
palomino3Windows Server 2022 Datacenter / x64  OK    OK    OK    OK  UNNEEDED, same version is already published
merida1macOS 10.14.6 Mojave / x86_64  OK    OK    OK    OK  UNNEEDED, same version is already published
Package 146/2189HostnameOS / ArchINSTALLBUILDCHECKBUILD BIN
beadarraySNP 1.65.0  (landing page)
Jan Oosting
git_last_commit: 1c6e400
git_last_commit_date: 2022-11-01 10:42:02 -0400
nebbiolo1Linux (Ubuntu 22.04.1 LTS) / x86_64  OK    OK    OK  UNNEEDED, same version is already published
palomino3Windows Server 2022 Datacenter / x64  OK    OK    OK    OK  UNNEEDED, same version is already published
merida1macOS 10.14.6 Mojave / x86_64  OK    OK    OK    OK  UNNEEDED, same version is already published
Package 147/2189HostnameOS / ArchINSTALLBUILDCHECKBUILD BIN
BeadDataPackR 1.51.0  (landing page)
Mike Smith
git_last_commit: 08fa27e
git_last_commit_date: 2022-11-01 11:04:56 -0400
nebbiolo1Linux (Ubuntu 22.04.1 LTS) / x86_64  OK    OK    OK  UNNEEDED, same version is already published
palomino3Windows Server 2022 Datacenter / x64  OK    OK    OK    OK  UNNEEDED, same version is already published
merida1macOS 10.14.6 Mojave / x86_64  OK    OK    OK    OK  UNNEEDED, same version is already published
Package 148/2189HostnameOS / ArchINSTALLBUILDCHECKBUILD BIN
BEARscc 1.19.0  (landing page)
Benjamin Schuster-Boeckler
git_last_commit: 3f8327d
git_last_commit_date: 2022-11-01 11:17:05 -0400
nebbiolo1Linux (Ubuntu 22.04.1 LTS) / x86_64  OK    OK    OK  UNNEEDED, same version is already published
palomino3Windows Server 2022 Datacenter / x64  OK    OK    OK    OK  UNNEEDED, same version is already published
merida1macOS 10.14.6 Mojave / x86_64  OK    OK    OK    OK  UNNEEDED, same version is already published
Package 149/2189HostnameOS / ArchINSTALLBUILDCHECKBUILD BIN
BEAT 1.37.0  (landing page)
Kemal Akman
git_last_commit: d077bd7
git_last_commit_date: 2022-11-01 11:09:07 -0400
nebbiolo1Linux (Ubuntu 22.04.1 LTS) / x86_64  OK    OK    OK  UNNEEDED, same version is already published
palomino3Windows Server 2022 Datacenter / x64  OK    OK    OK    OK  UNNEEDED, same version is already published
merida1macOS 10.14.6 Mojave / x86_64  OK    OK    OK    OK  UNNEEDED, same version is already published
Package 150/2189HostnameOS / ArchINSTALLBUILDCHECKBUILD BIN
BEclear 2.15.0  (landing page)
David Rasp
git_last_commit: a6ed7af
git_last_commit_date: 2022-11-01 11:11:42 -0400
nebbiolo1Linux (Ubuntu 22.04.1 LTS) / x86_64  OK    OK    OK  UNNEEDED, same version is already published
palomino3Windows Server 2022 Datacenter / x64  OK    OK    OK    OK  UNNEEDED, same version is already published
merida1macOS 10.14.6 Mojave / x86_64  OK    OK    OK    OK  UNNEEDED, same version is already published
Package 151/2189HostnameOS / ArchINSTALLBUILDCHECKBUILD BIN
beer 1.3.0  (landing page)
Athena Chen
git_last_commit: 546601f
git_last_commit_date: 2022-11-01 11:26:26 -0400
nebbiolo1Linux (Ubuntu 22.04.1 LTS) / x86_64  OK    OK    OK  UNNEEDED, same version is already published
palomino3Windows Server 2022 Datacenter / x64  OK    OK    OK    OK  UNNEEDED, same version is already published
merida1macOS 10.14.6 Mojave / x86_64  OK    OK    OK    OK  UNNEEDED, same version is already published
Package 152/2189HostnameOS / ArchINSTALLBUILDCHECKBUILD BIN
benchdamic 1.5.2  (landing page)
Matteo Calgaro
git_last_commit: 224bcad
git_last_commit_date: 2022-11-21 11:52:14 -0400
nebbiolo1Linux (Ubuntu 22.04.1 LTS) / x86_64  OK    OK    OK  UNNEEDED, same version is already published
palomino3Windows Server 2022 Datacenter / x64  OK    OK    OK    OK  UNNEEDED, same version is already published
merida1macOS 10.14.6 Mojave / x86_64  OK    TIMEOUT  skippedskipped
Package 153/2189HostnameOS / ArchINSTALLBUILDCHECKBUILD BIN
BG2 0.99.2  (landing page)
Jacob Williams
git_last_commit: 1050786
git_last_commit_date: 2023-01-08 13:07:39 -0400
nebbiolo1Linux (Ubuntu 22.04.1 LTS) / x86_64  OK    OK    OK  UNNEEDED, same version is already published
palomino3Windows Server 2022 Datacenter / x64  OK    OK    OK    OK  UNNEEDED, same version is already published
merida1macOS 10.14.6 Mojave / x86_64  OK    OK    OK    OK  UNNEEDED, same version is already published
Package 154/2189HostnameOS / ArchINSTALLBUILDCHECKBUILD BIN
BgeeCall 1.15.0  (landing page)
Julien Wollbrett
git_last_commit: 20b38ca
git_last_commit_date: 2022-11-01 11:21:10 -0400
nebbiolo1Linux (Ubuntu 22.04.1 LTS) / x86_64  OK    OK    OK  UNNEEDED, same version is already published
palomino3Windows Server 2022 Datacenter / x64  OK    OK    OK    OK  UNNEEDED, same version is already published
merida1macOS 10.14.6 Mojave / x86_64  OK    OK    OK    OK  UNNEEDED, same version is already published
Package 155/2189HostnameOS / ArchINSTALLBUILDCHECKBUILD BIN
BgeeDB 2.25.0  (landing page)
Julien Wollbrett , Julien Roux , Andrea Komljenovic , Frederic Bastian
git_last_commit: 4fa7597
git_last_commit_date: 2022-11-01 11:13:33 -0400
nebbiolo1Linux (Ubuntu 22.04.1 LTS) / x86_64  OK    OK    OK  UNNEEDED, same version is already published
palomino3Windows Server 2022 Datacenter / x64  OK    OK    OK    OK  UNNEEDED, same version is already published
merida1macOS 10.14.6 Mojave / x86_64  OK    ERROR  skippedskipped
Package 156/2189HostnameOS / ArchINSTALLBUILDCHECKBUILD BIN
BGmix 1.59.0  (landing page)
Alex Lewin
git_last_commit: 2b862d8
git_last_commit_date: 2022-11-01 11:03:39 -0400
nebbiolo1Linux (Ubuntu 22.04.1 LTS) / x86_64  ERROR    ERROR  skipped
palomino3Windows Server 2022 Datacenter / x64... NOT SUPPORTED ...
merida1macOS 10.14.6 Mojave / x86_64  ERROR    ERROR  skippedskipped
Package 157/2189HostnameOS / ArchINSTALLBUILDCHECKBUILD BIN
bgx 1.65.1  (landing page)
Ernest Turro
git_last_commit: 04609bc
git_last_commit_date: 2023-02-23 11:29:52 -0400
nebbiolo1Linux (Ubuntu 22.04.1 LTS) / x86_64  OK    OK    OK  UNNEEDED, same version is already published
palomino3Windows Server 2022 Datacenter / x64  OK    OK    OK    OK  UNNEEDED, same version is already published
merida1macOS 10.14.6 Mojave / x86_64  ERROR    ERROR  skippedskipped
Package 158/2189HostnameOS / ArchINSTALLBUILDCHECKBUILD BIN
BHC 1.51.0  (landing page)
Rich Savage
git_last_commit: 314c29c
git_last_commit_date: 2022-11-01 11:05:08 -0400
nebbiolo1Linux (Ubuntu 22.04.1 LTS) / x86_64  OK    OK    OK  UNNEEDED, same version is already published
palomino3Windows Server 2022 Datacenter / x64  OK    OK    OK    OK  UNNEEDED, same version is already published
merida1macOS 10.14.6 Mojave / x86_64  ERROR    ERROR  skippedskipped
Package 159/2189HostnameOS / ArchINSTALLBUILDCHECKBUILD BIN
BicARE 1.57.0  (landing page)
Pierre Gestraud
git_last_commit: 89de99f
git_last_commit_date: 2022-11-01 11:04:12 -0400
nebbiolo1Linux (Ubuntu 22.04.1 LTS) / x86_64  OK    OK    OK  UNNEEDED, same version is already published
palomino3Windows Server 2022 Datacenter / x64  OK    OK    OK    OK  UNNEEDED, same version is already published
merida1macOS 10.14.6 Mojave / x86_64  OK    OK    OK    OK  UNNEEDED, same version is already published
Package 160/2189HostnameOS / ArchINSTALLBUILDCHECKBUILD BIN
BiFET 1.19.0  (landing page)
Ahrim Youn
git_last_commit: 9d1948a
git_last_commit_date: 2022-11-01 11:16:59 -0400
nebbiolo1Linux (Ubuntu 22.04.1 LTS) / x86_64  OK    OK    OK  UNNEEDED, same version is already published
palomino3Windows Server 2022 Datacenter / x64  OK    OK    OK    OK  UNNEEDED, same version is already published
merida1macOS 10.14.6 Mojave / x86_64  OK    OK    OK    OK  UNNEEDED, same version is already published
Package 161/2189HostnameOS / ArchINSTALLBUILDCHECKBUILD BIN
BiGGR 1.35.0  (landing page)
Anand K. Gavai
git_last_commit: 46348b7
git_last_commit_date: 2022-11-01 11:08:39 -0400
nebbiolo1Linux (Ubuntu 22.04.1 LTS) / x86_64  OK    OK    OK  UNNEEDED, same version is already published
palomino3Windows Server 2022 Datacenter / x64  OK    OK    OK    OK  UNNEEDED, same version is already published
merida1macOS 10.14.6 Mojave / x86_64... NOT SUPPORTED ...
Package 162/2189HostnameOS / ArchINSTALLBUILDCHECKBUILD BIN
bigmelon 1.25.1  (landing page)
Tyler J. Gorrie-Stone
git_last_commit: 83428d7
git_last_commit_date: 2022-12-13 06:26:43 -0400
nebbiolo1Linux (Ubuntu 22.04.1 LTS) / x86_64  OK    OK    OK  UNNEEDED, same version is already published
palomino3Windows Server 2022 Datacenter / x64  OK    OK    OK    OK  UNNEEDED, same version is already published
merida1macOS 10.14.6 Mojave / x86_64  OK    OK    OK    OK  UNNEEDED, same version is already published
Package 163/2189HostnameOS / ArchINSTALLBUILDCHECKBUILD BIN
bigPint 1.15.0  (landing page)
Lindsay Rutter
git_last_commit: 8f9b25f
git_last_commit_date: 2022-11-01 11:19:09 -0400
nebbiolo1Linux (Ubuntu 22.04.1 LTS) / x86_64  OK    OK    ERROR  
palomino3Windows Server 2022 Datacenter / x64  OK    OK    ERROR    OK  
merida1macOS 10.14.6 Mojave / x86_64  OK    OK    ERROR    OK  
Package 164/2189HostnameOS / ArchINSTALLBUILDCHECKBUILD BIN
BindingSiteFinder 1.5.0  (landing page)
Mirko Brüggemann
git_last_commit: 892dc6b
git_last_commit_date: 2022-11-01 11:25:21 -0400
nebbiolo1Linux (Ubuntu 22.04.1 LTS) / x86_64  OK    OK    OK  UNNEEDED, same version is already published
palomino3Windows Server 2022 Datacenter / x64  OK    OK    OK    OK  UNNEEDED, same version is already published
merida1macOS 10.14.6 Mojave / x86_64  OK    OK    OK    OK  UNNEEDED, same version is already published
Package 165/2189HostnameOS / ArchINSTALLBUILDCHECKBUILD BIN
bioassayR 1.37.0  (landing page)
Daniela Cassol
git_last_commit: a332137
git_last_commit_date: 2022-11-01 11:08:47 -0400
nebbiolo1Linux (Ubuntu 22.04.1 LTS) / x86_64  OK    OK    OK  UNNEEDED, same version is already published
palomino3Windows Server 2022 Datacenter / x64  OK    OK    OK    OK  UNNEEDED, same version is already published
merida1macOS 10.14.6 Mojave / x86_64  OK    OK    OK    OK  UNNEEDED, same version is already published
Package 166/2189HostnameOS / ArchINSTALLBUILDCHECKBUILD BIN
Biobase 2.59.0  (landing page)
Bioconductor Package Maintainer
git_last_commit: 8c1bcf1
git_last_commit_date: 2022-11-01 10:34:43 -0400
nebbiolo1Linux (Ubuntu 22.04.1 LTS) / x86_64  OK    OK    OK  UNNEEDED, same version is already published
palomino3Windows Server 2022 Datacenter / x64  OK    OK    OK    OK  UNNEEDED, same version is already published
merida1macOS 10.14.6 Mojave / x86_64  OK    OK    OK    OK  UNNEEDED, same version is already published
Package 167/2189HostnameOS / ArchINSTALLBUILDCHECKBUILD BIN
biobroom 1.31.0  (landing page)
John D. Storey and Andrew J. Bass
git_last_commit: a5188cc
git_last_commit_date: 2022-11-20 15:34:36 -0400
nebbiolo1Linux (Ubuntu 22.04.1 LTS) / x86_64  OK    OK    WARNINGS  UNNEEDED, same version is already published
palomino3Windows Server 2022 Datacenter / x64  OK    OK    WARNINGS    OK  UNNEEDED, same version is already published
merida1macOS 10.14.6 Mojave / x86_64  OK    OK    WARNINGS    OK  UNNEEDED, same version is already published
Package 168/2189HostnameOS / ArchINSTALLBUILDCHECKBUILD BIN
biobtreeR 1.11.0  (landing page)
Tamer Gur
git_last_commit: 51371ce
git_last_commit_date: 2022-11-01 11:21:06 -0400
nebbiolo1Linux (Ubuntu 22.04.1 LTS) / x86_64  OK    OK    OK  UNNEEDED, same version is already published
palomino3Windows Server 2022 Datacenter / x64  OK    OK    OK    OK  UNNEEDED, same version is already published
merida1macOS 10.14.6 Mojave / x86_64  OK    OK    OK    OK  UNNEEDED, same version is already published
Package 169/2189HostnameOS / ArchINSTALLBUILDCHECKBUILD BIN
bioCancer 1.27.0  (landing page)
Karim Mezhoud
git_last_commit: 2871292
git_last_commit_date: 2022-11-01 11:13:47 -0400
nebbiolo1Linux (Ubuntu 22.04.1 LTS) / x86_64  OK    OK    OK  UNNEEDED, same version is already published
palomino3Windows Server 2022 Datacenter / x64  OK    OK    OK    OK  UNNEEDED, same version is already published
merida1macOS 10.14.6 Mojave / x86_64  OK    OK    OK    OK  UNNEEDED, same version is already published
Package 170/2189HostnameOS / ArchINSTALLBUILDCHECKBUILD BIN
BiocBaseUtils 1.1.0  (landing page)
Marcel Ramos
git_last_commit: 56336d5
git_last_commit_date: 2022-11-01 11:27:06 -0400
nebbiolo1Linux (Ubuntu 22.04.1 LTS) / x86_64  OK    OK    OK  UNNEEDED, same version is already published
palomino3Windows Server 2022 Datacenter / x64  OK    OK    OK    OK  UNNEEDED, same version is already published
merida1macOS 10.14.6 Mojave / x86_64  OK    OK    OK    OK  UNNEEDED, same version is already published
Package 171/2189HostnameOS / ArchINSTALLBUILDCHECKBUILD BIN
BiocCheck 1.35.13  (landing page)
Marcel Ramos
git_last_commit: 02af718
git_last_commit_date: 2023-03-03 13:30:57 -0400
nebbiolo1Linux (Ubuntu 22.04.1 LTS) / x86_64  OK    OK    OK  UNNEEDED, same version is already published
palomino3Windows Server 2022 Datacenter / x64  OK    OK    OK    OK  UNNEEDED, same version is already published
merida1macOS 10.14.6 Mojave / x86_64  OK    OK    OK    OK  UNNEEDED, same version is already published
Package 172/2189HostnameOS / ArchINSTALLBUILDCHECKBUILD BIN
BiocDockerManager 1.11.1  (landing page)
Bioconductor Package Maintainer
git_last_commit: 8f5d41f
git_last_commit_date: 2023-03-13 15:56:33 -0400
nebbiolo1Linux (Ubuntu 22.04.1 LTS) / x86_64  OK    OK    ERROR  
palomino3Windows Server 2022 Datacenter / x64  OK    OK    ERROR    OK  
merida1macOS 10.14.6 Mojave / x86_64  OK    OK    ERROR    OK  
Package 173/2189HostnameOS / ArchINSTALLBUILDCHECKBUILD BIN
BiocFHIR 1.1.5  (landing page)
Vincent Carey
git_last_commit: 10f9d06
git_last_commit_date: 2022-11-29 09:48:55 -0400
nebbiolo1Linux (Ubuntu 22.04.1 LTS) / x86_64  OK    OK    OK  UNNEEDED, same version is already published
palomino3Windows Server 2022 Datacenter / x64  OK    OK    OK    OK  UNNEEDED, same version is already published
merida1macOS 10.14.6 Mojave / x86_64  OK    OK    OK    OK  UNNEEDED, same version is already published
Package 174/2189HostnameOS / ArchINSTALLBUILDCHECKBUILD BIN
BiocFileCache 2.7.2  (landing page)
Lori Shepherd
git_last_commit: b8db74a
git_last_commit_date: 2023-02-17 07:35:45 -0400
nebbiolo1Linux (Ubuntu 22.04.1 LTS) / x86_64  OK    ERROR  skipped
palomino3Windows Server 2022 Datacenter / x64  OK    ERROR  skippedskipped
merida1macOS 10.14.6 Mojave / x86_64  OK    ERROR  skippedskipped
Package 175/2189HostnameOS / ArchINSTALLBUILDCHECKBUILD BIN
BiocGenerics 0.45.2  (landing page)
Hervé Pagès
git_last_commit: c3687bb
git_last_commit_date: 2023-03-14 15:02:42 -0400
nebbiolo1Linux (Ubuntu 22.04.1 LTS) / x86_64  OK    OK    WARNINGS  UNNEEDED, same version is already published
palomino3Windows Server 2022 Datacenter / x64  OK    OK    WARNINGS    OK  UNNEEDED, same version is already published
merida1macOS 10.14.6 Mojave / x86_64  OK    OK    WARNINGS    OK  UNNEEDED, same version is already published
Package 176/2189HostnameOS / ArchINSTALLBUILDCHECKBUILD BIN
biocGraph 1.61.0  (landing page)
Florian Hahne
git_last_commit: eed50d0
git_last_commit_date: 2022-11-01 11:03:31 -0400
nebbiolo1Linux (Ubuntu 22.04.1 LTS) / x86_64  OK    OK    OK  UNNEEDED, same version is already published
palomino3Windows Server 2022 Datacenter / x64  OK    OK    OK    OK  UNNEEDED, same version is already published
merida1macOS 10.14.6 Mojave / x86_64  OK    OK    OK    OK  UNNEEDED, same version is already published
Package 177/2189HostnameOS / ArchINSTALLBUILDCHECKBUILD BIN
BiocHubsShiny 0.99.12  (landing page)
Marcel Ramos
git_last_commit: fa36be4
git_last_commit_date: 2023-02-24 16:58:19 -0400
nebbiolo1Linux (Ubuntu 22.04.1 LTS) / x86_64  OK    OK    OK  UNNEEDED, same version is already published
palomino3Windows Server 2022 Datacenter / x64  OK    OK    OK    OK  UNNEEDED, same version is already published
merida1macOS 10.14.6 Mojave / x86_64  OK    OK    OK    OK  UNNEEDED, same version is already published
Package 178/2189HostnameOS / ArchINSTALLBUILDCHECKBUILD BIN
BiocIO 1.9.2  (landing page)
Marcel Ramos
git_last_commit: 3c0bf87
git_last_commit_date: 2023-01-18 16:05:49 -0400
nebbiolo1Linux (Ubuntu 22.04.1 LTS) / x86_64  OK    OK    OK  UNNEEDED, same version is already published
palomino3Windows Server 2022 Datacenter / x64  OK    OK    OK    OK  UNNEEDED, same version is already published
merida1macOS 10.14.6 Mojave / x86_64  OK    OK    OK    OK  UNNEEDED, same version is already published
Package 179/2189HostnameOS / ArchINSTALLBUILDCHECKBUILD BIN
BiocNeighbors 1.17.1  (landing page)
Aaron Lun
git_last_commit: 8a58137
git_last_commit_date: 2022-11-08 14:21:31 -0400
nebbiolo1Linux (Ubuntu 22.04.1 LTS) / x86_64  OK    OK    WARNINGS  UNNEEDED, same version is already published
palomino3Windows Server 2022 Datacenter / x64  OK    OK    WARNINGS    OK  UNNEEDED, same version is already published
merida1macOS 10.14.6 Mojave / x86_64  OK    OK    WARNINGS    OK  UNNEEDED, same version is already published
Package 180/2189HostnameOS / ArchINSTALLBUILDCHECKBUILD BIN
BiocOncoTK 1.19.3  (landing page)
VJ Carey
git_last_commit: 710b811
git_last_commit_date: 2023-03-18 05:54:03 -0400
nebbiolo1Linux (Ubuntu 22.04.1 LTS) / x86_64  OK    OK    WARNINGS  UNNEEDED, same version is already published
palomino3Windows Server 2022 Datacenter / x64  OK    OK    WARNINGS    OK  UNNEEDED, same version is already published
merida1macOS 10.14.6 Mojave / x86_64  OK    OK    WARNINGS    OK  UNNEEDED, same version is already published
Package 181/2189HostnameOS / ArchINSTALLBUILDCHECKBUILD BIN
BioCor 1.23.0  (landing page)
Lluís Revilla Sancho
git_last_commit: 271726a
git_last_commit_date: 2022-11-01 11:15:22 -0400
nebbiolo1Linux (Ubuntu 22.04.1 LTS) / x86_64  OK    OK    OK  UNNEEDED, same version is already published
palomino3Windows Server 2022 Datacenter / x64  OK    OK    OK    OK  UNNEEDED, same version is already published
merida1macOS 10.14.6 Mojave / x86_64  OK    OK    OK    OK  UNNEEDED, same version is already published
Package 182/2189HostnameOS / ArchINSTALLBUILDCHECKBUILD BIN
BiocParallel 1.33.10  (landing page)
Martin Morgan
git_last_commit: 40510e4
git_last_commit_date: 2023-03-17 12:57:44 -0400
nebbiolo1Linux (Ubuntu 22.04.1 LTS) / x86_64  OK    OK    OK  UNNEEDED, same version is already published
palomino3Windows Server 2022 Datacenter / x64  OK    OK    OK    OK  UNNEEDED, same version is already published
merida1macOS 10.14.6 Mojave / x86_64  OK    OK    OK    OK  UNNEEDED, same version is already published
Package 183/2189HostnameOS / ArchINSTALLBUILDCHECKBUILD BIN
BiocPkgTools 1.17.10  (landing page)
Sean Davis
git_last_commit: 8d1470a
git_last_commit_date: 2023-02-16 12:53:15 -0400
nebbiolo1Linux (Ubuntu 22.04.1 LTS) / x86_64  OK    OK    WARNINGS  UNNEEDED, same version is already published
palomino3Windows Server 2022 Datacenter / x64  OK    OK    WARNINGS    OK  UNNEEDED, same version is already published
merida1macOS 10.14.6 Mojave / x86_64  OK    OK    WARNINGS    OK  UNNEEDED, same version is already published
Package 184/2189HostnameOS / ArchINSTALLBUILDCHECKBUILD BIN
BiocSet 1.13.1  (landing page)
Kayla Morrell
git_last_commit: b839121
git_last_commit_date: 2022-12-30 09:49:20 -0400
nebbiolo1Linux (Ubuntu 22.04.1 LTS) / x86_64  OK    OK    OK  UNNEEDED, same version is already published
palomino3Windows Server 2022 Datacenter / x64  OK    OK    OK    OK  UNNEEDED, same version is already published
merida1macOS 10.14.6 Mojave / x86_64  OK    OK    OK    OK  UNNEEDED, same version is already published
Package 185/2189HostnameOS / ArchINSTALLBUILDCHECKBUILD BIN
BiocSingular 1.15.0  (landing page)
Aaron Lun
git_last_commit: 02c5f1f
git_last_commit_date: 2022-11-01 11:19:16 -0400
nebbiolo1Linux (Ubuntu 22.04.1 LTS) / x86_64  OK    OK    WARNINGS  UNNEEDED, same version is already published
palomino3Windows Server 2022 Datacenter / x64  OK    OK    WARNINGS    OK  UNNEEDED, same version is already published
merida1macOS 10.14.6 Mojave / x86_64  OK    OK    WARNINGS    OK  UNNEEDED, same version is already published
Package 186/2189HostnameOS / ArchINSTALLBUILDCHECKBUILD BIN
BiocSklearn 1.21.1  (landing page)
Vince Carey
git_last_commit: 3fca394
git_last_commit_date: 2022-12-26 07:06:25 -0400
nebbiolo1Linux (Ubuntu 22.04.1 LTS) / x86_64  OK    OK    OK  UNNEEDED, same version is already published
palomino3Windows Server 2022 Datacenter / x64  OK    OK    OK    OK  UNNEEDED, same version is already published
merida1macOS 10.14.6 Mojave / x86_64  OK    OK    OK    OK  UNNEEDED, same version is already published
Package 187/2189HostnameOS / ArchINSTALLBUILDCHECKBUILD BIN
BiocStyle 2.27.1  (landing page)
Bioconductor Package
git_last_commit: d4ee8a4
git_last_commit_date: 2023-01-19 09:16:16 -0400
nebbiolo1Linux (Ubuntu 22.04.1 LTS) / x86_64  OK    OK    OK  UNNEEDED, same version is already published
palomino3Windows Server 2022 Datacenter / x64  OK    OK    OK    OK  UNNEEDED, same version is already published
merida1macOS 10.14.6 Mojave / x86_64  OK    OK    OK    OK  UNNEEDED, same version is already published
Package 188/2189HostnameOS / ArchINSTALLBUILDCHECKBUILD BIN
biocthis 1.9.3  (landing page)
Leonardo Collado-Torres
git_last_commit: 910b96b
git_last_commit_date: 2023-03-10 16:35:49 -0400
nebbiolo1Linux (Ubuntu 22.04.1 LTS) / x86_64  OK    OK    OK  UNNEEDED, same version is already published
palomino3Windows Server 2022 Datacenter / x64  OK    OK    OK    OK  UNNEEDED, same version is already published
merida1macOS 10.14.6 Mojave / x86_64  OK    OK    OK    OK  UNNEEDED, same version is already published
Package 189/2189HostnameOS / ArchINSTALLBUILDCHECKBUILD BIN
BiocVersion 3.17.1  (landing page)
Bioconductor Package Maintainer
git_last_commit: a2d0c4c
git_last_commit_date: 2022-11-02 14:23:17 -0400
nebbiolo1Linux (Ubuntu 22.04.1 LTS) / x86_64  OK    OK    OK  UNNEEDED, same version is already published
palomino3Windows Server 2022 Datacenter / x64  OK    OK    OK    OK  UNNEEDED, same version is already published
merida1macOS 10.14.6 Mojave / x86_64  OK    OK    OK    OK  UNNEEDED, same version is already published
Package 190/2189HostnameOS / ArchINSTALLBUILDCHECKBUILD BIN
biocViews 1.67.3  (landing page)
Bioconductor Package Maintainer
git_last_commit: 58eda22
git_last_commit_date: 2023-03-06 08:38:32 -0400
nebbiolo1Linux (Ubuntu 22.04.1 LTS) / x86_64  OK    OK    OK  UNNEEDED, same version is already published
palomino3Windows Server 2022 Datacenter / x64  OK    OK    OK    OK  UNNEEDED, same version is already published
merida1macOS 10.14.6 Mojave / x86_64  OK    OK    OK    OK  UNNEEDED, same version is already published
Package 191/2189HostnameOS / ArchINSTALLBUILDCHECKBUILD BIN
BiocWorkflowTools 1.25.0  (landing page)
Mike Smith
git_last_commit: 5e8421e
git_last_commit_date: 2022-11-01 11:14:24 -0400
nebbiolo1Linux (Ubuntu 22.04.1 LTS) / x86_64  OK    OK    OK  UNNEEDED, same version is already published
palomino3Windows Server 2022 Datacenter / x64  OK    OK    OK    OK  UNNEEDED, same version is already published
merida1macOS 10.14.6 Mojave / x86_64  OK    OK    OK    OK  UNNEEDED, same version is already published
Package 192/2189HostnameOS / ArchINSTALLBUILDCHECKBUILD BIN
biodb 1.7.0  (landing page)
Pierrick Roger
git_last_commit: 0ca17ba
git_last_commit_date: 2022-11-01 11:24:53 -0400
nebbiolo1Linux (Ubuntu 22.04.1 LTS) / x86_64  OK    OK    WARNINGS  UNNEEDED, same version is already published
palomino3Windows Server 2022 Datacenter / x64  OK    OK    WARNINGS    OK  UNNEEDED, same version is already published
merida1macOS 10.14.6 Mojave / x86_64  OK    OK    OK    OK  UNNEEDED, same version is already published
Package 193/2189HostnameOS / ArchINSTALLBUILDCHECKBUILD BIN
biodbChebi 1.5.0  (landing page)
Pierrick Roger
git_last_commit: b300c94
git_last_commit_date: 2022-11-01 11:25:43 -0400
nebbiolo1Linux (Ubuntu 22.04.1 LTS) / x86_64  OK    OK    OK  UNNEEDED, same version is already published
palomino3Windows Server 2022 Datacenter / x64  OK    OK    OK    OK  UNNEEDED, same version is already published
merida1macOS 10.14.6 Mojave / x86_64  OK    OK    OK    OK  UNNEEDED, same version is already published
Package 194/2189HostnameOS / ArchINSTALLBUILDCHECKBUILD BIN
biodbExpasy 1.3.0  (landing page)
Pierrick Roger
git_last_commit: a76abde
git_last_commit_date: 2022-11-01 11:26:41 -0400
nebbiolo1Linux (Ubuntu 22.04.1 LTS) / x86_64  OK    OK    OK  UNNEEDED, same version is already published
palomino3Windows Server 2022 Datacenter / x64  OK    OK    OK    OK  UNNEEDED, same version is already published
merida1macOS 10.14.6 Mojave / x86_64  OK    OK    OK    OK  UNNEEDED, same version is already published
Package 195/2189HostnameOS / ArchINSTALLBUILDCHECKBUILD BIN
biodbHmdb 1.5.0  (landing page)
Pierrick Roger
git_last_commit: e3ce6ec
git_last_commit_date: 2022-11-01 11:26:07 -0400
nebbiolo1Linux (Ubuntu 22.04.1 LTS) / x86_64  OK    OK    OK  UNNEEDED, same version is already published
palomino3Windows Server 2022 Datacenter / x64  OK    OK    OK    OK  UNNEEDED, same version is already published
merida1macOS 10.14.6 Mojave / x86_64  OK    OK    OK    OK  UNNEEDED, same version is already published
Package 196/2189HostnameOS / ArchINSTALLBUILDCHECKBUILD BIN
biodbKegg 1.5.0  (landing page)
Pierrick Roger
git_last_commit: 4335341
git_last_commit_date: 2022-11-01 11:25:59 -0400
nebbiolo1Linux (Ubuntu 22.04.1 LTS) / x86_64  OK    OK    OK  UNNEEDED, same version is already published
palomino3Windows Server 2022 Datacenter / x64  OK    OK    OK    OK  UNNEEDED, same version is already published
merida1macOS 10.14.6 Mojave / x86_64  OK    ERROR  skippedskipped
Package 197/2189HostnameOS / ArchINSTALLBUILDCHECKBUILD BIN
biodbLipidmaps 1.5.0  (landing page)
Pierrick Roger
git_last_commit: f341783
git_last_commit_date: 2022-12-01 07:24:56 -0400
nebbiolo1Linux (Ubuntu 22.04.1 LTS) / x86_64  OK    OK    OK  UNNEEDED, same version is already published
palomino3Windows Server 2022 Datacenter / x64  OK    OK    OK    OK  UNNEEDED, same version is already published
merida1macOS 10.14.6 Mojave / x86_64  OK    OK    OK    OK  UNNEEDED, same version is already published
Package 198/2189HostnameOS / ArchINSTALLBUILDCHECKBUILD BIN
biodbMirbase 1.3.0  (landing page)
Pierrick Roger
git_last_commit: a15a9b6
git_last_commit_date: 2022-11-01 11:26:39 -0400
nebbiolo1Linux (Ubuntu 22.04.1 LTS) / x86_64  OK    OK    OK  UNNEEDED, same version is already published
palomino3Windows Server 2022 Datacenter / x64  OK    OK    OK    OK  UNNEEDED, same version is already published
merida1macOS 10.14.6 Mojave / x86_64  OK    OK    OK    OK  UNNEEDED, same version is already published
Package 199/2189HostnameOS / ArchINSTALLBUILDCHECKBUILD BIN
biodbNcbi 1.3.0  (landing page)
Pierrick Roger
git_last_commit: 71c706d
git_last_commit_date: 2022-11-01 11:26:40 -0400
nebbiolo1Linux (Ubuntu 22.04.1 LTS) / x86_64  OK    OK    OK  UNNEEDED, same version is already published
palomino3Windows Server 2022 Datacenter / x64  OK    OK    OK    OK  UNNEEDED, same version is already published
merida1macOS 10.14.6 Mojave / x86_64  OK    OK    OK    OK  UNNEEDED, same version is already published
Package 200/2189HostnameOS / ArchINSTALLBUILDCHECKBUILD BIN
biodbNci 1.3.0  (landing page)
Pierrick Roger
git_last_commit: d00ad69
git_last_commit_date: 2022-11-01 11:26:38 -0400
nebbiolo1Linux (Ubuntu 22.04.1 LTS) / x86_64  OK    OK    OK  UNNEEDED, same version is already published
palomino3Windows Server 2022 Datacenter / x64  OK    OK    OK    OK  UNNEEDED, same version is already published
merida1macOS 10.14.6 Mojave / x86_64  OK    OK    OK    OK  UNNEEDED, same version is already published
Package 201/2189HostnameOS / ArchINSTALLBUILDCHECKBUILD BIN
biodbUniprot 1.5.0  (landing page)
Pierrick Roger
git_last_commit: 4c8d6d4
git_last_commit_date: 2022-11-01 11:25:53 -0400
nebbiolo1Linux (Ubuntu 22.04.1 LTS) / x86_64  OK    OK    OK  UNNEEDED, same version is already published
palomino3Windows Server 2022 Datacenter / x64  OK    OK    OK    OK  UNNEEDED, same version is already published
merida1macOS 10.14.6 Mojave / x86_64  OK    OK    OK    OK  UNNEEDED, same version is already published
Package 202/2189HostnameOS / ArchINSTALLBUILDCHECKBUILD BIN
bioDist 1.71.0  (landing page)
Bioconductor Package Maintainer
git_last_commit: 636eabd
git_last_commit_date: 2022-11-01 10:38:26 -0400
nebbiolo1Linux (Ubuntu 22.04.1 LTS) / x86_64  OK    OK    OK  UNNEEDED, same version is already published
palomino3Windows Server 2022 Datacenter / x64  OK    OK    OK    OK  UNNEEDED, same version is already published
merida1macOS 10.14.6 Mojave / x86_64  OK    OK    OK    OK  UNNEEDED, same version is already published
Package 203/2189HostnameOS / ArchINSTALLBUILDCHECKBUILD BIN
biomaRt 2.55.1  (landing page)
Mike Smith
git_last_commit: ef1671f
git_last_commit_date: 2023-03-16 18:15:18 -0400
nebbiolo1Linux (Ubuntu 22.04.1 LTS) / x86_64  OK    OK    OK  UNNEEDED, same version is already published
palomino3Windows Server 2022 Datacenter / x64  OK    OK    OK    OK  YES
merida1macOS 10.14.6 Mojave / x86_64  OK    OK    OK    OK  UNNEEDED, same version is already published
Package 204/2189HostnameOS / ArchINSTALLBUILDCHECKBUILD BIN
biomformat 1.27.0  (landing page)
Paul J. McMurdie
git_last_commit: e8a0972
git_last_commit_date: 2022-11-01 11:12:36 -0400
nebbiolo1Linux (Ubuntu 22.04.1 LTS) / x86_64  OK    OK    WARNINGS  UNNEEDED, same version is already published
palomino3Windows Server 2022 Datacenter / x64  OK    OK    WARNINGS    OK  UNNEEDED, same version is already published
merida1macOS 10.14.6 Mojave / x86_64  OK    OK    WARNINGS    OK  UNNEEDED, same version is already published
Package 205/2189HostnameOS / ArchINSTALLBUILDCHECKBUILD BIN
BioMM 1.15.0  (landing page)
Junfang Chen
git_last_commit: df2cd53
git_last_commit_date: 2022-11-01 11:19:15 -0400
nebbiolo1Linux (Ubuntu 22.04.1 LTS) / x86_64  OK    ERROR  skipped
palomino3Windows Server 2022 Datacenter / x64  OK    ERROR  skippedskipped
merida1macOS 10.14.6 Mojave / x86_64  OK    ERROR  skippedskipped
Package 206/2189HostnameOS / ArchINSTALLBUILDCHECKBUILD BIN
BioMVCClass 1.67.0  (landing page)
Elizabeth Whalen
git_last_commit: 3f81a2a
git_last_commit_date: 2022-11-01 10:41:56 -0400
nebbiolo1Linux (Ubuntu 22.04.1 LTS) / x86_64  OK    OK    OK  UNNEEDED, same version is already published
palomino3Windows Server 2022 Datacenter / x64  OK    OK    OK    OK  UNNEEDED, same version is already published
merida1macOS 10.14.6 Mojave / x86_64  OK    OK    OK    OK  UNNEEDED, same version is already published
Package 207/2189HostnameOS / ArchINSTALLBUILDCHECKBUILD BIN
biomvRCNS 1.39.0  (landing page)
Yang Du
git_last_commit: 7e36203
git_last_commit_date: 2022-11-01 11:07:53 -0400
nebbiolo1Linux (Ubuntu 22.04.1 LTS) / x86_64  ERROR    ERROR  skipped
palomino3Windows Server 2022 Datacenter / x64  ERROR    ERROR