Back to Multiple platform build/check report for BioC 3.16
ABCDEFGHIJKLMNOPQR[S]TUVWXYZ

This page was generated on 2022-07-04 11:08:18 -0400 (Mon, 04 Jul 2022).

HostnameOSArch (*)R versionInstalled pkgs
nebbiolo2Linux (Ubuntu 20.04.4 LTS)x86_644.2.0 Patched (2022-06-02 r82447) -- "Vigorous Calisthenics" 4343
palomino4Windows Server 2022 Datacenterx644.2.0 Patched (2022-06-02 r82447 ucrt) -- "Vigorous Calisthenics" 4148
lconwaymacOS 12.2.1 Montereyx86_644.2.0 Patched (2022-05-29 r82424) -- "Vigorous Calisthenics" 4160
Click on any hostname to see more info about the system (e.g. compilers)      (*) as reported by 'uname -p', except on Windows and Mac OS X

CHECK results for spatialHeatmap on lconway


To the developers/maintainers of the spatialHeatmap package:
- Please allow up to 24 hours (and sometimes 48 hours) for your latest push to git@git.bioconductor.org:packages/spatialHeatmap.git to
reflect on this report. See How and When does the builder pull? When will my changes propagate? for more information.
- Make sure to use the following settings in order to reproduce any error or warning you see on this page.

raw results

Package 1880/2124HostnameOS / ArchINSTALLBUILDCHECKBUILD BIN
spatialHeatmap 2.3.0  (landing page)
Jianhai Zhang
Snapshot Date: 2022-07-03 14:00:03 -0400 (Sun, 03 Jul 2022)
git_url: https://git.bioconductor.org/packages/spatialHeatmap
git_branch: master
git_last_commit: 28c2c4f
git_last_commit_date: 2022-04-26 12:09:07 -0400 (Tue, 26 Apr 2022)
nebbiolo2Linux (Ubuntu 20.04.4 LTS) / x86_64  OK    OK    OK  UNNEEDED, same version is already published
palomino4Windows Server 2022 Datacenter / x64  OK    OK    OK    OK  UNNEEDED, same version is already published
lconwaymacOS 12.2.1 Monterey / x86_64  OK    OK    OK    OK  UNNEEDED, same version is already published

Summary

Package: spatialHeatmap
Version: 2.3.0
Command: /Library/Frameworks/R.framework/Resources/bin/R CMD check --install=check:spatialHeatmap.install-out.txt --library=/Library/Frameworks/R.framework/Resources/library --no-vignettes --timings spatialHeatmap_2.3.0.tar.gz
StartedAt: 2022-07-03 23:13:34 -0400 (Sun, 03 Jul 2022)
EndedAt: 2022-07-03 23:20:40 -0400 (Sun, 03 Jul 2022)
EllapsedTime: 426.5 seconds
RetCode: 0
Status:   OK  
CheckDir: spatialHeatmap.Rcheck
Warnings: 0

Command output

##############################################################################
##############################################################################
###
### Running command:
###
###   /Library/Frameworks/R.framework/Resources/bin/R CMD check --install=check:spatialHeatmap.install-out.txt --library=/Library/Frameworks/R.framework/Resources/library --no-vignettes --timings spatialHeatmap_2.3.0.tar.gz
###
##############################################################################
##############################################################################


* using log directory ‘/Users/biocbuild/bbs-3.16-bioc/meat/spatialHeatmap.Rcheck’
* using R version 4.2.0 Patched (2022-05-29 r82424)
* using platform: x86_64-apple-darwin17.0 (64-bit)
* using session charset: UTF-8
* using option ‘--no-vignettes’
* checking for file ‘spatialHeatmap/DESCRIPTION’ ... OK
* checking extension type ... Package
* this is package ‘spatialHeatmap’ version ‘2.3.0’
* package encoding: UTF-8
* checking package namespace information ... OK
* checking package dependencies ... OK
* checking if this is a source package ... OK
* checking if there is a namespace ... OK
* checking for hidden files and directories ... OK
* checking for portable file names ... OK
* checking for sufficient/correct file permissions ... OK
* checking whether package ‘spatialHeatmap’ can be installed ... OK
* checking installed package size ... NOTE
  installed size is 18.8Mb
  sub-directories of 1Mb or more:
    extdata  18.0Mb
* checking package directory ... OK
* checking ‘build’ directory ... OK
* checking DESCRIPTION meta-information ... OK
* checking top-level files ... OK
* checking for left-over files ... OK
* checking index information ... OK
* checking package subdirectories ... OK
* checking R files for non-ASCII characters ... OK
* checking R files for syntax errors ... OK
* checking whether the package can be loaded ... OK
* checking whether the package can be loaded with stated dependencies ... OK
* checking whether the package can be unloaded cleanly ... OK
* checking whether the namespace can be loaded with stated dependencies ... OK
* checking whether the namespace can be unloaded cleanly ... OK
* checking dependencies in R code ... OK
* checking S3 generic/method consistency ... OK
* checking replacement functions ... OK
* checking foreign function calls ... OK
* checking R code for possible problems ... OK
* checking Rd files ... OK
* checking Rd metadata ... OK
* checking Rd cross-references ... NOTE
Unknown package ‘BioParallel’ in Rd xrefs
* checking for missing documentation entries ... OK
* checking for code/documentation mismatches ... OK
* checking Rd \usage sections ... OK
* checking Rd contents ... OK
* checking for unstated dependencies in examples ... OK
* checking contents of ‘data’ directory ... OK
* checking data for non-ASCII characters ... OK
* checking data for ASCII and uncompressed saves ... OK
* checking files in ‘vignettes’ ... OK
* checking examples ... OK
Examples with CPU (user + system) or elapsed time > 5s
                         user system elapsed
spatial_hm             25.774  1.675  27.821
read_hdf5              12.159  0.777  12.991
write_hdf5             11.193  0.541  11.779
spatialHeatmap-package 10.168  0.746  11.098
* checking for unstated dependencies in ‘tests’ ... OK
* checking tests ...
  Running ‘runTests.R’
 OK
* checking for unstated dependencies in vignettes ... OK
* checking package vignettes in ‘inst/doc’ ... OK
* checking running R code from vignettes ... SKIPPED
* checking re-building of vignette outputs ... SKIPPED
* checking PDF version of manual ... OK
* DONE

Status: 2 NOTEs
See
  ‘/Users/biocbuild/bbs-3.16-bioc/meat/spatialHeatmap.Rcheck/00check.log’
for details.



Installation output

spatialHeatmap.Rcheck/00install.out

##############################################################################
##############################################################################
###
### Running command:
###
###   /Library/Frameworks/R.framework/Resources/bin/R CMD INSTALL spatialHeatmap
###
##############################################################################
##############################################################################


* installing to library ‘/Library/Frameworks/R.framework/Versions/4.2/Resources/library’
* installing *source* package ‘spatialHeatmap’ ...
** using staged installation
** R
** data
** inst
** byte-compile and prepare package for lazy loading
** help
*** installing help indices
** building package indices
** installing vignettes
** testing if installed package can be loaded from temporary location
** testing if installed package can be loaded from final location
** testing if installed package keeps a record of temporary installation path
* DONE (spatialHeatmap)

Tests output

spatialHeatmap.Rcheck/tests/runTests.Rout


R version 4.2.0 Patched (2022-05-29 r82424) -- "Vigorous Calisthenics"
Copyright (C) 2022 The R Foundation for Statistical Computing
Platform: x86_64-apple-darwin17.0 (64-bit)

R is free software and comes with ABSOLUTELY NO WARRANTY.
You are welcome to redistribute it under certain conditions.
Type 'license()' or 'licence()' for distribution details.

R is a collaborative project with many contributors.
Type 'contributors()' for more information and
'citation()' on how to cite R or R packages in publications.

Type 'demo()' for some demos, 'help()' for on-line help, or
'help.start()' for an HTML browser interface to help.
Type 'q()' to quit R.

> BiocGenerics:::testPackage("spatialHeatmap")

Loading required package: Biobase
Loading required package: BiocGenerics

Attaching package: 'BiocGenerics'

The following objects are masked from 'package:stats':

    IQR, mad, sd, var, xtabs

The following objects are masked from 'package:base':

    Filter, Find, Map, Position, Reduce, anyDuplicated, append,
    as.data.frame, basename, cbind, colnames, dirname, do.call,
    duplicated, eval, evalq, get, grep, grepl, intersect, is.unsorted,
    lapply, mapply, match, mget, order, paste, pmax, pmax.int, pmin,
    pmin.int, rank, rbind, rownames, sapply, setdiff, sort, table,
    tapply, union, unique, unsplit, which.max, which.min

Welcome to Bioconductor

    Vignettes contain introductory material; view with
    'browseVignettes()'. To cite Bioconductor, see
    'citation("Biobase")', and for packages 'citation("pkgname")'.

Loading required package: SummarizedExperiment
Loading required package: MatrixGenerics
Loading required package: matrixStats

Attaching package: 'matrixStats'

The following objects are masked from 'package:Biobase':

    anyMissing, rowMedians


Attaching package: 'MatrixGenerics'

The following objects are masked from 'package:matrixStats':

    colAlls, colAnyNAs, colAnys, colAvgsPerRowSet, colCollapse,
    colCounts, colCummaxs, colCummins, colCumprods, colCumsums,
    colDiffs, colIQRDiffs, colIQRs, colLogSumExps, colMadDiffs,
    colMads, colMaxs, colMeans2, colMedians, colMins, colOrderStats,
    colProds, colQuantiles, colRanges, colRanks, colSdDiffs, colSds,
    colSums2, colTabulates, colVarDiffs, colVars, colWeightedMads,
    colWeightedMeans, colWeightedMedians, colWeightedSds,
    colWeightedVars, rowAlls, rowAnyNAs, rowAnys, rowAvgsPerColSet,
    rowCollapse, rowCounts, rowCummaxs, rowCummins, rowCumprods,
    rowCumsums, rowDiffs, rowIQRDiffs, rowIQRs, rowLogSumExps,
    rowMadDiffs, rowMads, rowMaxs, rowMeans2, rowMedians, rowMins,
    rowOrderStats, rowProds, rowQuantiles, rowRanges, rowRanks,
    rowSdDiffs, rowSds, rowSums2, rowTabulates, rowVarDiffs, rowVars,
    rowWeightedMads, rowWeightedMeans, rowWeightedMedians,
    rowWeightedSds, rowWeightedVars

The following object is masked from 'package:Biobase':

    rowMedians

Loading required package: GenomicRanges
Loading required package: stats4
Loading required package: S4Vectors

Attaching package: 'S4Vectors'

The following objects are masked from 'package:base':

    I, expand.grid, unname

Loading required package: IRanges
Loading required package: GenomeInfoDb
Loading required package: limma

Attaching package: 'limma'

The following object is masked from 'package:BiocGenerics':

    plotMA

Loading required package: xml2
Loading required package: RCurl
Normalising: ESF 
   type 
"ratio" 
Syntactically valid column names are made! 
Syntactically valid column names are made! 
All values before filtering:
   Min. 1st Qu.  Median    Mean 3rd Qu.    Max. 
  0.000   0.000   0.287   2.442   4.268  19.991 
All coefficient of variances (CVs) before filtering:
     Min.   1st Qu.    Median      Mean   3rd Qu.      Max. 
0.0007742 0.0767696 0.4019655 0.6217813 0.9956157 2.0000000 
All values after filtering:
   Min. 1st Qu.  Median    Mean 3rd Qu.    Max. 
  0.000   2.654   4.976   4.779   6.451  14.695 
All coefficient of variances (CVs) after filtering:
   Min. 1st Qu.  Median    Mean 3rd Qu.    Max. 
 0.3001  0.3648  0.4637  0.5651  0.7392  1.1548 
Warning: variables of sample/condition are less than 5! 
..connectivity..
..matrix multiplication (system BLAS)..
..normalization..
..done.
 ..done.
 ..done.
Normalising: ESF 
   type 
"ratio" 
Syntactically valid column names are made! 
Syntactically valid column names are made! 
All values before filtering:
   Min. 1st Qu.  Median    Mean 3rd Qu.    Max. 
  0.000   0.000   0.287   2.442   4.268  19.991 
All coefficient of variances (CVs) before filtering:
     Min.   1st Qu.    Median      Mean   3rd Qu.      Max. 
0.0007742 0.0767696 0.4019655 0.6217813 0.9956157 2.0000000 
All values after filtering:
   Min. 1st Qu.  Median    Mean 3rd Qu.    Max. 
  0.000   2.654   4.976   4.779   6.451  14.695 
All coefficient of variances (CVs) after filtering:
   Min. 1st Qu.  Median    Mean 3rd Qu.    Max. 
 0.3001  0.3648  0.4637  0.5651  0.7392  1.1548 


RUNIT TEST PROTOCOL -- Sun Jul  3 23:20:28 2022 
*********************************************** 
Number of test functions: 2 
Number of errors: 0 
Number of failures: 0 

 
1 Test Suite : 
spatialHeatmap RUnit Tests - 2 test functions, 0 errors, 0 failures
Number of test functions: 2 
Number of errors: 0 
Number of failures: 0 
> 
> proc.time()
   user  system elapsed 
 27.645   1.171  28.894 

Example timings

spatialHeatmap.Rcheck/spatialHeatmap-Ex.timings

nameusersystemelapsed
aSVG.remote.repo0.0030.0020.005
adj_mod2.1500.0592.214
aggr_rep0.3800.0170.396
auc_bar0.1720.0070.180
auc_stat0.0620.0080.073
auc_violin0.0630.0070.070
cluster_cell1.8560.0551.914
coclus_opt0.0660.0070.075
coclus_roc0.9230.0450.971
cocluster1.6390.0311.674
com_factor0.0130.0010.014
custom_shiny0.0100.0040.013
deg.table0.0170.0010.019
deg_ovl1.1610.0241.188
desired_bulk_shiny000
edit_tar0.0040.0000.005
filter_cell1.7360.0541.794
filter_data0.7080.0320.742
filter_iter0.0670.0050.072
lis.deg.up.down0.0010.0010.003
matrix_hm1.3480.0971.456
mean_auc_bar0.0670.0050.074
network1.8820.0651.953
norm_data0.4990.0220.521
norm_multi0.7660.0360.802
plot_dim1.7320.0301.765
profile_gene0.1980.0060.206
random_para0.0090.0000.009
read_cache1.9950.0592.062
read_fr0.0040.0000.004
read_hdf512.159 0.77712.991
reduce_rep0.0020.0010.003
refine_cluster1.6030.0501.661
return_feature1.0690.0261.106
save_cache2.1140.0702.193
shiny_shm0.0000.0000.001
spatialHeatmap-package10.168 0.74611.098
spatial_enrich4.2260.2084.479
spatial_hm25.774 1.67527.821
spd_auc_violin0.0620.0020.064
sub_asg0.7270.0090.739
sub_data0.6320.0210.656
submatrix0.8700.0460.918
true_bulk0.5160.0160.534
update_feature0.0010.0010.002
write_hdf511.193 0.54111.779