Back to Multiple platform build/check report for BioC 3.19: simplified long |
|
This page was generated on 2024-03-28 11:38:51 -0400 (Thu, 28 Mar 2024).
Hostname | OS | Arch (*) | R version | Installed pkgs |
---|---|---|---|---|
nebbiolo1 | Linux (Ubuntu 22.04.3 LTS) | x86_64 | R Under development (unstable) (2024-03-18 r86148) -- "Unsuffered Consequences" | 4708 |
palomino3 | Windows Server 2022 Datacenter | x64 | R Under development (unstable) (2024-03-16 r86144 ucrt) -- "Unsuffered Consequences" | 4446 |
lconway | macOS 12.7.1 Monterey | x86_64 | R Under development (unstable) (2024-03-18 r86148) -- "Unsuffered Consequences" | 4471 |
kunpeng2 | Linux (openEuler 22.03 LTS-SP1) | aarch64 | R Under development (unstable) (2024-03-19 r86153) -- "Unsuffered Consequences" | 4426 |
Click on any hostname to see more info about the system (e.g. compilers) (*) as reported by 'uname -p', except on Windows and Mac OS X |
Package 188/2270 | Hostname | OS / Arch | INSTALL | BUILD | CHECK | BUILD BIN | ||||||||
BiocPkgTools 1.21.8 (landing page) Sean Davis
| nebbiolo1 | Linux (Ubuntu 22.04.3 LTS) / x86_64 | OK | OK | OK | |||||||||
palomino3 | Windows Server 2022 Datacenter / x64 | OK | OK | OK | OK | |||||||||
lconway | macOS 12.7.1 Monterey / x86_64 | OK | OK | OK | OK | |||||||||
kunpeng2 | Linux (openEuler 22.03 LTS-SP1) / aarch64 | OK | OK | OK | ||||||||||
To the developers/maintainers of the BiocPkgTools package: - Allow up to 24 hours (and sometimes 48 hours) for your latest push to git@git.bioconductor.org:packages/BiocPkgTools.git to reflect on this report. See Troubleshooting Build Report for more information. - Use the following Renviron settings to reproduce errors and warnings. - If 'R CMD check' started to fail recently on the Linux builder(s) over a missing dependency, add the missing dependency to 'Suggests:' in your DESCRIPTION file. See Renviron.bioc for more information. |
Package: BiocPkgTools |
Version: 1.21.8 |
Command: /Library/Frameworks/R.framework/Resources/bin/R CMD check --install=check:BiocPkgTools.install-out.txt --library=/Library/Frameworks/R.framework/Resources/library --no-vignettes --timings BiocPkgTools_1.21.8.tar.gz |
StartedAt: 2024-03-27 19:44:42 -0400 (Wed, 27 Mar 2024) |
EndedAt: 2024-03-27 19:55:07 -0400 (Wed, 27 Mar 2024) |
EllapsedTime: 625.0 seconds |
RetCode: 0 |
Status: OK |
CheckDir: BiocPkgTools.Rcheck |
Warnings: 0 |
############################################################################## ############################################################################## ### ### Running command: ### ### /Library/Frameworks/R.framework/Resources/bin/R CMD check --install=check:BiocPkgTools.install-out.txt --library=/Library/Frameworks/R.framework/Resources/library --no-vignettes --timings BiocPkgTools_1.21.8.tar.gz ### ############################################################################## ############################################################################## * using log directory ‘/Users/biocbuild/bbs-3.19-bioc/meat/BiocPkgTools.Rcheck’ * using R Under development (unstable) (2024-03-18 r86148) * using platform: x86_64-apple-darwin20 * R was compiled by Apple clang version 14.0.0 (clang-1400.0.29.202) GNU Fortran (GCC) 12.2.0 * running under: macOS Monterey 12.7.1 * using session charset: UTF-8 * using option ‘--no-vignettes’ * checking for file ‘BiocPkgTools/DESCRIPTION’ ... OK * checking extension type ... Package * this is package ‘BiocPkgTools’ version ‘1.21.8’ * package encoding: UTF-8 * checking package namespace information ... OK * checking package dependencies ... OK * checking if this is a source package ... OK * checking if there is a namespace ... OK * checking for hidden files and directories ... OK * checking for portable file names ... OK * checking for sufficient/correct file permissions ... OK * checking whether package ‘BiocPkgTools’ can be installed ... OK * checking installed package size ... OK * checking package directory ... OK * checking ‘build’ directory ... OK * checking DESCRIPTION meta-information ... NOTE License stub is invalid DCF. * checking top-level files ... OK * checking for left-over files ... OK * checking index information ... OK * checking package subdirectories ... OK * checking code files for non-ASCII characters ... OK * checking R files for syntax errors ... OK * checking whether the package can be loaded ... OK * checking whether the package can be loaded with stated dependencies ... OK * checking whether the package can be unloaded cleanly ... OK * checking whether the namespace can be loaded with stated dependencies ... OK * checking whether the namespace can be unloaded cleanly ... OK * checking dependencies in R code ... NOTE Unexported objects imported by ':::' calls: ‘BiocManager:::.repositories’ ‘BiocManager:::.repositories_base’ ‘BiocManager:::.repositories_bioc’ ‘BiocManager:::.repository_container_version’ ‘BiocManager:::.version_bioc’ See the note in ?`:::` about the use of this operator. * checking S3 generic/method consistency ... OK * checking replacement functions ... OK * checking foreign function calls ... OK * checking R code for possible problems ... OK * checking Rd files ... NOTE checkRd: (-1) githubURLParts.Rd:15: Lost braces in \itemize; \value handles \item{}{} directly checkRd: (-1) githubURLParts.Rd:16: Lost braces in \itemize; \value handles \item{}{} directly checkRd: (-1) githubURLParts.Rd:17: Lost braces in \itemize; \value handles \item{}{} directly checkRd: (-1) githubURLParts.Rd:18: Lost braces in \itemize; \value handles \item{}{} directly checkRd: (-1) repositoryStats.Rd:31-33: Lost braces in \itemize; \value handles \item{}{} directly checkRd: (-1) repositoryStats.Rd:35-36: Lost braces in \itemize; \value handles \item{}{} directly checkRd: (-1) repositoryStats.Rd:38-39: Lost braces in \itemize; \value handles \item{}{} directly checkRd: (-1) repositoryStats.Rd:41-42: Lost braces in \itemize; \value handles \item{}{} directly checkRd: (-1) repositoryStats.Rd:44-45: Lost braces in \itemize; \value handles \item{}{} directly checkRd: (-1) repositoryStats.Rd:47-51: Lost braces in \itemize; \value handles \item{}{} directly checkRd: (-1) repositoryStats.Rd:53-55: Lost braces in \itemize; \value handles \item{}{} directly checkRd: (-1) repositoryStats.Rd:57-59: Lost braces in \itemize; \value handles \item{}{} directly checkRd: (-1) repositoryStats.Rd:61-66: Lost braces in \itemize; \value handles \item{}{} directly * checking Rd metadata ... OK * checking Rd cross-references ... OK * checking for missing documentation entries ... OK * checking for code/documentation mismatches ... OK * checking Rd \usage sections ... OK * checking Rd contents ... OK * checking for unstated dependencies in examples ... OK * checking files in ‘vignettes’ ... OK * checking examples ... OK Examples with CPU (user + system) or elapsed time > 5s user system elapsed biocBuildReport 16.648 62.833 87.453 get_bioc_data 13.521 0.943 33.050 firstInBioc 12.928 0.989 27.408 biocDownloadStats 11.027 0.465 18.669 class-dependencies 8.170 0.268 12.808 pkgCombDependencyGain 6.389 0.414 13.598 pkgDepMetrics 5.728 0.246 10.681 inducedSubgraphByPkgs 5.009 0.330 16.319 biocMaintained 4.329 0.217 5.455 buildPkgDependencyDataFrame 3.947 0.098 6.887 biocRevDepEmail 3.003 0.127 5.920 githubDetails 1.940 0.474 6.714 pkgDownloadRank 1.593 0.232 9.874 * checking for unstated dependencies in ‘tests’ ... OK * checking tests ... Running ‘testthat.R’ OK * checking for unstated dependencies in vignettes ... OK * checking package vignettes ... OK * checking running R code from vignettes ... SKIPPED * checking re-building of vignette outputs ... SKIPPED * checking PDF version of manual ... OK * DONE Status: 3 NOTEs See ‘/Users/biocbuild/bbs-3.19-bioc/meat/BiocPkgTools.Rcheck/00check.log’ for details.
BiocPkgTools.Rcheck/00install.out
############################################################################## ############################################################################## ### ### Running command: ### ### /Library/Frameworks/R.framework/Resources/bin/R CMD INSTALL BiocPkgTools ### ############################################################################## ############################################################################## * installing to library ‘/Library/Frameworks/R.framework/Versions/4.4-x86_64/Resources/library’ * installing *source* package ‘BiocPkgTools’ ... ** using staged installation ** R ** inst ** byte-compile and prepare package for lazy loading ** help *** installing help indices ** building package indices ** installing vignettes ** testing if installed package can be loaded from temporary location ** testing if installed package can be loaded from final location ** testing if installed package keeps a record of temporary installation path * DONE (BiocPkgTools)
BiocPkgTools.Rcheck/tests/testthat.Rout
R Under development (unstable) (2024-03-18 r86148) -- "Unsuffered Consequences" Copyright (C) 2024 The R Foundation for Statistical Computing Platform: x86_64-apple-darwin20 R is free software and comes with ABSOLUTELY NO WARRANTY. You are welcome to redistribute it under certain conditions. Type 'license()' or 'licence()' for distribution details. R is a collaborative project with many contributors. Type 'contributors()' for more information and 'citation()' on how to cite R or R packages in publications. Type 'demo()' for some demos, 'help()' for on-line help, or 'help.start()' for an HTML browser interface to help. Type 'q()' to quit R. > library(testthat) > library(BiocPkgTools) Loading required package: htmlwidgets > > test_check("BiocPkgTools") trying URL 'https://bioconductor.org/packages/3.19/bioc/vignettes/a4/inst/doc/a4vignette.pdf' Content type 'application/pdf' length 1305972 bytes (1.2 MB) ================================================== downloaded 1.2 MB [ FAIL 0 | WARN 2 | SKIP 0 | PASS 27 ] [ FAIL 0 | WARN 2 | SKIP 0 | PASS 27 ] > > proc.time() user system elapsed 35.097 56.072 112.766
BiocPkgTools.Rcheck/BiocPkgTools-Ex.timings
name | user | system | elapsed | |
activitySince | 0.000 | 0.000 | 0.001 | |
anacondaDownloadStats | 2.012 | 0.071 | 2.605 | |
biocBuildReport | 16.648 | 62.833 | 87.453 | |
biocDownloadStats | 11.027 | 0.465 | 18.669 | |
biocMaintained | 4.329 | 0.217 | 5.455 | |
biocPkgList | 1.808 | 0.038 | 3.140 | |
biocPkgRanges | 0.000 | 0.000 | 0.001 | |
biocRevDepEmail | 3.003 | 0.127 | 5.920 | |
buildPkgDependencyDataFrame | 3.947 | 0.098 | 6.887 | |
buildPkgDependencyIgraph | 1.631 | 0.039 | 2.760 | |
class-dependencies | 8.170 | 0.268 | 12.808 | |
firstInBioc | 12.928 | 0.989 | 27.408 | |
generateBiocPkgDOI | 0.001 | 0.000 | 0.000 | |
getBiocVignette | 1.370 | 0.084 | 3.525 | |
get_bioc_data | 13.521 | 0.943 | 33.050 | |
get_cre_orcids | 0.011 | 0.005 | 0.020 | |
githubDetails | 1.940 | 0.474 | 6.714 | |
githubURLParts | 1.018 | 0.034 | 2.370 | |
inducedSubgraphByPkgs | 5.009 | 0.330 | 16.319 | |
latestPkgStats | 0.000 | 0.001 | 0.003 | |
orcid_table | 0.000 | 0.001 | 0.001 | |
pkgBiocDeps | 1.871 | 0.142 | 3.758 | |
pkgBiocRevDeps | 2.481 | 0.157 | 4.951 | |
pkgCombDependencyGain | 6.389 | 0.414 | 13.598 | |
pkgDepImports | 0.168 | 0.043 | 1.396 | |
pkgDepMetrics | 5.728 | 0.246 | 10.681 | |
pkgDownloadRank | 1.593 | 0.232 | 9.874 | |
pkgDownloadStats | 0.047 | 0.009 | 0.447 | |
problemPage | 0 | 0 | 0 | |
repositoryStats | 0.091 | 0.006 | 0.147 | |
subgraphByDegree | 1.162 | 0.046 | 2.896 | |