Back to Multiple platform build/check report for BioC 3.19:   simplified   long
ABCDEF[G]HIJKLMNOPQRSTUVWXYZ

This page was generated on 2024-03-01 11:35:16 -0500 (Fri, 01 Mar 2024).

HostnameOSArch (*)R versionInstalled pkgs
nebbiolo1Linux (Ubuntu 22.04.3 LTS)x86_64R Under development (unstable) (2024-01-16 r85808) -- "Unsuffered Consequences" 4676
palomino3Windows Server 2022 Datacenterx64R Under development (unstable) (2024-01-14 r85805 ucrt) -- "Unsuffered Consequences" 4414
merida1macOS 12.7.1 Montereyx86_64R Under development (unstable) (2024-01-16 r85808) -- "Unsuffered Consequences" 4441
kunpeng2Linux (openEuler 22.03 LTS-SP1)aarch64R Under development (unstable) (2024-01-16 r85812) -- "Unsuffered Consequences" 4417
Click on any hostname to see more info about the system (e.g. compilers)      (*) as reported by 'uname -p', except on Windows and Mac OS X

All results for package GenomicAlignments


To the developers/maintainers of the GenomicAlignments package:
- Allow up to 24 hours (and sometimes 48 hours) for your latest push to git@git.bioconductor.org:packages/GenomicAlignments.git to reflect on this report. See Troubleshooting Build Report for more information.
- Use the following Renviron settings to reproduce errors and warnings.
- If 'R CMD check' started to fail recently on the Linux builder(s) over a missing dependency, add the missing dependency to 'Suggests:' in your DESCRIPTION file. See Renviron.bioc for more information.

raw results

Package 816/2251HostnameOS / ArchINSTALLBUILDCHECKBUILD BIN
GenomicAlignments 1.39.4  (landing page)
Hervé Pagès
Snapshot Date: 2024-02-28 14:00:14 -0500 (Wed, 28 Feb 2024)
git_url: https://git.bioconductor.org/packages/GenomicAlignments
git_branch: devel
git_last_commit: 498179a
git_last_commit_date: 2024-02-13 14:55:48 -0500 (Tue, 13 Feb 2024)
nebbiolo1Linux (Ubuntu 22.04.3 LTS) / x86_64  OK    OK    OK  UNNEEDED, same version is already published
palomino3Windows Server 2022 Datacenter / x64  OK    OK    OK    OK  UNNEEDED, same version is already published
merida1macOS 12.7.1 Monterey / x86_64  OK    OK    OK    OK  UNNEEDED, same version is already published
kunpeng2Linux (openEuler 22.03 LTS-SP1) / aarch64  OK    OK    OK  

Results for Bioconductor software packages that depend directly on package GenomicAlignments

QUICK STATSOS / ArchINSTALLBUILDCHECKBUILD BIN
nebbiolo1Linux (Ubuntu 22.04.3 LTS) / x86_64
02108
05105
072672
palomino3Windows Server 2022 Datacenter / x64
02103
01788
022363
0088
merida1macOS 12.7.1 Monterey / x86_64
03106
18100
032671
00100
kunpeng2Linux (openEuler 22.03 LTS-SP1) / aarch64
00110
31493
0162453
Package 1/110HostnameOS / ArchINSTALLBUILDCHECKBUILD BIN
AllelicImbalance 1.41.0  (landing page)
Jesper R Gadin
git_last_commit: 13b7eae
git_last_commit_date: 2023-10-24 09:56:05 -0500
nebbiolo1Linux (Ubuntu 22.04.3 LTS) / x86_64  OK    OK    OK  UNNEEDED, same version is already published
palomino3Windows Server 2022 Datacenter / x64  OK    OK    OK    OK  UNNEEDED, same version is already published
merida1macOS 12.7.1 Monterey / x86_64  OK    OK    OK    OK  UNNEEDED, same version is already published
kunpeng2Linux (openEuler 22.03 LTS-SP1) / aarch64  OK    OK    ERROR  
Package 2/110HostnameOS / ArchINSTALLBUILDCHECKBUILD BIN
AneuFinder 1.31.0  (landing page)
Aaron Taudt
git_last_commit: b8d11a4
git_last_commit_date: 2023-10-24 10:48:50 -0500
nebbiolo1Linux (Ubuntu 22.04.3 LTS) / x86_64  OK    OK    OK  UNNEEDED, same version is already published
palomino3Windows Server 2022 Datacenter / x64  OK    OK    OK    OK  UNNEEDED, same version is already published
merida1macOS 12.7.1 Monterey / x86_64  OK    OK    OK    OK  UNNEEDED, same version is already published
kunpeng2Linux (openEuler 22.03 LTS-SP1) / aarch64  OK    OK    ERROR  
Package 3/110HostnameOS / ArchINSTALLBUILDCHECKBUILD BIN
APAlyzer 1.17.0  (landing page)
Ruijia Wang
git_last_commit: 2686730
git_last_commit_date: 2023-10-24 11:15:41 -0500
nebbiolo1Linux (Ubuntu 22.04.3 LTS) / x86_64  OK    OK    WARNINGS  UNNEEDED, same version is already published
palomino3Windows Server 2022 Datacenter / x64  OK    OK    WARNINGS    OK  UNNEEDED, same version is already published
merida1macOS 12.7.1 Monterey / x86_64  OK    OK    WARNINGS    OK  UNNEEDED, same version is already published
kunpeng2Linux (openEuler 22.03 LTS-SP1) / aarch64  OK    OK    ERROR  
Package 4/110HostnameOS / ArchINSTALLBUILDCHECKBUILD BIN
ASpli 2.13.0  (landing page)
Ariel Chernomoretz
git_last_commit: 7525b85
git_last_commit_date: 2023-10-24 10:51:51 -0500
nebbiolo1Linux (Ubuntu 22.04.3 LTS) / x86_64  OK    OK    WARNINGS  UNNEEDED, same version is already published
palomino3Windows Server 2022 Datacenter / x64  OK    OK    WARNINGS    OK  UNNEEDED, same version is already published
merida1macOS 12.7.1 Monterey / x86_64  OK    OK    WARNINGS    OK  UNNEEDED, same version is already published
kunpeng2Linux (openEuler 22.03 LTS-SP1) / aarch64  OK    OK    ERROR  
Package 5/110HostnameOS / ArchINSTALLBUILDCHECKBUILD BIN
ATACseqQC 1.27.1  (landing page)
Jianhong Ou
git_last_commit: d414adb
git_last_commit_date: 2023-12-12 09:55:41 -0500
nebbiolo1Linux (Ubuntu 22.04.3 LTS) / x86_64  OK    OK    OK  UNNEEDED, same version is already published
palomino3Windows Server 2022 Datacenter / x64  OK    OK    OK    OK  UNNEEDED, same version is already published
merida1macOS 12.7.1 Monterey / x86_64  OK    OK    OK    OK  UNNEEDED, same version is already published
kunpeng2Linux (openEuler 22.03 LTS-SP1) / aarch64  OK    OK    ERROR  
Package 6/110HostnameOS / ArchINSTALLBUILDCHECKBUILD BIN
ATACseqTFEA 1.5.1  (landing page)
Jianhong Ou
git_last_commit: bd2f07b
git_last_commit_date: 2024-02-05 17:31:24 -0500
nebbiolo1Linux (Ubuntu 22.04.3 LTS) / x86_64  OK    OK    OK  UNNEEDED, same version is already published
palomino3Windows Server 2022 Datacenter / x64  OK    OK    OK    OK  UNNEEDED, same version is already published
merida1macOS 12.7.1 Monterey / x86_64  OK    OK    OK    OK  UNNEEDED, same version is already published
kunpeng2Linux (openEuler 22.03 LTS-SP1) / aarch64  OK    OK    ERROR  
Package 7/110HostnameOS / ArchINSTALLBUILDCHECKBUILD BIN
atena 1.9.0  (landing page)
Beatriz Calvo-Serra
git_last_commit: db720af
git_last_commit_date: 2023-10-24 11:36:26 -0500
nebbiolo1Linux (Ubuntu 22.04.3 LTS) / x86_64  OK    OK    OK  UNNEEDED, same version is already published
palomino3Windows Server 2022 Datacenter / x64  OK    OK    OK    OK  UNNEEDED, same version is already published
merida1macOS 12.7.1 Monterey / x86_64  OK    OK    OK    OK  UNNEEDED, same version is already published
kunpeng2Linux (openEuler 22.03 LTS-SP1) / aarch64  OK    OK    ERROR  
Package 8/110HostnameOS / ArchINSTALLBUILDCHECKBUILD BIN
BaalChIP 1.29.0  (landing page)
Ines de Santiago
git_last_commit: 29cf4ff
git_last_commit_date: 2023-10-24 10:52:41 -0500
nebbiolo1Linux (Ubuntu 22.04.3 LTS) / x86_64  OK    OK    WARNINGS  UNNEEDED, same version is already published
palomino3Windows Server 2022 Datacenter / x64  OK    OK    WARNINGS    OK  UNNEEDED, same version is already published
merida1macOS 12.7.1 Monterey / x86_64  OK    OK    WARNINGS    OK  UNNEEDED, same version is already published
kunpeng2Linux (openEuler 22.03 LTS-SP1) / aarch64  OK    OK    ERROR  
Package 9/110HostnameOS / ArchINSTALLBUILDCHECKBUILD BIN
bambu 3.5.0  (landing page)
Ying Chen
git_last_commit: fed41f6
git_last_commit_date: 2023-10-24 11:27:04 -0500
nebbiolo1Linux (Ubuntu 22.04.3 LTS) / x86_64  OK    OK    OK  UNNEEDED, same version is already published
palomino3Windows Server 2022 Datacenter / x64  OK    OK    OK    OK  UNNEEDED, same version is already published
merida1macOS 12.7.1 Monterey / x86_64  OK    OK    OK    OK  UNNEEDED, same version is already published
kunpeng2Linux (openEuler 22.03 LTS-SP1) / aarch64  OK    TIMEOUT  skipped
Package 10/110HostnameOS / ArchINSTALLBUILDCHECKBUILD BIN
Basic4Cseq 1.39.0  (landing page)
Carolin Walter
git_last_commit: 13edfac
git_last_commit_date: 2023-10-24 09:57:44 -0500
nebbiolo1Linux (Ubuntu 22.04.3 LTS) / x86_64  OK    OK    OK  UNNEEDED, same version is already published
palomino3Windows Server 2022 Datacenter / x64  OK    OK    OK    OK  UNNEEDED, same version is already published
merida1macOS 12.7.1 Monterey / x86_64  OK    OK    OK    OK  UNNEEDED, same version is already published
kunpeng2Linux (openEuler 22.03 LTS-SP1) / aarch64  OK    OK    ERROR  
Package 11/110HostnameOS / ArchINSTALLBUILDCHECKBUILD BIN
BasicSTARRseq 1.31.0  (landing page)
Annika Buerger
git_last_commit: 19f3a96
git_last_commit_date: 2023-10-24 10:47:24 -0500
nebbiolo1Linux (Ubuntu 22.04.3 LTS) / x86_64  OK    OK    OK  UNNEEDED, same version is already published
palomino3Windows Server 2022 Datacenter / x64  OK    OK    OK    OK  UNNEEDED, same version is already published
merida1macOS 12.7.1 Monterey / x86_64  OK    OK    OK    OK  UNNEEDED, same version is already published
kunpeng2Linux (openEuler 22.03 LTS-SP1) / aarch64  OK    OK    OK  
Package 12/110HostnameOS / ArchINSTALLBUILDCHECKBUILD BIN
biovizBase 1.51.0  (landing page)
Michael Lawrence
git_last_commit: 226610a
git_last_commit_date: 2023-10-24 09:48:08 -0500
nebbiolo1Linux (Ubuntu 22.04.3 LTS) / x86_64  OK    OK    WARNINGS  UNNEEDED, same version is already published
palomino3Windows Server 2022 Datacenter / x64  OK    ERROR  skippedskipped
merida1macOS 12.7.1 Monterey / x86_64  OK    OK    WARNINGS    OK  UNNEEDED, same version is already published
kunpeng2Linux (openEuler 22.03 LTS-SP1) / aarch64  OK    OK    WARNINGS  
Package 13/110HostnameOS / ArchINSTALLBUILDCHECKBUILD BIN
breakpointR 1.21.0  (landing page)
David Porubsky
git_last_commit: 52e8c14
git_last_commit_date: 2023-10-24 11:08:00 -0500
nebbiolo1Linux (Ubuntu 22.04.3 LTS) / x86_64  OK    OK    OK  UNNEEDED, same version is already published
palomino3Windows Server 2022 Datacenter / x64  OK    OK    OK    OK  UNNEEDED, same version is already published
merida1macOS 12.7.1 Monterey / x86_64  OK    OK    OK    OK  UNNEEDED, same version is already published
kunpeng2Linux (openEuler 22.03 LTS-SP1) / aarch64  OK    OK    OK  
Package 14/110HostnameOS / ArchINSTALLBUILDCHECKBUILD BIN
BRGenomics 1.15.0  (landing page)
Mike DeBerardine
git_last_commit: 6949bcc
git_last_commit_date: 2023-10-24 11:20:40 -0500
nebbiolo1Linux (Ubuntu 22.04.3 LTS) / x86_64  OK    OK    ERROR  
palomino3Windows Server 2022 Datacenter / x64  OK    OK    ERROR    OK  
merida1macOS 12.7.1 Monterey / x86_64  OK    OK    ERROR    OK  
kunpeng2Linux (openEuler 22.03 LTS-SP1) / aarch64  OK    OK    ERROR  
Package 15/110HostnameOS / ArchINSTALLBUILDCHECKBUILD BIN
CAGEfightR 1.23.0  (landing page)
Malte Thodberg
git_last_commit: c9667b2
git_last_commit_date: 2023-10-24 11:05:23 -0500
nebbiolo1Linux (Ubuntu 22.04.3 LTS) / x86_64  OK    OK    OK  UNNEEDED, same version is already published
palomino3Windows Server 2022 Datacenter / x64  OK    OK    OK    OK  UNNEEDED, same version is already published
merida1macOS 12.7.1 Monterey / x86_64  OK    OK    OK    OK  UNNEEDED, same version is already published
kunpeng2Linux (openEuler 22.03 LTS-SP1) / aarch64  OK    OK    OK  
Package 16/110HostnameOS / ArchINSTALLBUILDCHECKBUILD BIN
CAGEr 2.9.0  (landing page)
Charles Plessy
git_last_commit: 18d7295
git_last_commit_date: 2023-10-24 09:52:59 -0500
nebbiolo1Linux (Ubuntu 22.04.3 LTS) / x86_64  OK    OK    OK  UNNEEDED, same version is already published
palomino3Windows Server 2022 Datacenter / x64  OK    OK    OK    OK  UNNEEDED, same version is already published
merida1macOS 12.7.1 Monterey / x86_64  OK    OK    OK    OK  UNNEEDED, same version is already published
kunpeng2Linux (openEuler 22.03 LTS-SP1) / aarch64  OK    OK    OK  
Package 17/110HostnameOS / ArchINSTALLBUILDCHECKBUILD BIN
cfDNAPro 1.9.0  (landing page)
Haichao Wang
git_last_commit: 24d81de
git_last_commit_date: 2023-10-24 11:35:16 -0500
nebbiolo1Linux (Ubuntu 22.04.3 LTS) / x86_64  OK    OK    WARNINGS  UNNEEDED, same version is already published
palomino3Windows Server 2022 Datacenter / x64  OK    OK    WARNINGS    OK  UNNEEDED, same version is already published
merida1macOS 12.7.1 Monterey / x86_64  OK    OK    WARNINGS    OK  UNNEEDED, same version is already published
kunpeng2Linux (openEuler 22.03 LTS-SP1) / aarch64  OK    OK    WARNINGS  
Package 18/110HostnameOS / ArchINSTALLBUILDCHECKBUILD BIN
chimeraviz 1.29.0  (landing page)
Stian Lågstad
git_last_commit: 925f992
git_last_commit_date: 2023-11-25 11:53:49 -0500
nebbiolo1Linux (Ubuntu 22.04.3 LTS) / x86_64  OK    OK    OK  UNNEEDED, same version is already published
palomino3Windows Server 2022 Datacenter / x64  OK    OK    OK    OK  UNNEEDED, same version is already published
merida1macOS 12.7.1 Monterey / x86_64  OK    OK    OK    OK  UNNEEDED, same version is already published
kunpeng2Linux (openEuler 22.03 LTS-SP1) / aarch64  OK    OK    OK  
Package 19/110HostnameOS / ArchINSTALLBUILDCHECKBUILD BIN
ChIPexoQual 1.27.0  (landing page)
Rene Welch
git_last_commit: a0dc514
git_last_commit_date: 2023-10-24 10:55:06 -0500
nebbiolo1Linux (Ubuntu 22.04.3 LTS) / x86_64  OK    OK    OK  UNNEEDED, same version is already published
palomino3Windows Server 2022 Datacenter / x64  OK    OK    OK    OK  UNNEEDED, same version is already published
merida1macOS 12.7.1 Monterey / x86_64  OK    OK    OK    OK  UNNEEDED, same version is already published
kunpeng2Linux (openEuler 22.03 LTS-SP1) / aarch64  OK    OK    OK  
Package 20/110HostnameOS / ArchINSTALLBUILDCHECKBUILD BIN
ChIPpeakAnno 3.37.4  (landing page)
Jianhong Ou
git_last_commit: 58a122c
git_last_commit_date: 2024-01-29 08:57:31 -0500
nebbiolo1Linux (Ubuntu 22.04.3 LTS) / x86_64  OK    OK    OK  UNNEEDED, same version is already published
palomino3Windows Server 2022 Datacenter / x64  OK    OK    OK    OK  UNNEEDED, same version is already published
merida1macOS 12.7.1 Monterey / x86_64  OK    TIMEOUT  skippedskipped
kunpeng2Linux (openEuler 22.03 LTS-SP1) / aarch64  OK    OK    OK  
Package 21/110HostnameOS / ArchINSTALLBUILDCHECKBUILD BIN
ChIPQC 1.39.0  (landing page)
Tom Carroll , Rory Stark
git_last_commit: 5965ee6
git_last_commit_date: 2023-10-24 09:58:19 -0500
nebbiolo1Linux (Ubuntu 22.04.3 LTS) / x86_64  OK    OK    WARNINGS  UNNEEDED, same version is already published
palomino3Windows Server 2022 Datacenter / x64  OK    OK    WARNINGS    OK  UNNEEDED, same version is already published
merida1macOS 12.7.1 Monterey / x86_64  OK    OK    WARNINGS    OK  UNNEEDED, same version is already published
kunpeng2Linux (openEuler 22.03 LTS-SP1) / aarch64  OK    OK    WARNINGS  
Package 22/110HostnameOS / ArchINSTALLBUILDCHECKBUILD BIN
chromstaR 1.29.0  (landing page)
Aaron Taudt
git_last_commit: 1a8d1f3
git_last_commit_date: 2023-10-24 10:51:00 -0500
nebbiolo1Linux (Ubuntu 22.04.3 LTS) / x86_64  OK    OK    OK  UNNEEDED, same version is already published
palomino3Windows Server 2022 Datacenter / x64  OK    OK    OK    OK  UNNEEDED, same version is already published
merida1macOS 12.7.1 Monterey / x86_64  OK    OK    OK    OK  UNNEEDED, same version is already published
kunpeng2Linux (openEuler 22.03 LTS-SP1) / aarch64  OK    ERROR  skipped
Package 23/110HostnameOS / ArchINSTALLBUILDCHECKBUILD BIN
CNEr 1.39.0  (landing page)
Ge Tan
git_last_commit: 22a4e19
git_last_commit_date: 2023-10-24 09:57:27 -0500
nebbiolo1Linux (Ubuntu 22.04.3 LTS) / x86_64  OK    OK    WARNINGS  UNNEEDED, same version is already published
palomino3Windows Server 2022 Datacenter / x64  OK    OK    WARNINGS    OK  UNNEEDED, same version is already published
merida1macOS 12.7.1 Monterey / x86_64  OK    OK    WARNINGS    OK  UNNEEDED, same version is already published
kunpeng2Linux (openEuler 22.03 LTS-SP1) / aarch64  OK    OK    WARNINGS  
Package 24/110HostnameOS / ArchINSTALLBUILDCHECKBUILD BIN
consensusDE 1.21.0  (landing page)
Ashley J. Waardenberg
git_last_commit: 87ab6b1
git_last_commit_date: 2023-10-24 11:09:05 -0500
nebbiolo1Linux (Ubuntu 22.04.3 LTS) / x86_64  OK    OK    OK  UNNEEDED, same version is already published
palomino3Windows Server 2022 Datacenter / x64  OK    OK    OK    OK  UNNEEDED, same version is already published
merida1macOS 12.7.1 Monterey / x86_64  OK    OK    OK    OK  UNNEEDED, same version is already published
kunpeng2Linux (openEuler 22.03 LTS-SP1) / aarch64  OK    OK    OK  
Package 25/110HostnameOS / ArchINSTALLBUILDCHECKBUILD BIN
contiBAIT 1.31.1  (landing page)
Kieran O'Neill
git_last_commit: a473e33
git_last_commit_date: 2024-02-01 14:51:17 -0500
nebbiolo1Linux (Ubuntu 22.04.3 LTS) / x86_64  ERROR    ERROR  skipped
palomino3Windows Server 2022 Datacenter / x64  ERROR    ERROR  skippedskipped
merida1macOS 12.7.1 Monterey / x86_64  ERROR    ERROR  skippedskipped
kunpeng2Linux (openEuler 22.03 LTS-SP1) / aarch64  OK    OK    WARNINGS  
Package 26/110HostnameOS / ArchINSTALLBUILDCHECKBUILD BIN
CoverageView 1.41.0  (landing page)
Ernesto Lowy
git_last_commit: b3ab7f7
git_last_commit_date: 2023-10-24 09:58:32 -0500
nebbiolo1Linux (Ubuntu 22.04.3 LTS) / x86_64  OK    OK    WARNINGS  UNNEEDED, same version is already published
palomino3Windows Server 2022 Datacenter / x64... NOT SUPPORTED ...
merida1macOS 12.7.1 Monterey / x86_64  OK    OK    WARNINGS    OK  UNNEEDED, same version is already published
kunpeng2Linux (openEuler 22.03 LTS-SP1) / aarch64  OK    OK    WARNINGS  
Package 27/110HostnameOS / ArchINSTALLBUILDCHECKBUILD BIN
CrispRVariants 1.31.0  (landing page)
Helen Lindsay
git_last_commit: 4e3a6d1
git_last_commit_date: 2023-10-24 10:46:52 -0500
nebbiolo1Linux (Ubuntu 22.04.3 LTS) / x86_64  OK    OK    WARNINGS  UNNEEDED, same version is already published
palomino3Windows Server 2022 Datacenter / x64  OK    OK    WARNINGS    OK  UNNEEDED, same version is already published
merida1macOS 12.7.1 Monterey / x86_64  OK    OK    WARNINGS    OK  UNNEEDED, same version is already published
kunpeng2Linux (openEuler 22.03 LTS-SP1) / aarch64  OK    OK    WARNINGS  
Package 28/110HostnameOS / ArchINSTALLBUILDCHECKBUILD BIN
CSSQ 1.15.0  (landing page)
Fan Lab at Georgia Institute of Technology
git_last_commit: b72333f
git_last_commit_date: 2023-10-24 11:18:33 -0500
nebbiolo1Linux (Ubuntu 22.04.3 LTS) / x86_64  OK    OK    OK  UNNEEDED, same version is already published
palomino3Windows Server 2022 Datacenter / x64  OK    OK    OK    OK  UNNEEDED, same version is already published
merida1macOS 12.7.1 Monterey / x86_64  OK    OK    OK    OK  UNNEEDED, same version is already published
kunpeng2Linux (openEuler 22.03 LTS-SP1) / aarch64  OK    OK    OK  
Package 29/110HostnameOS / ArchINSTALLBUILDCHECKBUILD BIN
customProDB 1.43.0  (landing page)
Xiaojing Wang
git_last_commit: 2c17e50
git_last_commit_date: 2023-10-24 09:54:20 -0500
nebbiolo1Linux (Ubuntu 22.04.3 LTS) / x86_64  OK    ERROR  skipped
palomino3Windows Server 2022 Datacenter / x64  OK    ERROR  skippedskipped
merida1macOS 12.7.1 Monterey / x86_64  OK    ERROR  skippedskipped
kunpeng2Linux (openEuler 22.03 LTS-SP1) / aarch64  OK    ERROR  skipped
Package 30/110HostnameOS / ArchINSTALLBUILDCHECKBUILD BIN
DAMEfinder 1.15.0  (landing page)
Stephany Orjuela
git_last_commit: 0914bc9
git_last_commit_date: 2023-10-24 11:19:04 -0500
nebbiolo1Linux (Ubuntu 22.04.3 LTS) / x86_64  OK    OK    OK  UNNEEDED, same version is already published
palomino3Windows Server 2022 Datacenter / x64  OK    OK    OK    OK  UNNEEDED, same version is already published
merida1macOS 12.7.1 Monterey / x86_64  OK    OK    OK    OK  UNNEEDED, same version is already published
kunpeng2Linux (openEuler 22.03 LTS-SP1) / aarch64  OK    OK    OK  
Package 31/110HostnameOS / ArchINSTALLBUILDCHECKBUILD BIN
DegNorm 1.13.0  (landing page)
Ji-Ping Wang
git_last_commit: 06ea7b9
git_last_commit_date: 2023-10-24 11:22:52 -0500
nebbiolo1Linux (Ubuntu 22.04.3 LTS) / x86_64  OK    OK    OK  UNNEEDED, same version is already published
palomino3Windows Server 2022 Datacenter / x64  OK    OK    OK    OK  UNNEEDED, same version is already published
merida1macOS 12.7.1 Monterey / x86_64  OK    OK    OK    OK  UNNEEDED, same version is already published
kunpeng2Linux (openEuler 22.03 LTS-SP1) / aarch64  OK    OK    OK  
Package 32/110HostnameOS / ArchINSTALLBUILDCHECKBUILD BIN
derfinder 1.37.0  (landing page)
Leonardo Collado-Torres
git_last_commit: 6bd1e04
git_last_commit_date: 2023-10-24 10:38:56 -0500
nebbiolo1Linux (Ubuntu 22.04.3 LTS) / x86_64  OK    OK    OK  UNNEEDED, same version is already published
palomino3Windows Server 2022 Datacenter / x64  OK    OK    OK    OK  UNNEEDED, same version is already published
merida1macOS 12.7.1 Monterey / x86_64  OK    OK    OK    OK  UNNEEDED, same version is already published
kunpeng2Linux (openEuler 22.03 LTS-SP1) / aarch64  OK    OK    OK  
Package 33/110HostnameOS / ArchINSTALLBUILDCHECKBUILD BIN
DEScan2 1.23.0  (landing page)
Dario Righelli
git_last_commit: 02d5fcb
git_last_commit_date: 2023-10-24 11:03:24 -0500
nebbiolo1Linux (Ubuntu 22.04.3 LTS) / x86_64  OK    OK    WARNINGS  UNNEEDED, same version is already published
palomino3Windows Server 2022 Datacenter / x64  OK    OK    WARNINGS    OK  UNNEEDED, same version is already published
merida1macOS 12.7.1 Monterey / x86_64  OK    OK    WARNINGS    OK  UNNEEDED, same version is already published
kunpeng2Linux (openEuler 22.03 LTS-SP1) / aarch64  OK    OK    WARNINGS  
Package 34/110HostnameOS / ArchINSTALLBUILDCHECKBUILD BIN
DiffBind 3.13.0  (landing page)
Rory Stark
git_last_commit: b8c5bbc
git_last_commit_date: 2023-10-24 09:48:02 -0500
nebbiolo1Linux (Ubuntu 22.04.3 LTS) / x86_64  OK    OK    ERROR  
palomino3Windows Server 2022 Datacenter / x64  OK    ERROR  skippedskipped
merida1macOS 12.7.1 Monterey / x86_64  OK    OK    OK    OK  UNNEEDED, same version is already published
kunpeng2Linux (openEuler 22.03 LTS-SP1) / aarch64  OK    OK    OK  
Package 35/110HostnameOS / ArchINSTALLBUILDCHECKBUILD BIN
DNAfusion 1.5.0  (landing page)
Christoffer Trier Maansson
git_last_commit: 633918e
git_last_commit_date: 2023-10-25 03:22:27 -0500
nebbiolo1Linux (Ubuntu 22.04.3 LTS) / x86_64  OK    OK    OK  UNNEEDED, same version is already published
palomino3Windows Server 2022 Datacenter / x64  OK    OK    OK    OK  UNNEEDED, same version is already published
merida1macOS 12.7.1 Monterey / x86_64  OK    OK    OK    OK  UNNEEDED, same version is already published
kunpeng2Linux (openEuler 22.03 LTS-SP1) / aarch64  OK    OK    OK  
Package 36/110HostnameOS / ArchINSTALLBUILDCHECKBUILD BIN
easyRNASeq 2.39.0  (landing page)
Nicolas Delhomme
git_last_commit: 3c9525d
git_last_commit_date: 2023-10-24 09:49:08 -0500
nebbiolo1Linux (Ubuntu 22.04.3 LTS) / x86_64  OK    OK    OK  UNNEEDED, same version is already published
palomino3Windows Server 2022 Datacenter / x64  OK    OK    OK    OK  UNNEEDED, same version is already published
merida1macOS 12.7.1 Monterey / x86_64  OK    OK    OK    OK  UNNEEDED, same version is already published
kunpeng2Linux (openEuler 22.03 LTS-SP1) / aarch64  OK    OK    OK  
Package 37/110HostnameOS / ArchINSTALLBUILDCHECKBUILD BIN
esATAC 1.25.0  (landing page)
Zheng Wei
git_last_commit: c979e6e
git_last_commit_date: 2023-10-24 11:01:27 -0500
nebbiolo1Linux (Ubuntu 22.04.3 LTS) / x86_64  OK    OK    OK  UNNEEDED, same version is already published
palomino3Windows Server 2022 Datacenter / x64  OK    OK    OK    OK  UNNEEDED, same version is already published
merida1macOS 12.7.1 Monterey / x86_64  OK    OK    OK    OK  UNNEEDED, same version is already published
kunpeng2Linux (openEuler 22.03 LTS-SP1) / aarch64  OK    OK    OK  
Package 38/110HostnameOS / ArchINSTALLBUILDCHECKBUILD BIN
exomePeak2 1.15.0  (landing page)
Zhen Wei
git_last_commit: 2a94dee
git_last_commit_date: 2023-10-24 11:19:49 -0500
nebbiolo1Linux (Ubuntu 22.04.3 LTS) / x86_64  OK    OK    ERROR  
palomino3Windows Server 2022 Datacenter / x64  OK    OK    OK    OK  UNNEEDED, same version is already published
merida1macOS 12.7.1 Monterey / x86_64  OK    OK    OK    OK  UNNEEDED, same version is already published
kunpeng2Linux (openEuler 22.03 LTS-SP1) / aarch64  OK    OK    ERROR  
Package 39/110HostnameOS / ArchINSTALLBUILDCHECKBUILD BIN
FLAMES 1.9.0  (landing page)
Changqing Wang
git_last_commit: 38c29f8
git_last_commit_date: 2024-01-19 01:44:50 -0500
nebbiolo1Linux (Ubuntu 22.04.3 LTS) / x86_64  OK    OK    OK  UNNEEDED, same version is already published
palomino3Windows Server 2022 Datacenter / x64... NOT SUPPORTED ...
merida1macOS 12.7.1 Monterey / x86_64  OK    OK    OK    OK  UNNEEDED, same version is already published
kunpeng2Linux (openEuler 22.03 LTS-SP1) / aarch64  OK    OK    ERROR  
Package 40/110HostnameOS / ArchINSTALLBUILDCHECKBUILD BIN
FRASER 1.15.1  (landing page)
Christian Mertes
git_last_commit: e68992a
git_last_commit_date: 2024-02-11 12:49:35 -0500
nebbiolo1Linux (Ubuntu 22.04.3 LTS) / x86_64  OK    OK    OK  UNNEEDED, same version is already published
palomino3Windows Server 2022 Datacenter / x64  OK    OK    OK    OK  UNNEEDED, same version is already published
merida1macOS 12.7.1 Monterey / x86_64  OK    OK    OK    OK  UNNEEDED, same version is already published
kunpeng2Linux (openEuler 22.03 LTS-SP1) / aarch64  OK    OK    ERROR  
Package 41/110HostnameOS / ArchINSTALLBUILDCHECKBUILD BIN
FunChIP 1.29.0  (landing page)
Alice Parodi
git_last_commit: b94e171
git_last_commit_date: 2023-10-24 10:50:38 -0500
nebbiolo1Linux (Ubuntu 22.04.3 LTS) / x86_64  OK    OK    ERROR  
palomino3Windows Server 2022 Datacenter / x64  OK    OK    WARNINGS    OK  UNNEEDED, same version is already published
merida1macOS 12.7.1 Monterey / x86_64  OK    OK    OK    OK  UNNEEDED, same version is already published
kunpeng2Linux (openEuler 22.03 LTS-SP1) / aarch64  OK    OK    WARNINGS  
Package 42/110HostnameOS / ArchINSTALLBUILDCHECKBUILD BIN
gcapc 1.27.0  (landing page)
Mingxiang Teng
git_last_commit: e5a48a6
git_last_commit_date: 2023-10-24 10:54:29 -0500
nebbiolo1Linux (Ubuntu 22.04.3 LTS) / x86_64  OK    OK    OK  UNNEEDED, same version is already published
palomino3Windows Server 2022 Datacenter / x64  OK    OK    OK    OK  UNNEEDED, same version is already published
merida1macOS 12.7.1 Monterey / x86_64  OK    OK    OK    OK  UNNEEDED, same version is already published
kunpeng2Linux (openEuler 22.03 LTS-SP1) / aarch64  OK    OK    OK  
Package 43/110HostnameOS / ArchINSTALLBUILDCHECKBUILD BIN
gDNAx 1.1.3  (landing page)
Beatriz Calvo-Serra
git_last_commit: 3d973c2
git_last_commit_date: 2024-02-28 13:27:47 -0500
nebbiolo1Linux (Ubuntu 22.04.3 LTS) / x86_64  OK    OK    OK  YES
palomino3Windows Server 2022 Datacenter / x64  OK    OK    OK    OK  YES
merida1macOS 12.7.1 Monterey / x86_64  OK    OK    OK    OK  YES
kunpeng2Linux (openEuler 22.03 LTS-SP1) / aarch64  OK    TIMEOUT  skipped
Package 44/110HostnameOS / ArchINSTALLBUILDCHECKBUILD BIN
genomation 1.35.0  (landing page)
Altuna Akalin , Vedran Franke
git_last_commit: 16baa99
git_last_commit_date: 2023-10-24 10:40:33 -0500
nebbiolo1Linux (Ubuntu 22.04.3 LTS) / x86_64  OK    OK    WARNINGS  UNNEEDED, same version is already published
palomino3Windows Server 2022 Datacenter / x64  OK    OK    WARNINGS    OK  UNNEEDED, same version is already published
merida1macOS 12.7.1 Monterey / x86_64  OK    OK    WARNINGS    OK  UNNEEDED, same version is already published
kunpeng2Linux (openEuler 22.03 LTS-SP1) / aarch64  OK    OK    WARNINGS  
Package 45/110HostnameOS / ArchINSTALLBUILDCHECKBUILD BIN
GenomicFiles 1.39.0  (landing page)
Bioconductor Package Maintainer
git_last_commit: 291e847
git_last_commit_date: 2023-10-24 09:58:47 -0500
nebbiolo1Linux (Ubuntu 22.04.3 LTS) / x86_64  OK    OK    WARNINGS  UNNEEDED, same version is already published
palomino3Windows Server 2022 Datacenter / x64  OK    OK    WARNINGS    OK  UNNEEDED, same version is already published
merida1macOS 12.7.1 Monterey / x86_64  OK    OK    WARNINGS    OK  UNNEEDED, same version is already published
kunpeng2Linux (openEuler 22.03 LTS-SP1) / aarch64  OK    OK    WARNINGS  
Package 46/110HostnameOS / ArchINSTALLBUILDCHECKBUILD BIN
GenomicPlot 1.1.5  (landing page)
Shuye Pu
git_last_commit: 03356a8
git_last_commit_date: 2024-02-20 21:23:55 -0500
nebbiolo1Linux (Ubuntu 22.04.3 LTS) / x86_64  OK    OK    OK  UNNEEDED, same version is already published
palomino3Windows Server 2022 Datacenter / x64  OK    OK    OK    OK  UNNEEDED, same version is already published
merida1macOS 12.7.1 Monterey / x86_64  OK    OK    OK    OK  UNNEEDED, same version is already published
kunpeng2Linux (openEuler 22.03 LTS-SP1) / aarch64  OK    OK    OK  
Package 47/110HostnameOS / ArchINSTALLBUILDCHECKBUILD BIN
ggbio 1.51.0  (landing page)
Michael Lawrence
git_last_commit: 7782892
git_last_commit_date: 2023-10-25 17:31:50 -0500
nebbiolo1Linux (Ubuntu 22.04.3 LTS) / x86_64  OK    OK    WARNINGS  UNNEEDED, same version is already published
palomino3Windows Server 2022 Datacenter / x64  OK    ERROR  skippedskipped
merida1macOS 12.7.1 Monterey / x86_64  OK    OK    WARNINGS    OK  UNNEEDED, same version is already published
kunpeng2Linux (openEuler 22.03 LTS-SP1) / aarch64  OK    OK    WARNINGS  
Package 48/110HostnameOS / ArchINSTALLBUILDCHECKBUILD BIN
gmapR 1.45.0  (landing page)
Michael Lawrence
git_last_commit: acb82a0
git_last_commit_date: 2024-01-18 16:28:42 -0500
nebbiolo1Linux (Ubuntu 22.04.3 LTS) / x86_64  OK    OK    WARNINGS  UNNEEDED, same version is already published
palomino3Windows Server 2022 Datacenter / x64... NOT SUPPORTED ...
merida1macOS 12.7.1 Monterey / x86_64  OK    OK    WARNINGS    OK  UNNEEDED, same version is already published
kunpeng2Linux (openEuler 22.03 LTS-SP1) / aarch64  OK    OK    WARNINGS  
Package 49/110HostnameOS / ArchINSTALLBUILDCHECKBUILD BIN
gmoviz 1.15.0  (landing page)
Kathleen Zeglinski
git_last_commit: ad2df19
git_last_commit_date: 2023-10-24 11:20:31 -0500
nebbiolo1Linux (Ubuntu 22.04.3 LTS) / x86_64  OK    OK    OK  UNNEEDED, same version is already published
palomino3Windows Server 2022 Datacenter / x64  OK    OK    OK    OK  UNNEEDED, same version is already published
merida1macOS 12.7.1 Monterey / x86_64  OK    OK    OK    OK  UNNEEDED, same version is already published
kunpeng2Linux (openEuler 22.03 LTS-SP1) / aarch64  OK    OK    OK  
Package 50/110HostnameOS / ArchINSTALLBUILDCHECKBUILD BIN
GreyListChIP 1.35.1  (landing page)
Matt Eldridge
git_last_commit: da11016
git_last_commit_date: 2023-12-21 07:59:52 -0500
nebbiolo1Linux (Ubuntu 22.04.3 LTS) / x86_64  OK    OK    OK  UNNEEDED, same version is already published
palomino3Windows Server 2022 Datacenter / x64  OK    OK    OK    OK  UNNEEDED, same version is already published
merida1macOS 12.7.1 Monterey / x86_64  OK    OK    OK    OK  UNNEEDED, same version is already published
kunpeng2Linux (openEuler 22.03 LTS-SP1) / aarch64  OK    OK    OK  
Package 51/110HostnameOS / ArchINSTALLBUILDCHECKBUILD BIN
groHMM 1.37.0  (landing page)
Tulip Nandu , W. Lee Kraus
git_last_commit: 114289a
git_last_commit_date: 2023-10-24 10:39:48 -0500
nebbiolo1Linux (Ubuntu 22.04.3 LTS) / x86_64  OK    OK    WARNINGS  UNNEEDED, same version is already published
palomino3Windows Server 2022 Datacenter / x64  OK    OK    WARNINGS    OK  UNNEEDED, same version is already published
merida1macOS 12.7.1 Monterey / x86_64  OK    OK    WARNINGS    OK  UNNEEDED, same version is already published
kunpeng2Linux (openEuler 22.03 LTS-SP1) / aarch64  OK    OK    WARNINGS  
Package 52/110HostnameOS / ArchINSTALLBUILDCHECKBUILD BIN
GUIDEseq 1.33.0  (landing page)
Lihua Julie Zhu
git_last_commit: 61565c4
git_last_commit_date: 2023-10-24 10:45:51 -0500
nebbiolo1Linux (Ubuntu 22.04.3 LTS) / x86_64  OK    OK    OK  UNNEEDED, same version is already published
palomino3Windows Server 2022 Datacenter / x64  OK    OK    OK    OK  UNNEEDED, same version is already published
merida1macOS 12.7.1 Monterey / x86_64  OK    OK    OK    OK  UNNEEDED, same version is already published
kunpeng2Linux (openEuler 22.03 LTS-SP1) / aarch64  OK    ERROR  skipped
Package 53/110HostnameOS / ArchINSTALLBUILDCHECKBUILD BIN
Gviz 1.47.1  (landing page)
Robert Ivanek
git_last_commit: d1385ee
git_last_commit_date: 2023-11-16 09:37:00 -0500
nebbiolo1Linux (Ubuntu 22.04.3 LTS) / x86_64  OK    OK    OK  UNNEEDED, same version is already published
palomino3Windows Server 2022 Datacenter / x64  OK    OK    OK    OK  UNNEEDED, same version is already published
merida1macOS 12.7.1 Monterey / x86_64  OK    OK    OK    OK  UNNEEDED, same version is already published
kunpeng2Linux (openEuler 22.03 LTS-SP1) / aarch64  OK    OK    OK  
Package 54/110HostnameOS / ArchINSTALLBUILDCHECKBUILD BIN
HelloRanges 1.29.0  (landing page)
Michael Lawrence
git_last_commit: d185387
git_last_commit_date: 2023-10-24 10:53:38 -0500
nebbiolo1Linux (Ubuntu 22.04.3 LTS) / x86_64  OK    OK    OK  UNNEEDED, same version is already published
palomino3Windows Server 2022 Datacenter / x64  OK    ERROR  skippedskipped
merida1macOS 12.7.1 Monterey / x86_64  OK    ERROR  skippedskipped
kunpeng2Linux (openEuler 22.03 LTS-SP1) / aarch64  OK    ERROR  skipped
Package 55/110HostnameOS / ArchINSTALLBUILDCHECKBUILD BIN
hiReadsProcessor 1.39.0  (landing page)
Nirav V Malani
git_last_commit: ff35660
git_last_commit_date: 2023-10-24 10:00:50 -0500
nebbiolo1Linux (Ubuntu 22.04.3 LTS) / x86_64  OK    OK    OK  UNNEEDED, same version is already published
palomino3Windows Server 2022 Datacenter / x64... NOT SUPPORTED ...
merida1macOS 12.7.1 Monterey / x86_64  OK    OK    OK    OK  UNNEEDED, same version is already published
kunpeng2Linux (openEuler 22.03 LTS-SP1) / aarch64  OK    OK    OK  
Package 56/110HostnameOS / ArchINSTALLBUILDCHECKBUILD BIN
HTSeqGenie 4.33.0  (landing page)
Jens Reeder
git_last_commit: a6e457f
git_last_commit_date: 2023-10-24 09:51:39 -0500
nebbiolo1Linux (Ubuntu 22.04.3 LTS) / x86_64  OK    OK    OK  UNNEEDED, same version is already published
palomino3Windows Server 2022 Datacenter / x64... NOT SUPPORTED ...
merida1macOS 12.7.1 Monterey / x86_64... NOT SUPPORTED ...
kunpeng2Linux (openEuler 22.03 LTS-SP1) / aarch64  OK    OK    OK  
Package 57/110HostnameOS / ArchINSTALLBUILDCHECKBUILD BIN
icetea 1.21.0  (landing page)
Vivek Bhardwaj
git_last_commit: 4539135
git_last_commit_date: 2023-10-24 11:06:09 -0500
nebbiolo1Linux (Ubuntu 22.04.3 LTS) / x86_64  OK    OK    WARNINGS  UNNEEDED, same version is already published
palomino3Windows Server 2022 Datacenter / x64  OK    OK    WARNINGS    OK  UNNEEDED, same version is already published
merida1macOS 12.7.1 Monterey / x86_64  OK    OK    WARNINGS    OK  UNNEEDED, same version is already published
kunpeng2Linux (openEuler 22.03 LTS-SP1) / aarch64  OK    OK    WARNINGS  
Package 58/110HostnameOS / ArchINSTALLBUILDCHECKBUILD BIN
igvR 1.23.0  (landing page)
Arkadiusz Gladki
git_last_commit: fc3978b
git_last_commit_date: 2023-10-24 11:04:57 -0500
nebbiolo1Linux (Ubuntu 22.04.3 LTS) / x86_64  OK    OK    OK  UNNEEDED, same version is already published
palomino3Windows Server 2022 Datacenter / x64  OK    OK    OK    OK  UNNEEDED, same version is already published
merida1macOS 12.7.1 Monterey / x86_64  OK    OK    OK    OK  UNNEEDED, same version is already published
kunpeng2Linux (openEuler 22.03 LTS-SP1) / aarch64  OK    OK    OK  
Package 59/110HostnameOS / ArchINSTALLBUILDCHECKBUILD BIN
IMAS 1.27.0  (landing page)
Seonggyun Han
git_last_commit: 6bdc0e3
git_last_commit_date: 2023-10-24 10:56:52 -0500
nebbiolo1Linux (Ubuntu 22.04.3 LTS) / x86_64  OK    OK    OK  UNNEEDED, same version is already published
palomino3Windows Server 2022 Datacenter / x64  OK    OK    OK    OK  UNNEEDED, same version is already published
merida1macOS 12.7.1 Monterey / x86_64  OK    OK    OK    OK  UNNEEDED, same version is already published
kunpeng2Linux (openEuler 22.03 LTS-SP1) / aarch64  OK    OK    OK  
Package 60/110HostnameOS / ArchINSTALLBUILDCHECKBUILD BIN
INSPEcT 1.33.1  (landing page)
Stefano de Pretis
git_last_commit: 818e03b
git_last_commit_date: 2024-01-02 11:46:50 -0500
nebbiolo1Linux (Ubuntu 22.04.3 LTS) / x86_64  OK    OK    OK  UNNEEDED, same version is already published
palomino3Windows Server 2022 Datacenter / x64  OK    OK    OK    OK  UNNEEDED, same version is already published
merida1macOS 12.7.1 Monterey / x86_64  OK    OK    OK    OK  UNNEEDED, same version is already published
kunpeng2Linux (openEuler 22.03 LTS-SP1) / aarch64  OK    OK    OK  
Package 61/110HostnameOS / ArchINSTALLBUILDCHECKBUILD BIN
IntEREst 1.27.0  (landing page)
Ali Oghabian , Mikko Frilander
git_last_commit: a73ec97
git_last_commit_date: 2023-10-24 10:55:57 -0500
nebbiolo1Linux (Ubuntu 22.04.3 LTS) / x86_64  OK    OK    OK  UNNEEDED, same version is already published
palomino3Windows Server 2022 Datacenter / x64  OK    OK    OK    OK  UNNEEDED, same version is already published
merida1macOS 12.7.1 Monterey / x86_64  ERROR    ERROR  skippedskipped
kunpeng2Linux (openEuler 22.03 LTS-SP1) / aarch64  OK    OK    OK  
Package 62/110HostnameOS / ArchINSTALLBUILDCHECKBUILD BIN
MADSEQ 1.29.0  (landing page)
Yu Kong
git_last_commit: 964b2a9
git_last_commit_date: 2023-10-24 10:50:43 -0500
nebbiolo1Linux (Ubuntu 22.04.3 LTS) / x86_64  OK    OK    OK  UNNEEDED, same version is already published
palomino3Windows Server 2022 Datacenter / x64  OK    OK    OK    OK  UNNEEDED, same version is already published
merida1macOS 12.7.1 Monterey / x86_64  OK    OK    OK    OK  UNNEEDED, same version is already published
kunpeng2Linux (openEuler 22.03 LTS-SP1) / aarch64  OK    OK    OK  
Package 63/110HostnameOS / ArchINSTALLBUILDCHECKBUILD BIN
MDTS 1.23.0  (landing page)
Jack M.. Fu
git_last_commit: f8145f7
git_last_commit_date: 2023-10-24 11:03:21 -0500
nebbiolo1Linux (Ubuntu 22.04.3 LTS) / x86_64  OK    OK    OK  UNNEEDED, same version is already published
palomino3Windows Server 2022 Datacenter / x64  OK    OK    OK    OK  UNNEEDED, same version is already published
merida1macOS 12.7.1 Monterey / x86_64  OK    OK    OK    OK  UNNEEDED, same version is already published
kunpeng2Linux (openEuler 22.03 LTS-SP1) / aarch64  OK    OK    OK  
Package 64/110HostnameOS / ArchINSTALLBUILDCHECKBUILD BIN
metagene 2.35.0  (landing page)
Charles Joly Beauparlant
git_last_commit: 588cf5a
git_last_commit_date: 2023-10-24 10:00:24 -0500
nebbiolo1Linux (Ubuntu 22.04.3 LTS) / x86_64  OK    OK    ERROR  
palomino3Windows Server 2022 Datacenter / x64  OK    OK    WARNINGS    OK  UNNEEDED, same version is already published
merida1macOS 12.7.1 Monterey / x86_64  OK    OK    ERROR    OK  
kunpeng2Linux (openEuler 22.03 LTS-SP1) / aarch64  OK    OK    ERROR  
Package 65/110HostnameOS / ArchINSTALLBUILDCHECKBUILD BIN
metagene2 1.19.0  (landing page)
Eric Fournier
git_last_commit: 7dd1bd1
git_last_commit_date: 2023-10-24 11:13:42 -0500
nebbiolo1Linux (Ubuntu 22.04.3 LTS) / x86_64  OK    OK    WARNINGS  UNNEEDED, same version is already published
palomino3Windows Server 2022 Datacenter / x64  OK    OK    WARNINGS    OK  UNNEEDED, same version is already published
merida1macOS 12.7.1 Monterey / x86_64  OK    OK    WARNINGS    OK  UNNEEDED, same version is already published
kunpeng2Linux (openEuler 22.03 LTS-SP1) / aarch64  OK    OK    WARNINGS  
Package 66/110HostnameOS / ArchINSTALLBUILDCHECKBUILD BIN
metaseqR2 1.15.0  (landing page)
Panagiotis Moulos
git_last_commit: eebcb8e
git_last_commit_date: 2023-10-24 11:22:10 -0500
nebbiolo1Linux (Ubuntu 22.04.3 LTS) / x86_64  OK    OK    OK  UNNEEDED, same version is already published
palomino3Windows Server 2022 Datacenter / x64  OK    OK    OK    OK  UNNEEDED, same version is already published
merida1macOS 12.7.1 Monterey / x86_64  OK    ERROR  skippedskipped
kunpeng2Linux (openEuler 22.03 LTS-SP1) / aarch64  OK    OK    OK  
Package 67/110HostnameOS / ArchINSTALLBUILDCHECKBUILD BIN
methylPipe 1.37.0  (landing page)
Mattia Furlan
git_last_commit: 9fa1f0e
git_last_commit_date: 2023-10-24 10:00:55 -0500
nebbiolo1Linux (Ubuntu 22.04.3 LTS) / x86_64  OK    OK    WARNINGS  UNNEEDED, same version is already published
palomino3Windows Server 2022 Datacenter / x64  OK    OK    WARNINGS    OK  UNNEEDED, same version is already published
merida1macOS 12.7.1 Monterey / x86_64  OK    OK    WARNINGS    OK  UNNEEDED, same version is already published
kunpeng2Linux (openEuler 22.03 LTS-SP1) / aarch64  OK    OK    WARNINGS  
Package 68/110HostnameOS / ArchINSTALLBUILDCHECKBUILD BIN
mosaics 2.41.0  (landing page)
Dongjun Chung
git_last_commit: c26c868
git_last_commit_date: 2023-10-24 09:45:42 -0500
nebbiolo1Linux (Ubuntu 22.04.3 LTS) / x86_64  OK    OK    OK  UNNEEDED, same version is already published
palomino3Windows Server 2022 Datacenter / x64  OK    OK    OK    OK  UNNEEDED, same version is already published
merida1macOS 12.7.1 Monterey / x86_64  OK    OK    OK    OK  UNNEEDED, same version is already published
kunpeng2Linux (openEuler 22.03 LTS-SP1) / aarch64  OK    OK    OK  
Package 69/110HostnameOS / ArchINSTALLBUILDCHECKBUILD BIN
Motif2Site 1.7.0  (landing page)
Peyman Zarrineh
git_last_commit: 75b2c9b
git_last_commit_date: 2023-10-24 11:39:38 -0500
nebbiolo1Linux (Ubuntu 22.04.3 LTS) / x86_64  OK    OK    OK  UNNEEDED, same version is already published
palomino3Windows Server 2022 Datacenter / x64  OK    OK    OK    OK  UNNEEDED, same version is already published
merida1macOS 12.7.1 Monterey / x86_64  OK    OK    OK    OK  UNNEEDED, same version is already published
kunpeng2Linux (openEuler 22.03 LTS-SP1) / aarch64  OK    OK    OK  
Package 70/110HostnameOS / ArchINSTALLBUILDCHECKBUILD BIN
msgbsR 1.27.0  (landing page)
Benjamin Mayne
git_last_commit: a87e317
git_last_commit_date: 2023-10-24 10:57:23 -0500
nebbiolo1Linux (Ubuntu 22.04.3 LTS) / x86_64  OK    OK    OK  UNNEEDED, same version is already published
palomino3Windows Server 2022 Datacenter / x64  OK    ERROR  skippedskipped
merida1macOS 12.7.1 Monterey / x86_64  OK    OK    OK    OK  UNNEEDED, same version is already published
kunpeng2Linux (openEuler 22.03 LTS-SP1) / aarch64  OK    OK    OK  
Package 71/110HostnameOS / ArchINSTALLBUILDCHECKBUILD BIN
NADfinder 1.27.0  (landing page)
Jianhong Ou
git_last_commit: 01062af
git_last_commit_date: 2023-10-24 10:56:31 -0500
nebbiolo1Linux (Ubuntu 22.04.3 LTS) / x86_64  OK    OK    OK  UNNEEDED, same version is already published
palomino3Windows Server 2022 Datacenter / x64  OK    OK    OK    OK  UNNEEDED, same version is already published
merida1macOS 12.7.1 Monterey / x86_64  OK    OK    OK    OK  UNNEEDED, same version is already published
kunpeng2Linux (openEuler 22.03 LTS-SP1) / aarch64  OK    ERROR  skipped
Package 72/110HostnameOS / ArchINSTALLBUILDCHECKBUILD BIN
ORFik 1.23.6  (landing page)
Haakon Tjeldnes
git_last_commit: 7e429b3
git_last_commit_date: 2024-02-19 08:55:05 -0500
nebbiolo1Linux (Ubuntu 22.04.3 LTS) / x86_64  OK    OK    OK  UNNEEDED, same version is already published
palomino3Windows Server 2022 Datacenter / x64  OK    OK    OK    OK  UNNEEDED, same version is already published
merida1macOS 12.7.1 Monterey / x86_64  OK    OK    OK    OK  UNNEEDED, same version is already published
kunpeng2Linux (openEuler 22.03 LTS-SP1) / aarch64  OK    OK    OK  
Package 73/110HostnameOS / ArchINSTALLBUILDCHECKBUILD BIN
PICS 2.47.0  (landing page)
Renan Sauteraud
git_last_commit: aee082b
git_last_commit_date: 2023-10-24 09:43:52 -0500
nebbiolo1Linux (Ubuntu 22.04.3 LTS) / x86_64  OK    OK    OK  UNNEEDED, same version is already published
palomino3Windows Server 2022 Datacenter / x64  OK    OK    OK    OK  UNNEEDED, same version is already published
merida1macOS 12.7.1 Monterey / x86_64  OK    OK    OK    OK  UNNEEDED, same version is already published
kunpeng2Linux (openEuler 22.03 LTS-SP1) / aarch64  OK    OK    OK  
Package 74/110HostnameOS / ArchINSTALLBUILDCHECKBUILD BIN
plyranges 1.23.0  (landing page)
Stuart Lee
git_last_commit: b5c1421
git_last_commit_date: 2023-10-24 11:04:07 -0500
nebbiolo1Linux (Ubuntu 22.04.3 LTS) / x86_64  OK    OK    WARNINGS  UNNEEDED, same version is already published
palomino3Windows Server 2022 Datacenter / x64  OK    OK    WARNINGS    OK  UNNEEDED, same version is already published
merida1macOS 12.7.1 Monterey / x86_64  OK    OK    WARNINGS    OK  UNNEEDED, same version is already published
kunpeng2Linux (openEuler 22.03 LTS-SP1) / aarch64  OK    OK    WARNINGS  
Package 75/110HostnameOS / ArchINSTALLBUILDCHECKBUILD BIN
pram 1.19.0  (landing page)
Peng Liu
git_last_commit: 6f9e686
git_last_commit_date: 2023-10-24 11:11:44 -0500
nebbiolo1Linux (Ubuntu 22.04.3 LTS) / x86_64  OK    OK    OK  UNNEEDED, same version is already published
palomino3Windows Server 2022 Datacenter / x64  OK    OK    OK    OK  UNNEEDED, same version is already published
merida1macOS 12.7.1 Monterey / x86_64  OK    OK    OK    OK  UNNEEDED, same version is already published
kunpeng2Linux (openEuler 22.03 LTS-SP1) / aarch64  OK    OK    OK  
Package 76/110HostnameOS / ArchINSTALLBUILDCHECKBUILD BIN
prebs 1.43.0  (landing page)
Karolis Uziela
git_last_commit: b5ed1fc
git_last_commit_date: 2023-10-24 09:53:49 -0500
nebbiolo1Linux (Ubuntu 22.04.3 LTS) / x86_64  OK    OK    OK  UNNEEDED, same version is already published
palomino3Windows Server 2022 Datacenter / x64  OK    ERROR  skippedskipped
merida1macOS 12.7.1 Monterey / x86_64  OK    OK    OK    OK  UNNEEDED, same version is already published
kunpeng2Linux (openEuler 22.03 LTS-SP1) / aarch64  OK    OK    OK  
Package 77/110HostnameOS / ArchINSTALLBUILDCHECKBUILD BIN
proActiv 1.13.0  (landing page)
Joseph Lee
git_last_commit: 635dd63
git_last_commit_date: 2023-10-24 11:25:31 -0500
nebbiolo1Linux (Ubuntu 22.04.3 LTS) / x86_64  OK    OK    OK  UNNEEDED, same version is already published
palomino3Windows Server 2022 Datacenter / x64  OK    OK    OK    OK  UNNEEDED, same version is already published
merida1macOS 12.7.1 Monterey / x86_64  OK    OK    OK    OK  UNNEEDED, same version is already published
kunpeng2Linux (openEuler 22.03 LTS-SP1) / aarch64  OK    OK    OK  
Package 78/110HostnameOS / ArchINSTALLBUILDCHECKBUILD BIN
raer 1.1.2  (landing page)
Kent Riemondy
git_last_commit: 0129a6c
git_last_commit_date: 2024-01-23 12:43:40 -0500
nebbiolo1Linux (Ubuntu 22.04.3 LTS) / x86_64  OK    OK    OK  UNNEEDED, same version is already published
palomino3Windows Server 2022 Datacenter / x64  OK    OK    OK    OK  UNNEEDED, same version is already published
merida1macOS 12.7.1 Monterey / x86_64  OK    OK    OK    OK  UNNEEDED, same version is already published
kunpeng2Linux (openEuler 22.03 LTS-SP1) / aarch64  OK    TIMEOUT  skipped
Package 79/110HostnameOS / ArchINSTALLBUILDCHECKBUILD BIN
ramwas 1.27.0  (landing page)
Andrey A Shabalin
git_last_commit: 5615c3d
git_last_commit_date: 2023-10-24 10:54:39 -0500
nebbiolo1Linux (Ubuntu 22.04.3 LTS) / x86_64  OK    OK    OK  UNNEEDED, same version is already published
palomino3Windows Server 2022 Datacenter / x64  OK    OK    OK    OK  UNNEEDED, same version is already published
merida1macOS 12.7.1 Monterey / x86_64  OK    OK    OK    OK  UNNEEDED, same version is already published
kunpeng2Linux (openEuler 22.03 LTS-SP1) / aarch64  OK    OK    OK  
Package 80/110HostnameOS / ArchINSTALLBUILDCHECKBUILD BIN
recoup 1.31.0  (landing page)
Panagiotis Moulos
git_last_commit: 31525f0
git_last_commit_date: 2023-10-24 10:48:52 -0500
nebbiolo1Linux (Ubuntu 22.04.3 LTS) / x86_64  OK    OK    OK  UNNEEDED, same version is already published
palomino3Windows Server 2022 Datacenter / x64  OK    OK    OK    OK  UNNEEDED, same version is already published
merida1macOS 12.7.1 Monterey / x86_64  OK    OK    OK    OK  UNNEEDED, same version is already published
kunpeng2Linux (openEuler 22.03 LTS-SP1) / aarch64  OK    OK    OK  
Package 81/110HostnameOS / ArchINSTALLBUILDCHECKBUILD BIN
Repitools 1.49.0  (landing page)
Mark Robinson
git_last_commit: fc197a9
git_last_commit_date: 2023-10-24 09:47:10 -0500
nebbiolo1Linux (Ubuntu 22.04.3 LTS) / x86_64  ERROR    ERROR  skipped
palomino3Windows Server 2022 Datacenter / x64  ERROR    ERROR  skippedskipped
merida1macOS 12.7.1 Monterey / x86_64  ERROR    ERROR  skippedskipped
kunpeng2Linux (openEuler 22.03 LTS-SP1) / aarch64  OK    OK    WARNINGS  
Package 82/110HostnameOS / ArchINSTALLBUILDCHECKBUILD BIN
RiboDiPA 1.11.0  (landing page)
Ji-Ping Wang
git_last_commit: 943e910
git_last_commit_date: 2023-10-24 11:29:22 -0500
nebbiolo1Linux (Ubuntu 22.04.3 LTS) / x86_64  OK    OK    OK  UNNEEDED, same version is already published
palomino3Windows Server 2022 Datacenter / x64  OK    ERROR  skippedskipped
merida1macOS 12.7.1 Monterey / x86_64  OK    OK    OK    OK  UNNEEDED, same version is already published
kunpeng2Linux (openEuler 22.03 LTS-SP1) / aarch64  OK    OK    OK  
Package 83/110HostnameOS / ArchINSTALLBUILDCHECKBUILD BIN
RiboProfiling 1.33.0  (landing page)
A. Popa
git_last_commit: 6466c71
git_last_commit_date: 2023-10-24 10:45:56 -0500
nebbiolo1Linux (Ubuntu 22.04.3 LTS) / x86_64  OK    OK    WARNINGS  UNNEEDED, same version is already published
palomino3Windows Server 2022 Datacenter / x64  OK    ERROR  skippedskipped
merida1macOS 12.7.1 Monterey / x86_64  OK    OK    WARNINGS    OK  UNNEEDED, same version is already published
kunpeng2Linux (openEuler 22.03 LTS-SP1) / aarch64  OK    OK    WARNINGS  
Package 84/110HostnameOS / ArchINSTALLBUILDCHECKBUILD BIN
ribosomeProfilingQC 1.15.0  (landing page)
Jianhong Ou
git_last_commit: 4ee8832
git_last_commit_date: 2023-10-24 11:19:41 -0500
nebbiolo1Linux (Ubuntu 22.04.3 LTS) / x86_64  OK    OK    OK  UNNEEDED, same version is already published
palomino3Windows Server 2022 Datacenter / x64  OK    OK    OK    OK  UNNEEDED, same version is already published
merida1macOS 12.7.1 Monterey / x86_64  OK    OK    OK    OK  UNNEEDED, same version is already published
kunpeng2Linux (openEuler 22.03 LTS-SP1) / aarch64  OK    OK    OK  
Package 85/110HostnameOS / ArchINSTALLBUILDCHECKBUILD BIN
RNAmodR 1.17.0  (landing page)
Felix G.M. Ernst
git_last_commit: bb76e5a
git_last_commit_date: 2023-10-24 11:14:34 -0500
nebbiolo1Linux (Ubuntu 22.04.3 LTS) / x86_64  OK    OK    OK  UNNEEDED, same version is already published
palomino3Windows Server 2022 Datacenter / x64  OK    ERROR  skippedskipped
merida1macOS 12.7.1 Monterey / x86_64  OK    OK    OK    OK  UNNEEDED, same version is already published
kunpeng2Linux (openEuler 22.03 LTS-SP1) / aarch64  OK    ERROR  skipped
Package 86/110HostnameOS / ArchINSTALLBUILDCHECKBUILD BIN
roar 1.39.0  (landing page)
Elena Grassi
git_last_commit: 0901b38
git_last_commit_date: 2023-10-24 09:57:01 -0500
nebbiolo1Linux (Ubuntu 22.04.3 LTS) / x86_64  OK    OK    OK  UNNEEDED, same version is already published
palomino3Windows Server 2022 Datacenter / x64  OK    ERROR  skippedskipped
merida1macOS 12.7.1 Monterey / x86_64  OK    OK    OK    OK  UNNEEDED, same version is already published
kunpeng2Linux (openEuler 22.03 LTS-SP1) / aarch64  OK    OK    OK  
Package 87/110HostnameOS / ArchINSTALLBUILDCHECKBUILD BIN
Rqc 1.37.0  (landing page)
Welliton Souza
git_last_commit: 51151c3
git_last_commit_date: 2023-10-24 10:40:04 -0500
nebbiolo1Linux (Ubuntu 22.04.3 LTS) / x86_64  OK    OK    OK  UNNEEDED, same version is already published
palomino3Windows Server 2022 Datacenter / x64  OK    OK    OK    OK  UNNEEDED, same version is already published
merida1macOS 12.7.1 Monterey / x86_64  OK    OK    OK    OK  UNNEEDED, same version is already published
kunpeng2Linux (openEuler 22.03 LTS-SP1) / aarch64  OK    OK    OK  
Package 88/110HostnameOS / ArchINSTALLBUILDCHECKBUILD BIN
rtracklayer 1.63.0  (landing page)
Michael Lawrence
git_last_commit: 04bfc5d
git_last_commit_date: 2024-02-02 12:27:46 -0500
nebbiolo1Linux (Ubuntu 22.04.3 LTS) / x86_64  OK    OK    WARNINGS  UNNEEDED, same version is already published
palomino3Windows Server 2022 Datacenter / x64  OK    ERROR  skippedskipped
merida1macOS 12.7.1 Monterey / x86_64  OK    OK    WARNINGS    OK  UNNEEDED, same version is already published
kunpeng2Linux (openEuler 22.03 LTS-SP1) / aarch64  OK    OK    WARNINGS  
Package 89/110HostnameOS / ArchINSTALLBUILDCHECKBUILD BIN
saseR 0.99.7  (landing page)
Alexandre Segers
git_last_commit: c484cdc
git_last_commit_date: 2024-02-26 13:16:02 -0500
nebbiolo1Linux (Ubuntu 22.04.3 LTS) / x86_64  OK    OK    OK  UNNEEDED, same version is already published
palomino3Windows Server 2022 Datacenter / x64  OK    OK    OK    OK  UNNEEDED, same version is already published
merida1macOS 12.7.1 Monterey / x86_64  OK    OK    OK    OK  UNNEEDED, same version is already published
kunpeng2Linux (openEuler 22.03 LTS-SP1) / aarch64  OK    ERROR  skipped
Package 90/110HostnameOS / ArchINSTALLBUILDCHECKBUILD BIN
scPipe 2.3.1  (landing page)
Shian Su
git_last_commit: 225347e
git_last_commit_date: 2023-10-24 22:41:56 -0500
nebbiolo1Linux (Ubuntu 22.04.3 LTS) / x86_64  OK    OK    OK  UNNEEDED, same version is already published
palomino3Windows Server 2022 Datacenter / x64  OK    OK    OK    OK  UNNEEDED, same version is already published
merida1macOS 12.7.1 Monterey / x86_64  OK    OK    OK    OK  UNNEEDED, same version is already published
kunpeng2Linux (openEuler 22.03 LTS-SP1) / aarch64  OK    OK    OK  
Package 91/110HostnameOS / ArchINSTALLBUILDCHECKBUILD BIN
scruff 1.21.0  (landing page)
Zhe Wang
git_last_commit: b3153a5
git_last_commit_date: 2023-10-24 11:06:39 -0500
nebbiolo1Linux (Ubuntu 22.04.3 LTS) / x86_64  OK    OK    OK  UNNEEDED, same version is already published
palomino3Windows Server 2022 Datacenter / x64  OK    OK    OK    OK  UNNEEDED, same version is already published
merida1macOS 12.7.1 Monterey / x86_64  OK    OK    OK    OK  UNNEEDED, same version is already published
kunpeng2Linux (openEuler 22.03 LTS-SP1) / aarch64  OK    OK    OK  
Package 92/110HostnameOS / ArchINSTALLBUILDCHECKBUILD BIN
seqsetvis 1.23.5  (landing page)
Joseph R Boyd
git_last_commit: a6cdf0c
git_last_commit_date: 2024-02-02 14:43:55 -0500
nebbiolo1Linux (Ubuntu 22.04.3 LTS) / x86_64  OK    ERROR  skipped
palomino3Windows Server 2022 Datacenter / x64  OK    ERROR  skippedskipped
merida1macOS 12.7.1 Monterey / x86_64  OK    ERROR  skippedskipped
kunpeng2Linux (openEuler 22.03 LTS-SP1) / aarch64  OK    ERROR  skipped
Package 93/110HostnameOS / ArchINSTALLBUILDCHECKBUILD BIN
SGSeq 1.37.0  (landing page)
Leonard Goldstein
git_last_commit: 756479a
git_last_commit_date: 2023-10-24 10:39:42 -0500
nebbiolo1Linux (Ubuntu 22.04.3 LTS) / x86_64  OK    OK    OK  UNNEEDED, same version is already published
palomino3Windows Server 2022 Datacenter / x64  OK    OK    OK    OK  UNNEEDED, same version is already published
merida1macOS 12.7.1 Monterey / x86_64  OK    OK    OK    OK  UNNEEDED, same version is already published
kunpeng2Linux (openEuler 22.03 LTS-SP1) / aarch64  OK    OK    OK  
Package 94/110HostnameOS / ArchINSTALLBUILDCHECKBUILD BIN
ShortRead 1.61.2  (landing page)
Bioconductor Package Maintainer
git_last_commit: 3b04113
git_last_commit_date: 2024-01-17 18:56:31 -0500
nebbiolo1Linux (Ubuntu 22.04.3 LTS) / x86_64  OK    OK    WARNINGS  UNNEEDED, same version is already published
palomino3Windows Server 2022 Datacenter / x64  OK    OK    WARNINGS    OK  UNNEEDED, same version is already published
merida1macOS 12.7.1 Monterey / x86_64  OK    OK    WARNINGS    OK  UNNEEDED, same version is already published
kunpeng2Linux (openEuler 22.03 LTS-SP1) / aarch64  OK    OK    ERROR  
Package 95/110HostnameOS / ArchINSTALLBUILDCHECKBUILD BIN
single 1.7.0  (landing page)
Rocio Espada
git_last_commit: a7e0797
git_last_commit_date: 2023-10-24 11:40:50 -0500
nebbiolo1Linux (Ubuntu 22.04.3 LTS) / x86_64  OK    OK    OK  UNNEEDED, same version is already published
palomino3Windows Server 2022 Datacenter / x64  OK    OK    OK    OK  UNNEEDED, same version is already published
merida1macOS 12.7.1 Monterey / x86_64  OK    OK    OK    OK  UNNEEDED, same version is already published
kunpeng2Linux (openEuler 22.03 LTS-SP1) / aarch64  OK    OK    OK  
Package 96/110HostnameOS / ArchINSTALLBUILDCHECKBUILD BIN
soGGi 1.35.0  (landing page)
Tom Carroll
git_last_commit: 80ed9e5
git_last_commit_date: 2023-10-24 10:43:06 -0500
nebbiolo1Linux (Ubuntu 22.04.3 LTS) / x86_64  OK    OK    OK  UNNEEDED, same version is already published
palomino3Windows Server 2022 Datacenter / x64  OK    OK    OK    OK  UNNEEDED, same version is already published
merida1macOS 12.7.1 Monterey / x86_64  OK    OK    OK    OK  UNNEEDED, same version is already published
kunpeng2Linux (openEuler 22.03 LTS-SP1) / aarch64  OK    OK    OK  
Package 97/110HostnameOS / ArchINSTALLBUILDCHECKBUILD BIN
spiky 1.9.0  (landing page)
Tim Triche
git_last_commit: 2169d47
git_last_commit_date: 2023-10-24 11:34:17 -0500
nebbiolo1Linux (Ubuntu 22.04.3 LTS) / x86_64  OK    OK    OK  UNNEEDED, same version is already published
palomino3Windows Server 2022 Datacenter / x64  OK    OK    OK    OK  UNNEEDED, same version is already published
merida1macOS 12.7.1 Monterey / x86_64  OK    OK    OK    OK  UNNEEDED, same version is already published
kunpeng2Linux (openEuler 22.03 LTS-SP1) / aarch64  OK    ERROR  skipped
Package 98/110HostnameOS / ArchINSTALLBUILDCHECKBUILD BIN
SplicingGraphs 1.43.0  (landing page)
H. Pagès
git_last_commit: 4ff1265
git_last_commit_date: 2023-10-24 09:53:57 -0500
nebbiolo1Linux (Ubuntu 22.04.3 LTS) / x86_64  OK    OK    WARNINGS  UNNEEDED, same version is already published
palomino3Windows Server 2022 Datacenter / x64  OK    OK    WARNINGS    OK  UNNEEDED, same version is already published
merida1macOS 12.7.1 Monterey / x86_64  OK    OK    WARNINGS    OK  UNNEEDED, same version is already published
kunpeng2Linux (openEuler 22.03 LTS-SP1) / aarch64  OK    OK    WARNINGS  
Package 99/110HostnameOS / ArchINSTALLBUILDCHECKBUILD BIN
SPLINTER 1.29.0  (landing page)
Diana Low
git_last_commit: 37c9397
git_last_commit_date: 2023-10-24 10:53:00 -0500
nebbiolo1Linux (Ubuntu 22.04.3 LTS) / x86_64  OK    OK    OK  UNNEEDED, same version is already published
palomino3Windows Server 2022 Datacenter / x64  OK    OK    WARNINGS    OK  UNNEEDED, same version is already published
merida1macOS 12.7.1 Monterey / x86_64  OK    OK    OK    OK  UNNEEDED, same version is already published
kunpeng2Linux (openEuler 22.03 LTS-SP1) / aarch64  OK    ERROR  skipped
Package 100/110HostnameOS / ArchINSTALLBUILDCHECKBUILD BIN
srnadiff 1.23.2  (landing page)
Zytnicki Matthias
git_last_commit: d681bb3
git_last_commit_date: 2024-01-24 02:47:51 -0500
nebbiolo1Linux (Ubuntu 22.04.3 LTS) / x86_64  OK    ERROR  skipped
palomino3Windows Server 2022 Datacenter / x64  OK    ERROR  skippedskipped
merida1macOS 12.7.1 Monterey / x86_64  OK    ERROR  skippedskipped
kunpeng2Linux (openEuler 22.03 LTS-SP1) / aarch64  OK    ERROR  skipped
Package 101/110HostnameOS / ArchINSTALLBUILDCHECKBUILD BIN
strandCheckR 1.21.0  (landing page)
Thu-Hien To
git_last_commit: 2165bfd
git_last_commit_date: 2023-10-24 11:06:47 -0500
nebbiolo1Linux (Ubuntu 22.04.3 LTS) / x86_64  OK    OK    OK  UNNEEDED, same version is already published
palomino3Windows Server 2022 Datacenter / x64  OK    OK    OK    OK  UNNEEDED, same version is already published
merida1macOS 12.7.1 Monterey / x86_64  OK    OK    OK    OK  UNNEEDED, same version is already published
kunpeng2Linux (openEuler 22.03 LTS-SP1) / aarch64  OK    OK    OK  
Package 102/110HostnameOS / ArchINSTALLBUILDCHECKBUILD BIN
TAPseq 1.15.2  (landing page)
Andreas R. Gschwind
git_last_commit: aff4998
git_last_commit_date: 2024-02-01 13:25:34 -0500
nebbiolo1Linux (Ubuntu 22.04.3 LTS) / x86_64  OK    OK    WARNINGS  UNNEEDED, same version is already published
palomino3Windows Server 2022 Datacenter / x64  OK    OK    WARNINGS    OK  UNNEEDED, same version is already published
merida1macOS 12.7.1 Monterey / x86_64  OK    OK    WARNINGS    OK  UNNEEDED, same version is already published
kunpeng2Linux (openEuler 22.03 LTS-SP1) / aarch64  OK    ERROR  skipped
Package 103/110HostnameOS / ArchINSTALLBUILDCHECKBUILD BIN
TCseq 1.27.0  (landing page)
Mengjun Wu
git_last_commit: 08423d1
git_last_commit_date: 2023-10-24 10:54:52 -0500
nebbiolo1Linux (Ubuntu 22.04.3 LTS) / x86_64  OK    OK    WARNINGS  UNNEEDED, same version is already published
palomino3Windows Server 2022 Datacenter / x64  OK    OK    WARNINGS    OK  UNNEEDED, same version is already published
merida1macOS 12.7.1 Monterey / x86_64  OK    OK    WARNINGS    OK  UNNEEDED, same version is already published
kunpeng2Linux (openEuler 22.03 LTS-SP1) / aarch64  OK    OK    WARNINGS  
Package 104/110HostnameOS / ArchINSTALLBUILDCHECKBUILD BIN
trackViewer 1.39.12  (landing page)
Jianhong Ou
git_last_commit: a340db6
git_last_commit_date: 2024-02-16 19:36:57 -0500
nebbiolo1Linux (Ubuntu 22.04.3 LTS) / x86_64  OK    OK    OK  UNNEEDED, same version is already published
palomino3Windows Server 2022 Datacenter / x64  OK    OK    OK    OK  UNNEEDED, same version is already published
merida1macOS 12.7.1 Monterey / x86_64  OK    OK    OK    OK  UNNEEDED, same version is already published
kunpeng2Linux (openEuler 22.03 LTS-SP1) / aarch64  OK    ERROR  skipped
Package 105/110HostnameOS / ArchINSTALLBUILDCHECKBUILD BIN
transcriptR 1.31.0  (landing page)
Armen R. Karapetyan
git_last_commit: 021f50c
git_last_commit_date: 2023-10-24 10:46:44 -0500
nebbiolo1Linux (Ubuntu 22.04.3 LTS) / x86_64  OK    OK    OK  UNNEEDED, same version is already published
palomino3Windows Server 2022 Datacenter / x64  OK    OK    OK    OK  UNNEEDED, same version is already published
merida1macOS 12.7.1 Monterey / x86_64  OK    OK    OK    OK  UNNEEDED, same version is already published
kunpeng2Linux (openEuler 22.03 LTS-SP1) / aarch64  OK    OK    OK  
Package 106/110HostnameOS / ArchINSTALLBUILDCHECKBUILD BIN
Ularcirc 1.21.0  (landing page)
David Humphreys
git_last_commit: 590a1a8
git_last_commit_date: 2023-10-24 11:05:57 -0500
nebbiolo1Linux (Ubuntu 22.04.3 LTS) / x86_64  OK    OK    WARNINGS  UNNEEDED, same version is already published
palomino3Windows Server 2022 Datacenter / x64  OK    OK    WARNINGS    OK  UNNEEDED, same version is already published
merida1macOS 12.7.1 Monterey / x86_64  OK    OK    WARNINGS    OK  UNNEEDED, same version is already published
kunpeng2Linux (openEuler 22.03 LTS-SP1) / aarch64  OK    OK    WARNINGS  
Package 107/110HostnameOS / ArchINSTALLBUILDCHECKBUILD BIN
UMI4Cats 1.13.0  (landing page)
Mireia Ramos-Rodriguez
git_last_commit: 686977e
git_last_commit_date: 2023-10-24 11:24:33 -0500
nebbiolo1Linux (Ubuntu 22.04.3 LTS) / x86_64  OK    OK    ERROR  
palomino3Windows Server 2022 Datacenter / x64  OK    OK    ERROR    OK  
merida1macOS 12.7.1 Monterey / x86_64  OK    OK    ERROR    OK  
kunpeng2Linux (openEuler 22.03 LTS-SP1) / aarch64  OK    OK    ERROR  
Package 108/110HostnameOS / ArchINSTALLBUILDCHECKBUILD BIN
VaSP 1.15.0  (landing page)
Huihui Yu
git_last_commit: 1027b61
git_last_commit_date: 2023-10-24 11:19:38 -0500
nebbiolo1Linux (Ubuntu 22.04.3 LTS) / x86_64  OK    OK    OK  UNNEEDED, same version is already published
palomino3Windows Server 2022 Datacenter / x64  OK    OK    OK    OK  UNNEEDED, same version is already published
merida1macOS 12.7.1 Monterey / x86_64  OK    OK    OK    OK  UNNEEDED, same version is already published
kunpeng2Linux (openEuler 22.03 LTS-SP1) / aarch64  OK    OK    OK  
Package 109/110HostnameOS / ArchINSTALLBUILDCHECKBUILD BIN
VplotR 1.13.0  (landing page)
Jacques Serizay
git_last_commit: 6abac94
git_last_commit_date: 2023-11-29 14:30:46 -0500
nebbiolo1Linux (Ubuntu 22.04.3 LTS) / x86_64  OK    OK    ERROR  
palomino3Windows Server 2022 Datacenter / x64  OK    ERROR  skippedskipped
merida1macOS 12.7.1 Monterey / x86_64  OK    OK    OK    OK  UNNEEDED, same version is already published
kunpeng2Linux (openEuler 22.03 LTS-SP1) / aarch64  OK    ERROR  skipped
Package 110/110HostnameOS / ArchINSTALLBUILDCHECKBUILD BIN
ZygosityPredictor 1.3.7  (landing page)
Marco Rheinnecker
git_last_commit: a0331ec
git_last_commit_date: 2024-02-15 03:21:54 -0500
nebbiolo1Linux (Ubuntu 22.04.3 LTS) / x86_64  OK    OK    OK  UNNEEDED, same version is already published
palomino3Windows Server 2022 Datacenter / x64  OK    OK    OK    OK  UNNEEDED, same version is already published
merida1macOS 12.7.1 Monterey / x86_64  OK    OK    OK    OK  UNNEEDED, same version is already published
kunpeng2Linux (openEuler 22.03 LTS-SP1) / aarch64  OK    OK    OK