Back to Multiple platform build/check report for BioC 3.20:   simplified   long
AB[C]DEFGHIJKLMNOPQRSTUVWXYZ

This page was generated on 2024-07-23 11:38 -0400 (Tue, 23 Jul 2024).

HostnameOSArch (*)R versionInstalled pkgs
nebbiolo2Linux (Ubuntu 22.04.3 LTS)x86_644.4.1 (2024-06-14) -- "Race for Your Life" 4688
palomino8Windows Server 2022 Datacenterx644.4.1 (2024-06-14 ucrt) -- "Race for Your Life" 4280
lconwaymacOS 12.7.1 Montereyx86_644.4.1 (2024-06-14) -- "Race for Your Life" 4455
kjohnson3macOS 13.6.5 Venturaarm644.4.1 (2024-06-14) -- "Race for Your Life" 4404
Click on any hostname to see more info about the system (e.g. compilers)      (*) as reported by 'uname -p', except on Windows and Mac OS X

Package 419/2248HostnameOS / ArchINSTALLBUILDCHECKBUILD BIN
CONFESS 1.33.0  (landing page)
Diana LOW
Snapshot Date: 2024-07-22 14:00 -0400 (Mon, 22 Jul 2024)
git_url: https://git.bioconductor.org/packages/CONFESS
git_branch: devel
git_last_commit: a992203
git_last_commit_date: 2024-04-30 10:50:05 -0400 (Tue, 30 Apr 2024)
nebbiolo2Linux (Ubuntu 22.04.3 LTS) / x86_64  OK    OK    WARNINGS  UNNEEDED, same version is already published
palomino8Windows Server 2022 Datacenter / x64  OK    OK    WARNINGS    OK  UNNEEDED, same version is already published
lconwaymacOS 12.7.1 Monterey / x86_64  OK    OK    WARNINGS    OK  UNNEEDED, same version is already published
kjohnson3macOS 13.6.5 Ventura / arm64  OK    OK    WARNINGS    OK  UNNEEDED, same version is already published


BUILD results for CONFESS on nebbiolo2

To the developers/maintainers of the CONFESS package:
- Allow up to 24 hours (and sometimes 48 hours) for your latest push to git@git.bioconductor.org:packages/CONFESS.git to reflect on this report. See Troubleshooting Build Report for more information.
- Use the following Renviron settings to reproduce errors and warnings.
- If 'R CMD check' started to fail recently on the Linux builder(s) over a missing dependency, add the missing dependency to 'Suggests:' in your DESCRIPTION file. See Renviron.bioc for more information.

raw results


Summary

Package: CONFESS
Version: 1.33.0
Command: /home/biocbuild/bbs-3.20-bioc/R/bin/R CMD build --keep-empty-dirs --no-resave-data --md5 CONFESS
StartedAt: 2024-07-22 16:47:37 -0400 (Mon, 22 Jul 2024)
EndedAt: 2024-07-22 16:50:26 -0400 (Mon, 22 Jul 2024)
EllapsedTime: 168.3 seconds
RetCode: 0
Status:   OK  
PackageFile: CONFESS_1.33.0.tar.gz
PackageFileSize: 3.592 MiB

Command output

##############################################################################
##############################################################################
###
### Running command:
###
###   /home/biocbuild/bbs-3.20-bioc/R/bin/R CMD build --keep-empty-dirs --no-resave-data --md5 CONFESS
###
##############################################################################
##############################################################################


* checking for file ‘CONFESS/DESCRIPTION’ ... OK
* preparing ‘CONFESS’:
* checking DESCRIPTION meta-information ... OK
* installing the package to build vignettes
* creating vignettes ... OK
* checking for LF line-endings in source and make files and shell scripts
* checking for empty or unneeded directories
* adding MD5 file
* building ‘CONFESS_1.33.0.tar.gz’