Back to Multiple platform build/check report for BioC 3.15
ABCDEFGHIJKL[M]NOPQRSTUVWXYZ

This page was generated on 2022-01-21 11:05:03 -0500 (Fri, 21 Jan 2022).

HostnameOSArch (*)R versionInstalled pkgs
nebbiolo1Linux (Ubuntu 20.04.4 LTS)x86_64R Under development (unstable) (2022-01-05 r81451) -- "Unsuffered Consequences" 4163
riesling1Windows Server 2019 Standardx64R Under development (unstable) (2021-11-21 r81221) -- "Unsuffered Consequences" 4058
palomino3Windows Server 2022 Datacenterx64R Under development (unstable) (2021-12-21 r81400 ucrt) -- "Unsuffered Consequences" 4000
merida1macOS 10.14.6 Mojavex86_64R Under development (unstable) (2022-01-05 r81451) -- "Unsuffered Consequences" 4117
Click on any hostname to see more info about the system (e.g. compilers)      (*) as reported by 'uname -p', except on Windows and Mac OS X

All results for package MSnbase


To the developers/maintainers of the MSnbase package:
- Please allow up to 24 hours (and sometimes 48 hours) for your latest push to git@git.bioconductor.org:packages/MSnbase.git to
reflect on this report. See How and When does the builder pull? When will my changes propagate? here for more information.
- Make sure to use the following settings in order to reproduce any error or warning you see on this page.

raw results

Package 1217/2075HostnameOS / ArchINSTALLBUILDCHECKBUILD BIN
MSnbase 2.21.4  (landing page)
Laurent Gatto
Snapshot Date: 2022-01-20 13:55:17 -0500 (Thu, 20 Jan 2022)
git_url: https://git.bioconductor.org/packages/MSnbase
git_branch: master
git_last_commit: 9ae61b97
git_last_commit_date: 2022-01-13 12:03:54 -0500 (Thu, 13 Jan 2022)
nebbiolo1Linux (Ubuntu 20.04.4 LTS) / x86_64  OK    OK    OK  UNNEEDED, same version is already published
riesling1Windows Server 2019 Standard / x64  OK    OK    ERROR    OK  
palomino3Windows Server 2022 Datacenter / x64  OK    OK    OK    OK  NO, package depends on 'BiocGenerics' which is not available
merida1macOS 10.14.6 Mojave / x86_64  OK    OK    OK    OK  UNNEEDED, same version is already published

Results for Bioconductor software packages that depend directly on package MSnbase

QUICK STATSOS / ArchINSTALLBUILDCHECKBUILD BIN
nebbiolo1Linux (Ubuntu 20.04.4 LTS) / x86_64
0120
0615
01311
riesling1Windows Server 2019 Standard / x64
0120
0615
01311
0015
palomino3Windows Server 2022 Datacenter / x64
0120
0615
01311
0015
merida1macOS 10.14.6 Mojave / x86_64
0120
0615
02310
0015
Package 1/21HostnameOS / ArchINSTALLBUILDCHECKBUILD BIN
Autotuner 1.9.1  (landing page)
Craig McLean
git_last_commit: 11790e4
git_last_commit_date: 2021-11-15 13:31:00 -0500
nebbiolo1Linux (Ubuntu 20.04.4 LTS) / x86_64  OK    ERROR  skipped
riesling1Windows Server 2019 Standard / x64  OK    ERROR  skippedskipped
palomino3Windows Server 2022 Datacenter / x64  OK    ERROR  skippedskipped
merida1macOS 10.14.6 Mojave / x86_64  OK    ERROR  skippedskipped
Package 2/21HostnameOS / ArchINSTALLBUILDCHECKBUILD BIN
cliqueMS 1.9.0  (landing page)
Oriol Senan Campos
git_last_commit: 21c8e9c
git_last_commit_date: 2021-10-26 12:56:10 -0500
nebbiolo1Linux (Ubuntu 20.04.4 LTS) / x86_64  OK    OK    OK  UNNEEDED, same version is already published
riesling1Windows Server 2019 Standard / x64  OK    OK    OK    OK  
palomino3Windows Server 2022 Datacenter / x64  OK    OK    OK    OK  NO, package depends on 'xcms' which is not available
merida1macOS 10.14.6 Mojave / x86_64  OK    OK    OK    OK  NO, package depends on 'xcms' which is not available
Package 3/21HostnameOS / ArchINSTALLBUILDCHECKBUILD BIN
CluMSID 1.11.0  (landing page)
Tobias Depke
git_last_commit: 5893acc
git_last_commit_date: 2021-10-26 12:48:48 -0500
nebbiolo1Linux (Ubuntu 20.04.4 LTS) / x86_64  OK    OK    OK  UNNEEDED, same version is already published
riesling1Windows Server 2019 Standard / x64  OK    OK    OK    OK  
palomino3Windows Server 2022 Datacenter / x64  OK    OK    OK    OK  NO, package depends on 'mzR' which is not available
merida1macOS 10.14.6 Mojave / x86_64  OK    OK    OK    OK  UNNEEDED, same version is already published
Package 4/21HostnameOS / ArchINSTALLBUILDCHECKBUILD BIN
DAPAR 1.27.0  (landing page)
Samuel Wieczorek
git_last_commit: bb43d36
git_last_commit_date: 2021-10-26 12:22:53 -0500
nebbiolo1Linux (Ubuntu 20.04.4 LTS) / x86_64  ERROR    ERROR  skipped
riesling1Windows Server 2019 Standard / x64  ERROR    ERROR  skippedskipped
palomino3Windows Server 2022 Datacenter / x64  ERROR    ERROR  skippedskipped
merida1macOS 10.14.6 Mojave / x86_64  ERROR    ERROR  skippedskipped
Package 5/21HostnameOS / ArchINSTALLBUILDCHECKBUILD BIN
DEP 1.17.1  (landing page)
Arne Smits
git_last_commit: e24250e
git_last_commit_date: 2021-11-20 23:32:00 -0500
nebbiolo1Linux (Ubuntu 20.04.4 LTS) / x86_64  OK    OK    WARNINGS  UNNEEDED, same version is already published
riesling1Windows Server 2019 Standard / x64  OK    OK    WARNINGS    OK  
palomino3Windows Server 2022 Datacenter / x64  OK    OK    WARNINGS    OK  NO, package depends on 'SummarizedExperiment' which is not available
merida1macOS 10.14.6 Mojave / x86_64  OK    OK    WARNINGS    OK  UNNEEDED, same version is already published
Package 6/21HostnameOS / ArchINSTALLBUILDCHECKBUILD BIN
MetCirc 1.25.1  (landing page)
Thomas Naake
git_last_commit: d2c1c34
git_last_commit_date: 2021-11-21 00:32:28 -0500
nebbiolo1Linux (Ubuntu 20.04.4 LTS) / x86_64  OK    OK    OK  UNNEEDED, same version is already published
riesling1Windows Server 2019 Standard / x64  OK    OK    OK    OK  
palomino3Windows Server 2022 Datacenter / x64  OK    OK    OK    OK  NO, package depends on 'MSnbase' which is not available
merida1macOS 10.14.6 Mojave / x86_64  OK    OK    OK    OK  UNNEEDED, same version is already published
Package 7/21HostnameOS / ArchINSTALLBUILDCHECKBUILD BIN
msmsEDA 1.33.0  (landing page)
Josep Gregori
git_last_commit: e4be1fb
git_last_commit_date: 2021-10-26 12:09:04 -0500
nebbiolo1Linux (Ubuntu 20.04.4 LTS) / x86_64  OK    OK    OK  UNNEEDED, same version is already published
riesling1Windows Server 2019 Standard / x64  OK    OK    OK    OK  
palomino3Windows Server 2022 Datacenter / x64  OK    OK    OK    OK  NO, package depends on 'MSnbase' which is not available
merida1macOS 10.14.6 Mojave / x86_64  OK    OK    OK    OK  UNNEEDED, same version is already published
Package 8/21HostnameOS / ArchINSTALLBUILDCHECKBUILD BIN
msmsTests 1.33.0  (landing page)
Josep Gregori i Font
git_last_commit: a4afb98
git_last_commit_date: 2021-10-26 12:09:10 -0500
nebbiolo1Linux (Ubuntu 20.04.4 LTS) / x86_64  OK    OK    OK  UNNEEDED, same version is already published
riesling1Windows Server 2019 Standard / x64  OK    OK    OK    OK  
palomino3Windows Server 2022 Datacenter / x64  OK    OK    OK    OK  NO, package depends on 'MSnbase' which is not available
merida1macOS 10.14.6 Mojave / x86_64  OK    OK    OK    OK  UNNEEDED, same version is already published
Package 9/21HostnameOS / ArchINSTALLBUILDCHECKBUILD BIN
MSnID 1.29.0  (landing page)
Vlad Petyuk
git_last_commit: 421aa9e
git_last_commit_date: 2021-10-26 12:16:01 -0500
nebbiolo1Linux (Ubuntu 20.04.4 LTS) / x86_64  OK    OK    OK  UNNEEDED, same version is already published
riesling1Windows Server 2019 Standard / x64  OK    OK    OK    OK  
palomino3Windows Server 2022 Datacenter / x64  OK    OK    OK    OK  NO, package depends on 'MSnbase' which is not available
merida1macOS 10.14.6 Mojave / x86_64  OK    OK    OK    OK  UNNEEDED, same version is already published
Package 10/21HostnameOS / ArchINSTALLBUILDCHECKBUILD BIN
MSstatsQC 2.13.0  (landing page)
Eralp Dogu
git_last_commit: feba788
git_last_commit_date: 2021-10-26 12:38:21 -0500
nebbiolo1Linux (Ubuntu 20.04.4 LTS) / x86_64  OK    OK    ERROR  
riesling1Windows Server 2019 Standard / x64  OK    OK    ERROR    OK  
palomino3Windows Server 2022 Datacenter / x64  OK    OK    ERROR    OK  
merida1macOS 10.14.6 Mojave / x86_64  OK    OK    ERROR    OK  
Package 11/21HostnameOS / ArchINSTALLBUILDCHECKBUILD BIN
peakPantheR 1.9.0  (landing page)
Arnaud Wolfer
git_last_commit: 19b5404
git_last_commit_date: 2021-10-26 12:54:33 -0500
nebbiolo1Linux (Ubuntu 20.04.4 LTS) / x86_64  OK    OK    OK  UNNEEDED, same version is already published
riesling1Windows Server 2019 Standard / x64  OK    OK    OK    OK  
palomino3Windows Server 2022 Datacenter / x64  OK    OK    OK    OK  NO, package depends on 'MSnbase' which is not available
merida1macOS 10.14.6 Mojave / x86_64  OK    OK    ERROR    OK  
Package 12/21HostnameOS / ArchINSTALLBUILDCHECKBUILD BIN
PrInCE 1.11.0  (landing page)
Michael Skinnider
git_last_commit: f854bc2
git_last_commit_date: 2021-10-26 12:49:58 -0500
nebbiolo1Linux (Ubuntu 20.04.4 LTS) / x86_64  OK    OK    WARNINGS  UNNEEDED, same version is already published
riesling1Windows Server 2019 Standard / x64  OK    OK    WARNINGS    OK  
palomino3Windows Server 2022 Datacenter / x64  OK    OK    WARNINGS    OK  NO, package depends on 'Biobase' which is not available
merida1macOS 10.14.6 Mojave / x86_64  OK    OK    WARNINGS    OK  UNNEEDED, same version is already published
Package 13/21HostnameOS / ArchINSTALLBUILDCHECKBUILD BIN
pRoloc 1.35.0  (landing page)
Laurent Gatto
git_last_commit: 169c365
git_last_commit_date: 2021-10-26 12:05:36 -0500
nebbiolo1Linux (Ubuntu 20.04.4 LTS) / x86_64  OK    OK    OK  UNNEEDED, same version is already published
riesling1Windows Server 2019 Standard / x64  OK    OK    OK    OK  
palomino3Windows Server 2022 Datacenter / x64  OK    OK    OK    OK  NO, package depends on 'MSnbase' which is not available
merida1macOS 10.14.6 Mojave / x86_64  OK    OK    OK    OK  UNNEEDED, same version is already published
Package 14/21HostnameOS / ArchINSTALLBUILDCHECKBUILD BIN
pRolocGUI 2.5.0  (landing page)
Laurent Gatto
git_last_commit: fb7a8e5
git_last_commit_date: 2022-01-18 11:57:22 -0500
nebbiolo1Linux (Ubuntu 20.04.4 LTS) / x86_64  OK    OK    OK  UNNEEDED, same version is already published
riesling1Windows Server 2019 Standard / x64  OK    OK    OK    OK  
palomino3Windows Server 2022 Datacenter / x64  OK    OK    OK    OK  NO, package depends on 'pRoloc' which is not available
merida1macOS 10.14.6 Mojave / x86_64  OK    OK    OK    OK  UNNEEDED, same version is already published
Package 15/21HostnameOS / ArchINSTALLBUILDCHECKBUILD BIN
ProteomicsAnnotationHubData 1.25.2  (landing page)
Laurent Gatto
git_last_commit: 256bf08
git_last_commit_date: 2022-01-07 09:01:30 -0500
nebbiolo1Linux (Ubuntu 20.04.4 LTS) / x86_64  OK    ERROR  skipped
riesling1Windows Server 2019 Standard / x64  OK    ERROR  skippedskipped
palomino3Windows Server 2022 Datacenter / x64  OK    ERROR  skippedskipped
merida1macOS 10.14.6 Mojave / x86_64  OK    ERROR  skippedskipped
Package 16/21HostnameOS / ArchINSTALLBUILDCHECKBUILD BIN
ptairMS 1.3.0  (landing page)
camille Roquencourt
git_last_commit: 5f734e0
git_last_commit_date: 2021-10-26 13:08:34 -0500
nebbiolo1Linux (Ubuntu 20.04.4 LTS) / x86_64  OK    OK    OK  UNNEEDED, same version is already published
riesling1Windows Server 2019 Standard / x64  OK    OK    OK    OK  
palomino3Windows Server 2022 Datacenter / x64  OK    OK    OK    OK  NO, package depends on 'Biobase' which is not available
merida1macOS 10.14.6 Mojave / x86_64  OK    OK    OK    OK  UNNEEDED, same version is already published
Package 17/21HostnameOS / ArchINSTALLBUILDCHECKBUILD BIN
qPLEXanalyzer 1.13.0  (landing page)
Ashley Sawle
git_last_commit: 620a31e
git_last_commit_date: 2021-10-26 12:45:29 -0500
nebbiolo1Linux (Ubuntu 20.04.4 LTS) / x86_64  OK    ERROR  skipped
riesling1Windows Server 2019 Standard / x64  OK    ERROR  skippedskipped
palomino3Windows Server 2022 Datacenter / x64  OK    ERROR  skippedskipped
merida1macOS 10.14.6 Mojave / x86_64  OK    ERROR  skippedskipped
Package 18/21HostnameOS / ArchINSTALLBUILDCHECKBUILD BIN
RMassBank 3.5.0  (landing page)
RMassBank at Eawag
git_last_commit: 44deb36
git_last_commit_date: 2021-12-16 16:33:16 -0500
nebbiolo1Linux (Ubuntu 20.04.4 LTS) / x86_64  OK    OK    WARNINGS  UNNEEDED, same version is already published
riesling1Windows Server 2019 Standard / x64  OK    OK    WARNINGS    OK  
palomino3Windows Server 2022 Datacenter / x64  OK    OK    WARNINGS    OK  NO, package depends on 'S4Vectors' which is not available
merida1macOS 10.14.6 Mojave / x86_64  OK    OK    WARNINGS    OK  UNNEEDED, same version is already published
Package 19/21HostnameOS / ArchINSTALLBUILDCHECKBUILD BIN
synapter 2.19.0  (landing page)
Laurent Gatto
git_last_commit: 6ff5122
git_last_commit_date: 2021-10-26 12:03:45 -0500
nebbiolo1Linux (Ubuntu 20.04.4 LTS) / x86_64  OK    ERROR  skipped
riesling1Windows Server 2019 Standard / x64  OK    ERROR  skippedskipped
palomino3Windows Server 2022 Datacenter / x64  OK    ERROR  skippedskipped
merida1macOS 10.14.6 Mojave / x86_64  OK    ERROR  skippedskipped
Package 20/21HostnameOS / ArchINSTALLBUILDCHECKBUILD BIN
topdownr 1.17.1  (landing page)
Sebastian Gibb
git_last_commit: 7f98de2
git_last_commit_date: 2021-11-21 05:58:02 -0500
nebbiolo1Linux (Ubuntu 20.04.4 LTS) / x86_64  OK    OK    OK  UNNEEDED, same version is already published
riesling1Windows Server 2019 Standard / x64  OK    OK    OK    OK  
palomino3Windows Server 2022 Datacenter / x64  OK    OK    OK    OK  NO, package depends on 'BiocGenerics' which is not available
merida1macOS 10.14.6 Mojave / x86_64  OK    OK    OK    OK  UNNEEDED, same version is already published
Package 21/21HostnameOS / ArchINSTALLBUILDCHECKBUILD BIN
xcms 3.17.3  (landing page)
Steffen Neumann
git_last_commit: c967638
git_last_commit_date: 2021-11-22 17:49:37 -0500
nebbiolo1Linux (Ubuntu 20.04.4 LTS) / x86_64  OK    ERROR  skipped
riesling1Windows Server 2019 Standard / x64  OK    ERROR  skippedskipped
palomino3Windows Server 2022 Datacenter / x64  OK    ERROR  skippedskipped
merida1macOS 10.14.6 Mojave / x86_64  OK    ERROR  skippedskipped