Back to Multiple platform build/check report for BioC 3.15
ABCDEFGHIJKLMNOPQ[R]STUVWXYZ

This page was generated on 2021-11-25 14:04:14 -0500 (Thu, 25 Nov 2021).

All results for package rbsurv

To the developers/maintainers of the rbsurv package:
- Please allow up to 24 hours (and sometimes 48 hours) for your latest push to git@git.bioconductor.org:packages/rbsurv.git to
reflect on this report. See How and When does the builder pull? When will my changes propagate? here for more information.
- Make sure to use the following settings in order to reproduce any error or warning you see on this page.

raw results

Package 1527/2068HostnameOS / ArchINSTALLBUILDCHECKBUILD BIN
rbsurv 2.53.0  (landing page)
Soo-heang Eo
Snapshot Date: 2021-11-24 14:50:13 -0500 (Wed, 24 Nov 2021)
git_url: https://git.bioconductor.org/packages/rbsurv
git_branch: master
git_last_commit: f7b1984
git_last_commit_date: 2021-10-26 11:51:10 -0500 (Tue, 26 Oct 2021)
nebbiolo1Linux (Ubuntu 20.04.3 LTS) / x86_64  OK    OK    OK  UNNEEDED, same version is already published
riesling1Windows Server 2019 Standard / x64  OK    OK    OK    OK  
merida1macOS 10.14.6 Mojave / x86_64  OK    OK    OK    OK  UNNEEDED, same version is already published