Back to Multiple platform build/check report for BioC 3.15
ABC[D]EFGHIJKLMNOPQRSTUVWXYZ

This page was generated on 2021-11-27 14:04:06 -0500 (Sat, 27 Nov 2021).

All results for package DNAshapeR

To the developers/maintainers of the DNAshapeR package:
- Please allow up to 24 hours (and sometimes 48 hours) for your latest push to git@git.bioconductor.org:packages/DNAshapeR.git to
reflect on this report. See How and When does the builder pull? When will my changes propagate? here for more information.
- Make sure to use the following settings in order to reproduce any error or warning you see on this page.

raw results

Package 530/2068HostnameOS / ArchINSTALLBUILDCHECKBUILD BIN
DNAshapeR 1.23.0  (landing page)
Tsu-Pei Chiu
Snapshot Date: 2021-11-26 14:50:14 -0500 (Fri, 26 Nov 2021)
git_url: https://git.bioconductor.org/packages/DNAshapeR
git_branch: master
git_last_commit: fc10bd7
git_last_commit_date: 2021-10-26 12:26:17 -0500 (Tue, 26 Oct 2021)
nebbiolo1Linux (Ubuntu 20.04.3 LTS) / x86_64  OK    OK    OK  UNNEEDED, same version is already published
riesling1Windows Server 2019 Standard / x64  OK    OK    OK    OK  
merida1macOS 10.14.6 Mojave / x86_64  OK    OK    OK    OK  UNNEEDED, same version is already published