Back to Build/check report for BioC 3.13
ABCDEFGH[I]JKLMNOPQRSTUVWXYZ

Build/check report for BioC 3.13

Results for IgGeneUsage

This page was generated on 2020-10-29 10:59:24 -0400 (Thu, 29 Oct 2020).

Package 852/1906HostnameOS / ArchINSTALLBUILDCHECKBUILD BIN
IgGeneUsage 1.5.0
Simo Kitanovski
Snapshot Date: 2020-10-28 14:40:04 -0400 (Wed, 28 Oct 2020)
URL: https://git.bioconductor.org/packages/IgGeneUsage
Branch: master
Last Commit: ac41981
Last Changed Date: 2020-10-27 11:48:06 -0400 (Tue, 27 Oct 2020)
malbec2 Linux (Ubuntu 18.04.4 LTS) / x86_64  OK  OK  OK UNNEEDED, same version exists in internal repository