Back to Multiple platform build/check report for BioC 3.18:   simplified   long
ABCDEFGHIJKLMNOPQR[S]TUVWXYZ

This page was generated on 2023-06-03 11:05:05 -0400 (Sat, 03 Jun 2023).

HostnameOSArch (*)R versionInstalled pkgs
nebbiolo2Linux (Ubuntu 22.04.2 LTS)x86_644.3.0 RC (2023-04-18 r84287) -- "Already Tomorrow" 4593
palomino4Windows Server 2022 Datacenterx644.3.0 RC (2023-04-18 r84287 ucrt) -- "Already Tomorrow" 4342
lconwaymacOS 12.6.5 Montereyx86_644.3.0 RC (2023-04-13 r84266) -- "Already Tomorrow" 4343
Click on any hostname to see more info about the system (e.g. compilers)      (*) as reported by 'uname -p', except on Windows and Mac OS X

All results for package sva


To the developers/maintainers of the sva package:
- Allow up to 24 hours (and sometimes 48 hours) for your latest push to git@git.bioconductor.org:packages/sva.git to reflect on this report. See Troubleshooting Build Report for more information.

- Use the following Renviron settings to reproduce errors and warnings.

Note: If "R CMD check" recently failed on the Linux builder over a missing dependency, add the missing dependency to "Suggests" in your DESCRIPTION file. See the Renviron.bioc for details.

raw results

Package 2018/2199HostnameOS / ArchINSTALLBUILDCHECKBUILD BIN
sva 3.49.0  (landing page)
Jeffrey T. Leek , John D. Storey
Snapshot Date: 2023-06-02 14:00:07 -0400 (Fri, 02 Jun 2023)
git_url: https://git.bioconductor.org/packages/sva
git_branch: devel
git_last_commit: 1d7f047
git_last_commit_date: 2023-04-25 10:21:22 -0400 (Tue, 25 Apr 2023)
nebbiolo2Linux (Ubuntu 22.04.2 LTS) / x86_64  OK    OK    OK  UNNEEDED, same version is already published
palomino4Windows Server 2022 Datacenter / x64  OK    OK    OK    OK  UNNEEDED, same version is already published
lconwaymacOS 12.6.5 Monterey / x86_64  OK    OK    OK    OK  UNNEEDED, same version is already published

Results for Bioconductor software packages that depend directly on package sva

QUICK STATSOS / ArchINSTALLBUILDCHECKBUILD BIN
nebbiolo2Linux (Ubuntu 22.04.2 LTS) / x86_64
0028
0127
02619
palomino4Windows Server 2022 Datacenter / x64
0028
0127
01620
0027
lconwaymacOS 12.6.5 Monterey / x86_64
0028
0028
01621
0028
Package 1/28HostnameOS / ArchINSTALLBUILDCHECKBUILD BIN
ASSIGN 1.37.0  (landing page)
Ying Shen , W. Evan Johnson
git_last_commit: cd69730
git_last_commit_date: 2023-04-25 10:31:13 -0400
nebbiolo2Linux (Ubuntu 22.04.2 LTS) / x86_64  OK    OK    OK  UNNEEDED, same version is already published
palomino4Windows Server 2022 Datacenter / x64  OK    OK    OK    OK  UNNEEDED, same version is already published
lconwaymacOS 12.6.5 Monterey / x86_64  OK    OK    OK    OK  UNNEEDED, same version is already published
Package 2/28HostnameOS / ArchINSTALLBUILDCHECKBUILD BIN
ballgown 2.33.0  (landing page)
Jack Fu
git_last_commit: 7bab0df
git_last_commit_date: 2023-04-25 10:33:25 -0400
nebbiolo2Linux (Ubuntu 22.04.2 LTS) / x86_64  OK    OK    OK  UNNEEDED, same version is already published
palomino4Windows Server 2022 Datacenter / x64  OK    OK    OK    OK  UNNEEDED, same version is already published
lconwaymacOS 12.6.5 Monterey / x86_64  OK    OK    OK    OK  UNNEEDED, same version is already published
Package 3/28HostnameOS / ArchINSTALLBUILDCHECKBUILD BIN
BatchQC 1.29.0  (landing page)
Solaiappan Manimaran
git_last_commit: ba22b44
git_last_commit_date: 2023-04-25 10:46:13 -0400
nebbiolo2Linux (Ubuntu 22.04.2 LTS) / x86_64  OK    OK    OK  UNNEEDED, same version is already published
palomino4Windows Server 2022 Datacenter / x64  OK    OK    OK    OK  UNNEEDED, same version is already published
lconwaymacOS 12.6.5 Monterey / x86_64  OK    OK    OK    OK  UNNEEDED, same version is already published
Package 4/28HostnameOS / ArchINSTALLBUILDCHECKBUILD BIN
BioNERO 1.9.2  (landing page)
Fabricio Almeida-Silva
git_last_commit: 6f0c087
git_last_commit_date: 2023-06-01 12:59:06 -0400
nebbiolo2Linux (Ubuntu 22.04.2 LTS) / x86_64  OK    OK    OK  NO, package depends on 'GENIE3' which is not available
palomino4Windows Server 2022 Datacenter / x64  OK    OK    OK    OK  UNNEEDED, same version is already published
lconwaymacOS 12.6.5 Monterey / x86_64  OK    OK    OK    OK  UNNEEDED, same version is already published
Package 5/28HostnameOS / ArchINSTALLBUILDCHECKBUILD BIN
bnbc 1.23.0  (landing page)
Kipper Fletez-Brant
git_last_commit: d4ea9a9
git_last_commit_date: 2023-04-25 10:57:18 -0400
nebbiolo2Linux (Ubuntu 22.04.2 LTS) / x86_64  OK    OK    WARNINGS  UNNEEDED, same version is already published
palomino4Windows Server 2022 Datacenter / x64  OK    OK    WARNINGS    OK  UNNEEDED, same version is already published
lconwaymacOS 12.6.5 Monterey / x86_64  OK    OK    WARNINGS    OK  UNNEEDED, same version is already published
Package 6/28HostnameOS / ArchINSTALLBUILDCHECKBUILD BIN
bnem 1.9.0  (landing page)
Martin Pirkl
git_last_commit: 38ae099
git_last_commit_date: 2023-05-23 04:32:29 -0400
nebbiolo2Linux (Ubuntu 22.04.2 LTS) / x86_64  OK    OK    OK  NO, package depends on 'epiNEM' which is not available
palomino4Windows Server 2022 Datacenter / x64  OK    OK    OK    OK  NO, package depends on 'epiNEM' which is not available
lconwaymacOS 12.6.5 Monterey / x86_64  OK    OK    OK    OK  UNNEEDED, same version is already published
Package 7/28HostnameOS / ArchINSTALLBUILDCHECKBUILD BIN
ChAMP 2.31.0  (landing page)
Yuan Tian
git_last_commit: b9f4dfc
git_last_commit_date: 2023-04-25 10:29:24 -0400
nebbiolo2Linux (Ubuntu 22.04.2 LTS) / x86_64  OK    OK    WARNINGS  NO, package depends on 'DMRcate' which is not available
palomino4Windows Server 2022 Datacenter / x64  OK    OK    WARNINGS    OK  UNNEEDED, same version is already published
lconwaymacOS 12.6.5 Monterey / x86_64  OK    OK    WARNINGS    OK  UNNEEDED, same version is already published
Package 8/28HostnameOS / ArchINSTALLBUILDCHECKBUILD BIN
crossmeta 1.27.0  (landing page)
Alex Pickering
git_last_commit: 26ea51c
git_last_commit_date: 2023-04-25 10:47:37 -0400
nebbiolo2Linux (Ubuntu 22.04.2 LTS) / x86_64  OK    OK    ERROR  
palomino4Windows Server 2022 Datacenter / x64  OK    OK    OK    OK  UNNEEDED, same version is already published
lconwaymacOS 12.6.5 Monterey / x86_64  OK    OK    OK    OK  UNNEEDED, same version is already published
Package 9/28HostnameOS / ArchINSTALLBUILDCHECKBUILD BIN
DaMiRseq 2.13.0  (landing page)
Mattia Chiesa
git_last_commit: 242ee9c
git_last_commit_date: 2023-04-25 10:53:00 -0400
nebbiolo2Linux (Ubuntu 22.04.2 LTS) / x86_64  OK    OK    OK  UNNEEDED, same version is already published
palomino4Windows Server 2022 Datacenter / x64  OK    ERROR  skippedskipped
lconwaymacOS 12.6.5 Monterey / x86_64  OK    OK    OK    OK  UNNEEDED, same version is already published
Package 10/28HostnameOS / ArchINSTALLBUILDCHECKBUILD BIN
debrowser 1.29.2  (landing page)
Alper Kucukural
git_last_commit: 030ad6c
git_last_commit_date: 2023-06-01 11:34:07 -0400
nebbiolo2Linux (Ubuntu 22.04.2 LTS) / x86_64  OK    OK    OK  UNNEEDED, same version is already published
palomino4Windows Server 2022 Datacenter / x64  OK    OK    OK    OK  UNNEEDED, same version is already published
lconwaymacOS 12.6.5 Monterey / x86_64  OK    OK    OK    OK  UNNEEDED, same version is already published
Package 11/28HostnameOS / ArchINSTALLBUILDCHECKBUILD BIN
DeMixT 1.17.0  (landing page)
Shuai Guo
git_last_commit: c897bc6
git_last_commit_date: 2023-04-25 11:08:56 -0400
nebbiolo2Linux (Ubuntu 22.04.2 LTS) / x86_64  OK    OK    WARNINGS  NO, package depends on 'DSS' which is not available
palomino4Windows Server 2022 Datacenter / x64  OK    OK    WARNINGS    OK  UNNEEDED, same version is already published
lconwaymacOS 12.6.5 Monterey / x86_64  OK    OK    WARNINGS    OK  UNNEEDED, same version is already published
Package 12/28HostnameOS / ArchINSTALLBUILDCHECKBUILD BIN
DExMA 1.9.0  (landing page)
Juan Antonio Villatoro-García
git_last_commit: 148daa7
git_last_commit_date: 2023-04-25 11:29:25 -0400
nebbiolo2Linux (Ubuntu 22.04.2 LTS) / x86_64  OK    OK    OK  UNNEEDED, same version is already published
palomino4Windows Server 2022 Datacenter / x64  OK    OK    OK    OK  UNNEEDED, same version is already published
lconwaymacOS 12.6.5 Monterey / x86_64  OK    OK    OK    OK  UNNEEDED, same version is already published
Package 13/28HostnameOS / ArchINSTALLBUILDCHECKBUILD BIN
doppelgangR 1.29.0  (landing page)
Levi Waldron
git_last_commit: b0ad517
git_last_commit_date: 2023-04-25 10:45:03 -0400
nebbiolo2Linux (Ubuntu 22.04.2 LTS) / x86_64  OK    OK    ERROR  
palomino4Windows Server 2022 Datacenter / x64  OK    OK    ERROR    OK  
lconwaymacOS 12.6.5 Monterey / x86_64  OK    OK    ERROR    OK  
Package 14/28HostnameOS / ArchINSTALLBUILDCHECKBUILD BIN
edge 2.33.0  (landing page)
John D. Storey , Andrew J. Bass
git_last_commit: a18c376
git_last_commit_date: 2023-04-25 10:39:41 -0400
nebbiolo2Linux (Ubuntu 22.04.2 LTS) / x86_64  OK    OK    WARNINGS  UNNEEDED, same version is already published
palomino4Windows Server 2022 Datacenter / x64  OK    OK    WARNINGS    OK  UNNEEDED, same version is already published
lconwaymacOS 12.6.5 Monterey / x86_64  OK    OK    WARNINGS    OK  UNNEEDED, same version is already published
Package 15/28HostnameOS / ArchINSTALLBUILDCHECKBUILD BIN
IsoformSwitchAnalyzeR 2.1.2  (landing page)
Kristoffer Vitting-Seerup
git_last_commit: 46a6fb3
git_last_commit_date: 2023-05-15 15:15:32 -0400
nebbiolo2Linux (Ubuntu 22.04.2 LTS) / x86_64  OK    OK    OK  NO, package depends on 'DEXSeq' which is not available
palomino4Windows Server 2022 Datacenter / x64  OK    OK    OK    OK  UNNEEDED, same version is already published
lconwaymacOS 12.6.5 Monterey / x86_64  OK    OK    OK    OK  UNNEEDED, same version is already published
Package 16/28HostnameOS / ArchINSTALLBUILDCHECKBUILD BIN
KnowSeq 1.15.0  (landing page)
Daniel Castillo-Secilla
git_last_commit: 808dda4
git_last_commit_date: 2023-04-25 11:10:59 -0400
nebbiolo2Linux (Ubuntu 22.04.2 LTS) / x86_64  OK    OK    OK  UNNEEDED, same version is already published
palomino4Windows Server 2022 Datacenter / x64  OK    OK    OK    OK  UNNEEDED, same version is already published
lconwaymacOS 12.6.5 Monterey / x86_64  OK    OK    OK    OK  UNNEEDED, same version is already published
Package 17/28HostnameOS / ArchINSTALLBUILDCHECKBUILD BIN
MBECS 1.5.0  (landing page)
Michael Olbrich
git_last_commit: 9dee801
git_last_commit_date: 2023-04-25 11:36:23 -0400
nebbiolo2Linux (Ubuntu 22.04.2 LTS) / x86_64  OK    OK    OK  UNNEEDED, same version is already published
palomino4Windows Server 2022 Datacenter / x64  OK    OK    OK    OK  UNNEEDED, same version is already published
lconwaymacOS 12.6.5 Monterey / x86_64  OK    OK    OK    OK  UNNEEDED, same version is already published
Package 18/28HostnameOS / ArchINSTALLBUILDCHECKBUILD BIN
MSPrep 1.11.0  (landing page)
Max McGrath
git_last_commit: 205f940
git_last_commit_date: 2023-04-25 11:23:17 -0400
nebbiolo2Linux (Ubuntu 22.04.2 LTS) / x86_64  OK    OK    OK  UNNEEDED, same version is already published
palomino4Windows Server 2022 Datacenter / x64  OK    OK    OK    OK  UNNEEDED, same version is already published
lconwaymacOS 12.6.5 Monterey / x86_64  OK    OK    OK    OK  UNNEEDED, same version is already published
Package 19/28HostnameOS / ArchINSTALLBUILDCHECKBUILD BIN
omicRexposome 1.23.0  (landing page)
Xavier Escribà Montagut
git_last_commit: 1554875
git_last_commit_date: 2023-04-25 10:57:01 -0400
nebbiolo2Linux (Ubuntu 22.04.2 LTS) / x86_64  OK    ERROR  skipped
palomino4Windows Server 2022 Datacenter / x64  OK    OK    OK    OK  UNNEEDED, same version is already published
lconwaymacOS 12.6.5 Monterey / x86_64  OK    OK    OK    OK  UNNEEDED, same version is already published
Package 20/28HostnameOS / ArchINSTALLBUILDCHECKBUILD BIN
PAA 1.35.0  (landing page)
Michael Turewicz , Martin Eisenacher
git_last_commit: 7836140
git_last_commit_date: 2023-04-25 10:35:23 -0400
nebbiolo2Linux (Ubuntu 22.04.2 LTS) / x86_64  OK    OK    OK  UNNEEDED, same version is already published
palomino4Windows Server 2022 Datacenter / x64  OK    OK    OK    OK  UNNEEDED, same version is already published
lconwaymacOS 12.6.5 Monterey / x86_64  OK    OK    OK    OK  UNNEEDED, same version is already published
Package 21/28HostnameOS / ArchINSTALLBUILDCHECKBUILD BIN
pairedGSEA 1.1.0  (landing page)
Søren Helweg Dam
git_last_commit: 32efd4c
git_last_commit_date: 2023-05-26 07:04:11 -0400
nebbiolo2Linux (Ubuntu 22.04.2 LTS) / x86_64  OK    OK    WARNINGS  NO, package depends on 'DEXSeq' which is not available
palomino4Windows Server 2022 Datacenter / x64  OK    OK    WARNINGS    OK  UNNEEDED, same version is already published
lconwaymacOS 12.6.5 Monterey / x86_64  OK    OK    WARNINGS    OK  UNNEEDED, same version is already published
Package 22/28HostnameOS / ArchINSTALLBUILDCHECKBUILD BIN
PROPS 1.23.0  (landing page)
Lichy Han
git_last_commit: 96a3626
git_last_commit_date: 2023-04-25 10:57:52 -0400
nebbiolo2Linux (Ubuntu 22.04.2 LTS) / x86_64  OK    OK    OK  UNNEEDED, same version is already published
palomino4Windows Server 2022 Datacenter / x64  OK    OK    OK    OK  UNNEEDED, same version is already published
lconwaymacOS 12.6.5 Monterey / x86_64  OK    OK    OK    OK  UNNEEDED, same version is already published
Package 23/28HostnameOS / ArchINSTALLBUILDCHECKBUILD BIN
qsmooth 1.17.0  (landing page)
Stephanie C. Hicks
git_last_commit: efdcad0
git_last_commit_date: 2023-04-25 11:08:51 -0400
nebbiolo2Linux (Ubuntu 22.04.2 LTS) / x86_64  OK    OK    WARNINGS  UNNEEDED, same version is already published
palomino4Windows Server 2022 Datacenter / x64  OK    OK    WARNINGS    OK  UNNEEDED, same version is already published
lconwaymacOS 12.6.5 Monterey / x86_64  OK    OK    WARNINGS    OK  UNNEEDED, same version is already published
Package 24/28HostnameOS / ArchINSTALLBUILDCHECKBUILD BIN
qsvaR 1.5.1  (landing page)
Hedia Tnani
git_last_commit: 498143f
git_last_commit_date: 2023-05-08 09:30:11 -0400
nebbiolo2Linux (Ubuntu 22.04.2 LTS) / x86_64  OK    OK    OK  UNNEEDED, same version is already published
palomino4Windows Server 2022 Datacenter / x64  OK    OK    OK    OK  UNNEEDED, same version is already published
lconwaymacOS 12.6.5 Monterey / x86_64  OK    OK    OK    OK  UNNEEDED, same version is already published
Package 25/28HostnameOS / ArchINSTALLBUILDCHECKBUILD BIN
SCAN.UPC 2.43.0  (landing page)
Stephen R. Piccolo
git_last_commit: f7515e0
git_last_commit_date: 2023-04-25 10:24:16 -0400
nebbiolo2Linux (Ubuntu 22.04.2 LTS) / x86_64  OK    OK    OK  NO, package depends on 'affy' which is not available
palomino4Windows Server 2022 Datacenter / x64  OK    OK    OK    OK  UNNEEDED, same version is already published
lconwaymacOS 12.6.5 Monterey / x86_64  OK    OK    OK    OK  UNNEEDED, same version is already published
Package 26/28HostnameOS / ArchINSTALLBUILDCHECKBUILD BIN
SEtools 1.15.0  (landing page)
Pierre-Luc Germain
git_last_commit: 305f228
git_last_commit_date: 2023-04-25 11:12:18 -0400
nebbiolo2Linux (Ubuntu 22.04.2 LTS) / x86_64  OK    OK    OK  UNNEEDED, same version is already published
palomino4Windows Server 2022 Datacenter / x64  OK    OK    OK    OK  UNNEEDED, same version is already published
lconwaymacOS 12.6.5 Monterey / x86_64  OK    OK    OK    OK  UNNEEDED, same version is already published
Package 27/28HostnameOS / ArchINSTALLBUILDCHECKBUILD BIN
singleCellTK 2.11.0  (landing page)
Yichen Wang
git_last_commit: bce567d2
git_last_commit_date: 2023-04-25 11:01:21 -0400
nebbiolo2Linux (Ubuntu 22.04.2 LTS) / x86_64  OK    OK    OK  UNNEEDED, same version is already published
palomino4Windows Server 2022 Datacenter / x64  OK    OK    OK    OK  NO, package depends on 'scater' which is not available
lconwaymacOS 12.6.5 Monterey / x86_64  OK    OK    OK    OK  UNNEEDED, same version is already published
Package 28/28HostnameOS / ArchINSTALLBUILDCHECKBUILD BIN
trigger 1.47.0  (landing page)
John D. Storey
git_last_commit: c8d87fb
git_last_commit_date: 2023-04-25 10:21:49 -0400
nebbiolo2Linux (Ubuntu 22.04.2 LTS) / x86_64  OK    OK    OK  UNNEEDED, same version is already published
palomino4Windows Server 2022 Datacenter / x64  OK    OK    OK    OK  UNNEEDED, same version is already published
lconwaymacOS 12.6.5 Monterey / x86_64  OK    OK    OK    OK  UNNEEDED, same version is already published