Back to Multiple platform build/check report for BioC 3.15
AB[C]DEFGHIJKLMNOPQRSTUVWXYZ

This page was generated on 2021-11-27 14:04:05 -0500 (Sat, 27 Nov 2021).

All results for package cqn

To the developers/maintainers of the cqn package:
- Please allow up to 24 hours (and sometimes 48 hours) for your latest push to git@git.bioconductor.org:packages/cqn.git to
reflect on this report. See How and When does the builder pull? When will my changes propagate? here for more information.
- Make sure to use the following settings in order to reproduce any error or warning you see on this page.

raw results

Package 412/2068HostnameOS / ArchINSTALLBUILDCHECKBUILD BIN
cqn 1.41.0  (landing page)
Kasper Daniel Hansen
Snapshot Date: 2021-11-26 14:50:14 -0500 (Fri, 26 Nov 2021)
git_url: https://git.bioconductor.org/packages/cqn
git_branch: master
git_last_commit: f4a4146
git_last_commit_date: 2021-10-26 11:59:31 -0500 (Tue, 26 Oct 2021)
nebbiolo1Linux (Ubuntu 20.04.3 LTS) / x86_64  OK    OK    OK  UNNEEDED, same version is already published
riesling1Windows Server 2019 Standard / x64  OK    OK    OK    OK  
merida1macOS 10.14.6 Mojave / x86_64  OK    OK    OK    OK  UNNEEDED, same version is already published

Results for Bioconductor software packages that depend directly on package cqn

QUICK STATSOS / ArchINSTALLBUILDCHECKBUILD BIN
nebbiolo1Linux (Ubuntu 20.04.3 LTS) / x86_64
003
003
0012
riesling1Windows Server 2019 Standard / x64
003
003
0012
003
merida1macOS 10.14.6 Mojave / x86_64
003
003
0111
003
Package 1/3HostnameOS / ArchINSTALLBUILDCHECKBUILD BIN
exomePeak2 1.7.1  (landing page)
Zhen Wei
git_last_commit: 5d8ded6
git_last_commit_date: 2021-11-20 04:00:53 -0500
nebbiolo1Linux (Ubuntu 20.04.3 LTS) / x86_64  OK    OK    WARNINGS  UNNEEDED, same version is already published
riesling1Windows Server 2019 Standard / x64  OK    OK    WARNINGS    OK  
merida1macOS 10.14.6 Mojave / x86_64  OK    OK    WARNINGS    OK  UNNEEDED, same version is already published
Package 2/3HostnameOS / ArchINSTALLBUILDCHECKBUILD BIN
KnowSeq 1.9.0  (landing page)
Daniel Castillo-Secilla
git_last_commit: db4e701
git_last_commit_date: 2021-10-26 12:52:45 -0500
nebbiolo1Linux (Ubuntu 20.04.3 LTS) / x86_64  OK    OK    OK  UNNEEDED, same version is already published
riesling1Windows Server 2019 Standard / x64  OK    OK    OK    OK  
merida1macOS 10.14.6 Mojave / x86_64  OK    OK    ERROR    OK  
Package 3/3HostnameOS / ArchINSTALLBUILDCHECKBUILD BIN
tweeDEseq 1.41.0  (landing page)
Juan R Gonzalez
git_last_commit: 12a2896
git_last_commit_date: 2021-10-26 12:01:13 -0500
nebbiolo1Linux (Ubuntu 20.04.3 LTS) / x86_64  OK    OK    OK  UNNEEDED, same version is already published
riesling1Windows Server 2019 Standard / x64  OK    OK    OK    OK  
merida1macOS 10.14.6 Mojave / x86_64  OK    OK    OK    OK  UNNEEDED, same version is already published