Back to Multiple platform build/check report for BioC 3.19:   simplified   long
A[B]CDEFGHIJKLMNOPQRSTUVWXYZ

This page was generated on 2023-11-29 11:33:27 -0500 (Wed, 29 Nov 2023).

HostnameOSArch (*)R versionInstalled pkgs
nebbiolo1Linux (Ubuntu 22.04.2 LTS)x86_64R Under development (unstable) (2023-11-11 r85510) -- "Unsuffered Consequences" 4601
palomino3Windows Server 2022 Datacenterx64R Under development (unstable) (2023-11-14 r85524 ucrt) -- "Unsuffered Consequences" 4343
merida1macOS 12.7.1 Montereyx86_64R Under development (unstable) (2023-11-11 r85510) -- "Unsuffered Consequences" 4368
kunpeng2Linux (openEuler 22.03 LTS-SP1)aarch64R Under development (unstable) (2023-11-01 r85459) -- "Unsuffered Consequences" 4253
Click on any hostname to see more info about the system (e.g. compilers)      (*) as reported by 'uname -p', except on Windows and Mac OS X

All results for package BayesSpace


To the developers/maintainers of the BayesSpace package:
- Allow up to 24 hours (and sometimes 48 hours) for your latest push to git@git.bioconductor.org:packages/BayesSpace.git to reflect on this report. See Troubleshooting Build Report for more information.
- Use the following Renviron settings to reproduce errors and warnings.
- If 'R CMD check' started to fail recently on the Linux builder(s) over a missing dependency, add the missing dependency to 'Suggests:' in your DESCRIPTION file. See Renviron.bioc for more information.

raw results

Package 137/2225HostnameOS / ArchINSTALLBUILDCHECKBUILD BIN
BayesSpace 1.13.0  (landing page)
Matt Stone
Snapshot Date: 2023-11-28 14:00:17 -0500 (Tue, 28 Nov 2023)
git_url: https://git.bioconductor.org/packages/BayesSpace
git_branch: devel
git_last_commit: 66e4609
git_last_commit_date: 2023-10-24 11:26:25 -0500 (Tue, 24 Oct 2023)
nebbiolo1Linux (Ubuntu 22.04.2 LTS) / x86_64  OK    OK    OK  UNNEEDED, same version is already published
palomino3Windows Server 2022 Datacenter / x64  OK    OK    OK    OK  UNNEEDED, same version is already published
merida1macOS 12.7.1 Monterey / x86_64  OK    OK    OK    OK  UNNEEDED, same version is already published
kunpeng2Linux (openEuler 22.03 LTS-SP1) / aarch64  OK    OK    ERROR  

Results for Bioconductor software packages that depend directly on package BayesSpace

QUICK STATSOS / ArchINSTALLBUILDCHECKBUILD BIN
nebbiolo1Linux (Ubuntu 22.04.2 LTS) / x86_64
001
001
0001
palomino3Windows Server 2022 Datacenter / x64
001
001
0001
001
merida1macOS 12.7.1 Monterey / x86_64
001
001
0001
000
kunpeng2Linux (openEuler 22.03 LTS-SP1) / aarch64
010
010
0000
Package 1/1HostnameOS / ArchINSTALLBUILDCHECKBUILD BIN
RegionalST 1.1.1  (landing page)
Ziyi Li
git_last_commit: 3aeee91
git_last_commit_date: 2023-11-20 12:41:57 -0500
nebbiolo1Linux (Ubuntu 22.04.2 LTS) / x86_64  OK    OK    OK  UNNEEDED, same version is already published
palomino3Windows Server 2022 Datacenter / x64  OK    OK    OK    OK  UNNEEDED, same version is already published
merida1macOS 12.7.1 Monterey / x86_64  OK    OK    OK    NA  
kunpeng2Linux (openEuler 22.03 LTS-SP1) / aarch64  ERROR    ERROR  skipped