Back to Multiple platform build/check report for BioC 3.16
ABCD[E]FGHIJKLMNOPQRSTUVWXYZ

This page was generated on 2022-08-09 11:04:16 -0400 (Tue, 09 Aug 2022).

HostnameOSArch (*)R versionInstalled pkgs
nebbiolo2Linux (Ubuntu 20.04.4 LTS)x86_644.2.1 (2022-06-23) -- "Funny-Looking Kid" 4374
palomino4Windows Server 2022 Datacenterx644.2.1 (2022-06-23 ucrt) -- "Funny-Looking Kid" 4158
lconwaymacOS 12.2.1 Montereyx86_644.2.1 Patched (2022-07-09 r82577) -- "Funny-Looking Kid" 4158
Click on any hostname to see more info about the system (e.g. compilers)      (*) as reported by 'uname -p', except on Windows and Mac OS X

All results for package EBarrays


To the developers/maintainers of the EBarrays package:
- Please allow up to 24 hours (and sometimes 48 hours) for your latest push to git@git.bioconductor.org:packages/EBarrays.git to
reflect on this report. See How and When does the builder pull? When will my changes propagate? for more information.
- Make sure to use the following settings in order to reproduce any error or warning you see on this page.

raw results

Package 573/2139HostnameOS / ArchINSTALLBUILDCHECKBUILD BIN
EBarrays 2.61.0  (landing page)
Ming Yuan
Snapshot Date: 2022-08-08 14:00:04 -0400 (Mon, 08 Aug 2022)
git_url: https://git.bioconductor.org/packages/EBarrays
git_branch: master
git_last_commit: 26da8f4
git_last_commit_date: 2022-04-26 10:55:39 -0400 (Tue, 26 Apr 2022)
nebbiolo2Linux (Ubuntu 20.04.4 LTS) / x86_64  OK    OK    OK  UNNEEDED, same version is already published
palomino4Windows Server 2022 Datacenter / x64  OK    OK    OK    OK  UNNEEDED, same version is already published
lconwaymacOS 12.2.1 Monterey / x86_64  OK    OK    OK    OK  UNNEEDED, same version is already published

Results for Bioconductor software packages that depend directly on package EBarrays

QUICK STATSOS / ArchINSTALLBUILDCHECKBUILD BIN
nebbiolo2Linux (Ubuntu 20.04.4 LTS) / x86_64
004
004
0022
palomino4Windows Server 2022 Datacenter / x64
004
013
0012
003
lconwaymacOS 12.2.1 Monterey / x86_64
004
013
0111
003
Package 1/4HostnameOS / ArchINSTALLBUILDCHECKBUILD BIN
casper 2.31.0  (landing page)
David Rossell
git_last_commit: efc20fb
git_last_commit_date: 2022-04-26 11:13:19 -0400
nebbiolo2Linux (Ubuntu 20.04.4 LTS) / x86_64  OK    OK    WARNINGS  UNNEEDED, same version is already published
palomino4Windows Server 2022 Datacenter / x64  OK    ERROR  skippedskipped
lconwaymacOS 12.2.1 Monterey / x86_64  OK    ERROR  skippedskipped
Package 2/4HostnameOS / ArchINSTALLBUILDCHECKBUILD BIN
EBcoexpress 1.41.0  (landing page)
John A. Dawson
git_last_commit: 96d85d0
git_last_commit_date: 2022-04-26 11:10:51 -0400
nebbiolo2Linux (Ubuntu 20.04.4 LTS) / x86_64  OK    OK    WARNINGS  UNNEEDED, same version is already published
palomino4Windows Server 2022 Datacenter / x64  OK    OK    WARNINGS    OK  UNNEEDED, same version is already published
lconwaymacOS 12.2.1 Monterey / x86_64  OK    OK    OK    OK  UNNEEDED, same version is already published
Package 3/4HostnameOS / ArchINSTALLBUILDCHECKBUILD BIN
gaga 2.43.0  (landing page)
David Rossell
git_last_commit: e504d97
git_last_commit_date: 2022-04-26 11:00:37 -0400
nebbiolo2Linux (Ubuntu 20.04.4 LTS) / x86_64  OK    OK    OK  UNNEEDED, same version is already published
palomino4Windows Server 2022 Datacenter / x64  OK    OK    OK    OK  UNNEEDED, same version is already published
lconwaymacOS 12.2.1 Monterey / x86_64  OK    OK    WARNINGS    OK  UNNEEDED, same version is already published
Package 4/4HostnameOS / ArchINSTALLBUILDCHECKBUILD BIN
geNetClassifier 1.37.0  (landing page)
Sara Aibar
git_last_commit: bb65be5
git_last_commit_date: 2022-04-26 11:14:23 -0400
nebbiolo2Linux (Ubuntu 20.04.4 LTS) / x86_64  OK    OK    OK  UNNEEDED, same version is already published
palomino4Windows Server 2022 Datacenter / x64  OK    OK    OK    OK  UNNEEDED, same version is already published
lconwaymacOS 12.2.1 Monterey / x86_64  OK    OK    ERROR    OK