Back to Build/check report for BioC 3.16
ABCDEFGHIJKLMNO[P]QRSTUVWXYZ

This page was generated on 2022-06-27 11:05:27 -0400 (Mon, 27 Jun 2022).

HostnameOSArch (*)R versionInstalled pkgs
nebbiolo2Linux (Ubuntu 20.04.4 LTS)x86_644.2.0 Patched (2022-06-02 r82447) -- "Vigorous Calisthenics" 4331
Click on any hostname to see more info about the system (e.g. compilers)      (*) as reported by 'uname -p', except on Windows and Mac OS X

CHECK results for piano on nebbiolo2


To the developers/maintainers of the piano package:
- Please allow up to 24 hours (and sometimes 48 hours) for your latest push to git@git.bioconductor.org:packages/piano.git to
reflect on this report. See How and When does the builder pull? When will my changes propagate? for more information.
- Make sure to use the following settings in order to reproduce any error or warning you see on this page.

raw results

Package 1440/2118HostnameOS / ArchINSTALLBUILDCHECKBUILD BIN
piano 2.13.0  (landing page)
Leif Varemo Wigge
Snapshot Date: 2022-06-26 14:00:03 -0400 (Sun, 26 Jun 2022)
git_url: https://git.bioconductor.org/packages/piano
git_branch: master
git_last_commit: 2922b3d
git_last_commit_date: 2022-04-26 11:14:33 -0400 (Tue, 26 Apr 2022)
nebbiolo2Linux (Ubuntu 20.04.4 LTS) / x86_64  OK    OK    OK  UNNEEDED, same version is already published

Summary

Package: piano
Version: 2.13.0
Command: /home/biocbuild/bbs-3.16-bioc/R/bin/R CMD check --install=check:piano.install-out.txt --library=/home/biocbuild/bbs-3.16-bioc/R/library --no-vignettes --timings piano_2.13.0.tar.gz
StartedAt: 2022-06-26 21:06:51 -0400 (Sun, 26 Jun 2022)
EndedAt: 2022-06-26 21:08:48 -0400 (Sun, 26 Jun 2022)
EllapsedTime: 116.6 seconds
RetCode: 0
Status:   OK  
CheckDir: piano.Rcheck
Warnings: 0

Command output

##############################################################################
##############################################################################
###
### Running command:
###
###   /home/biocbuild/bbs-3.16-bioc/R/bin/R CMD check --install=check:piano.install-out.txt --library=/home/biocbuild/bbs-3.16-bioc/R/library --no-vignettes --timings piano_2.13.0.tar.gz
###
##############################################################################
##############################################################################


* using log directory ‘/home/biocbuild/bbs-3.16-bioc/meat/piano.Rcheck’
* using R version 4.2.0 Patched (2022-06-02 r82447)
* using platform: x86_64-pc-linux-gnu (64-bit)
* using session charset: UTF-8
* using option ‘--no-vignettes’
* checking for file ‘piano/DESCRIPTION’ ... OK
* checking extension type ... Package
* this is package ‘piano’ version ‘2.13.0’
* checking package namespace information ... OK
* checking package dependencies ... OK
* checking if this is a source package ... OK
* checking if there is a namespace ... OK
* checking for hidden files and directories ... NOTE
Found the following hidden files and directories:
  .BBSoptions
These were most likely included in error. See section ‘Package
structure’ in the ‘Writing R Extensions’ manual.
* checking for portable file names ... OK
* checking for sufficient/correct file permissions ... OK
* checking whether package ‘piano’ can be installed ... OK
* checking installed package size ... OK
* checking package directory ... OK
* checking ‘build’ directory ... OK
* checking DESCRIPTION meta-information ... OK
* checking top-level files ... OK
* checking for left-over files ... OK
* checking index information ... OK
* checking package subdirectories ... OK
* checking R files for non-ASCII characters ... OK
* checking R files for syntax errors ... OK
* checking whether the package can be loaded ... OK
* checking whether the package can be loaded with stated dependencies ... OK
* checking whether the package can be unloaded cleanly ... OK
* checking whether the namespace can be loaded with stated dependencies ... OK
* checking whether the namespace can be unloaded cleanly ... OK
* checking dependencies in R code ... OK
* checking S3 generic/method consistency ... OK
* checking replacement functions ... OK
* checking foreign function calls ... OK
* checking R code for possible problems ... OK
* checking Rd files ... OK
* checking Rd metadata ... OK
* checking Rd cross-references ... OK
* checking for missing documentation entries ... OK
* checking for code/documentation mismatches ... OK
* checking Rd \usage sections ... OK
* checking Rd contents ... OK
* checking for unstated dependencies in examples ... OK
* checking contents of ‘data’ directory ... OK
* checking data for non-ASCII characters ... OK
* checking data for ASCII and uncompressed saves ... OK
* checking files in ‘vignettes’ ... OK
* checking examples ... OK
* checking for unstated dependencies in vignettes ... OK
* checking package vignettes in ‘inst/doc’ ... OK
* checking running R code from vignettes ... SKIPPED
* checking re-building of vignette outputs ... SKIPPED
* checking PDF version of manual ... OK
* DONE

Status: 1 NOTE
See
  ‘/home/biocbuild/bbs-3.16-bioc/meat/piano.Rcheck/00check.log’
for details.



Installation output

piano.Rcheck/00install.out

##############################################################################
##############################################################################
###
### Running command:
###
###   /home/biocbuild/bbs-3.16-bioc/R/bin/R CMD INSTALL piano
###
##############################################################################
##############################################################################


* installing to library ‘/home/biocbuild/bbs-3.16-bioc/R/library’
* installing *source* package ‘piano’ ...
** using staged installation
** R
** data
** inst
** byte-compile and prepare package for lazy loading
** help
*** installing help indices
** building package indices
** installing vignettes
** testing if installed package can be loaded from temporary location
** testing if installed package can be loaded from final location
** testing if installed package keeps a record of temporary installation path
* DONE (piano)

Tests output


Example timings

piano.Rcheck/piano-Ex.timings

nameusersystemelapsed
GSAheatmap3.3370.1523.489
GSAsummaryTable2.5340.0082.543
consensusHeatmap0.9780.0631.044
consensusScores0.1210.0120.132
diffExp4.7100.1314.871
exploreGSAres3.4770.0803.556
extractFactors0.1900.0000.189
geneSetSummary2.8510.0562.906
loadGSC0.0130.0000.012
loadMAdata0.1420.0090.150
networkPlot3.0060.0033.011
networkPlot22.9620.0362.999
polarPlot0.3230.0120.335
runGSA2.8660.0002.866
runGSAhyper0.2050.0000.205
runQC0.3520.0240.375
writeFilesForKiwi0.1120.0040.116