Bioconductor build/check results

Build System RSS Feeds

Bioconductor 3.19 (devel)

Latest results
  • Software builds: browse, download (new report on Mondays, Wednesdays, and Fridays)
  • Mac ARM64 Software builds: browse, download (new report on Mondays and Thursdays)
  • Annotation Data builds: browse, download (new report on Wednesdays)
  • Experiment Data builds: browse, download (new report on Tuesdays and Thursdays)
  • Workflow builds: browse, download (new report on Tuesdays and Fridays)
  • Book builds: browse, download (new report on Mondays, Wednesdays, and Fridays)
  • Long Tests builds: browse, download (new report on Saturdays)

Bioconductor 3.18 (release)

Latest results
  • Software builds: browse, download (new report daily, except on Sundays)
  • Mac ARM64 Software builds: browse, download (new report on Mondays and Thursdays)
  • Annotation Data builds: browse, download (new report on Wednesdays)
  • Experiment Data builds: browse, download (new report on Tuesdays and Thursdays)
  • Workflow builds: browse, download (new report on Tuesdays and Fridays)
  • Book builds: browse, download (new report on Mondays, Wednesdays, and Fridays)
  • Long Tests builds: browse, download (new report on Saturdays)

Archived results for past releases

Bioconductor 3.17

Bioconductor 3.16

Bioconductor 3.15

Bioconductor 3.14

Bioconductor 3.13

Bioconductor 3.12

Bioconductor 3.11

Bioconductor 3.10

Bioconductor 3.9

Bioconductor 3.8

Bioconductor 3.7

Bioconductor 3.6

  • Software packages: last results (Apr 12, 2018): browse, download
  • Experimental data packages: last results (Apr 12, 2018): browse, download
  • Software packages: results from August 16, 2017 (last svn-based builds) browse, download
  • Experimental data packages: results from August 15, 2017 (last svn-based builds) browse, download

Bioconductor 3.5

  • Software packages: last results (Oct 18, 2017): browse, download
  • Experimental data packages: last results (Oct 18, 2017): browse, download
  • Software packages: results from August 16, 2017 (last svn-based builds) browse, download
  • Experimental data packages: results from August 15, 2017 (last svn-based builds) browse, download

Bioconductor 3.4

  • Software packages: last results (Apr 15, 2017): browse, download
  • Experimental data packages: last results (Apr 15, 2017): browse, download

Bioconductor 3.3

Bioconductor 3.2

  • Software packages: last results (Apr 23, 2016): browse, download
  • Experimental data packages: last results (Apr 23, 2016): browse, download

Bioconductor 3.1

Bioconductor 3.0

Bioconductor 2.14

Bioconductor 2.13

Bioconductor 2.12

Bioconductor 2.11

Bioconductor 2.10

Bioconductor 2.9

Bioconductor 2.8

Bioconductor 2.7

Bioconductor 2.6

Bioconductor 2.5

Bioconductor 2.4

Bioconductor 2.3

Bioconductor 2.2

Bioconductor 2.1

Bioconductor 2.0

Bioconductor 1.9

Bioconductor 1.8

Bioconductor 1.7