Back to Multiple platform build/check report for BioC 3.20:   simplified   long
ABCDEFGHIJKL[M]NOPQRSTUVWXYZ

This page was generated on 2024-05-17 11:35:59 -0400 (Fri, 17 May 2024).

HostnameOSArch (*)R versionInstalled pkgs
nebbiolo2Linux (Ubuntu 22.04.3 LTS)x86_644.4.0 RC (2024-04-16 r86468) -- "Puppy Cup" 4663
palomino4Windows Server 2022 Datacenterx644.4.0 RC (2024-04-16 r86468 ucrt) -- "Puppy Cup" 4398
merida1macOS 12.7.4 Montereyx86_644.4.0 Patched (2024-04-24 r86482) -- "Puppy Cup" 4425
Click on any hostname to see more info about the system (e.g. compilers)      (*) as reported by 'uname -p', except on Windows and Mac OS X

All results for package minfi


To the developers/maintainers of the minfi package:
- Allow up to 24 hours (and sometimes 48 hours) for your latest push to git@git.bioconductor.org:packages/minfi.git to reflect on this report. See Troubleshooting Build Report for more information.
- Use the following Renviron settings to reproduce errors and warnings.
- If 'R CMD check' started to fail recently on the Linux builder(s) over a missing dependency, add the missing dependency to 'Suggests:' in your DESCRIPTION file. See Renviron.bioc for more information.

raw results

Package 1237/2230HostnameOS / ArchINSTALLBUILDCHECKBUILD BIN
minfi 1.51.0  (landing page)
Kasper Daniel Hansen
Snapshot Date: 2024-05-15 14:05:05 -0400 (Wed, 15 May 2024)
git_url: https://git.bioconductor.org/packages/minfi
git_branch: devel
git_last_commit: eeda660
git_last_commit_date: 2024-04-30 10:25:56 -0400 (Tue, 30 Apr 2024)
nebbiolo2Linux (Ubuntu 22.04.3 LTS) / x86_64  OK    OK    OK  UNNEEDED, same version is already published
palomino4Windows Server 2022 Datacenter / x64  OK    OK    OK    OK  YES
merida1macOS 12.7.4 Monterey / x86_64  OK    OK    OK    OK  UNNEEDED, same version is already published
kjohnson1macOS 13.6.6 Ventura / arm64see weekly results here

Results for Bioconductor software packages that depend directly on package minfi

QUICK STATSOS / ArchINSTALLBUILDCHECKBUILD BIN
nebbiolo2Linux (Ubuntu 22.04.3 LTS) / x86_64
0022
0121
00516
palomino4Windows Server 2022 Datacenter / x64
0021
0021
00516
0021
merida1macOS 12.7.4 Monterey / x86_64
0022
0022
10516
0022
Package 1/22HostnameOS / ArchINSTALLBUILDCHECKBUILD BIN
bigmelon 1.31.0  (landing page)
Leonard C. Schalkwyk
git_last_commit: bdfe364
git_last_commit_date: 2024-04-30 10:53:41 -0400
nebbiolo2Linux (Ubuntu 22.04.3 LTS) / x86_64  OK    OK    WARNINGS  UNNEEDED, same version is already published
palomino4Windows Server 2022 Datacenter / x64  OK    OK    WARNINGS    OK  UNNEEDED, same version is already published
merida1macOS 12.7.4 Monterey / x86_64  OK    OK    WARNINGS    OK  UNNEEDED, same version is already published
kjohnson1macOS 13.6.6 Ventura / arm64see weekly results here
Package 2/22HostnameOS / ArchINSTALLBUILDCHECKBUILD BIN
ChAMP 2.35.0  (landing page)
Yuan Tian
git_last_commit: b1a7d15
git_last_commit_date: 2024-04-30 10:34:10 -0400
nebbiolo2Linux (Ubuntu 22.04.3 LTS) / x86_64  OK    OK    WARNINGS  NO, package depends on 'goseq' which is not available
palomino4Windows Server 2022 Datacenter / x64  OK    OK    WARNINGS    OK  NO, package depends on 'goseq' which is not available
merida1macOS 12.7.4 Monterey / x86_64  OK    OK    WARNINGS    OK  NO, package depends on 'goseq' which is not available
kjohnson1macOS 13.6.6 Ventura / arm64see weekly results here
Package 3/22HostnameOS / ArchINSTALLBUILDCHECKBUILD BIN
conumee 1.39.0  (landing page)
Volker Hovestadt
git_last_commit: 07777b1
git_last_commit_date: 2024-04-30 10:43:13 -0400
nebbiolo2Linux (Ubuntu 22.04.3 LTS) / x86_64  OK    OK    OK  UNNEEDED, same version is already published
palomino4Windows Server 2022 Datacenter / x64... NOT SUPPORTED ...
merida1macOS 12.7.4 Monterey / x86_64  OK    OK    TIMEOUT    OK  
kjohnson1macOS 13.6.6 Ventura / arm64see weekly results here
Package 4/22HostnameOS / ArchINSTALLBUILDCHECKBUILD BIN
deconvR 1.11.0  (landing page)
Irem B. Gündüz
git_last_commit: 1de875b
git_last_commit_date: 2024-04-30 11:38:28 -0400
nebbiolo2Linux (Ubuntu 22.04.3 LTS) / x86_64  OK    OK    OK  UNNEEDED, same version is already published
palomino4Windows Server 2022 Datacenter / x64  OK    OK    OK    OK  YES
merida1macOS 12.7.4 Monterey / x86_64  OK    OK    OK    OK  UNNEEDED, same version is already published
kjohnson1macOS 13.6.6 Ventura / arm64see weekly results here
Package 5/22HostnameOS / ArchINSTALLBUILDCHECKBUILD BIN
DMRcate 3.1.0  (landing page)
Tim Peters
git_last_commit: 5d83c68
git_last_commit_date: 2024-04-30 10:35:13 -0400
nebbiolo2Linux (Ubuntu 22.04.3 LTS) / x86_64  OK    OK    OK  UNNEEDED, same version is already published
palomino4Windows Server 2022 Datacenter / x64  OK    OK    OK    OK  YES
merida1macOS 12.7.4 Monterey / x86_64  OK    OK    OK    OK  UNNEEDED, same version is already published
kjohnson1macOS 13.6.6 Ventura / arm64see weekly results here
Package 6/22HostnameOS / ArchINSTALLBUILDCHECKBUILD BIN
ENmix 1.41.1  (landing page)
Zongli Xu
git_last_commit: 7c7b5c9
git_last_commit_date: 2024-05-15 12:40:33 -0400
nebbiolo2Linux (Ubuntu 22.04.3 LTS) / x86_64  OK    OK    OK  YES
palomino4Windows Server 2022 Datacenter / x64  OK    OK    OK    OK  YES
merida1macOS 12.7.4 Monterey / x86_64  OK    OK    OK    OK  YES
kjohnson1macOS 13.6.6 Ventura / arm64see weekly results here
Package 7/22HostnameOS / ArchINSTALLBUILDCHECKBUILD BIN
epimutacions 1.9.0  (landing page)
Dolors Pelegri-Siso
git_last_commit: 2d99781
git_last_commit_date: 2024-04-30 11:41:56 -0400
nebbiolo2Linux (Ubuntu 22.04.3 LTS) / x86_64  OK    OK    OK  UNNEEDED, same version is already published
palomino4Windows Server 2022 Datacenter / x64  OK    OK    OK    OK  YES
merida1macOS 12.7.4 Monterey / x86_64  OK    OK    OK    OK  UNNEEDED, same version is already published
kjohnson1macOS 13.6.6 Ventura / arm64see weekly results here
Package 8/22HostnameOS / ArchINSTALLBUILDCHECKBUILD BIN
funtooNorm 1.29.0  (landing page)
Kathleen Klein
git_last_commit: a406fc9
git_last_commit_date: 2024-04-30 10:55:52 -0400
nebbiolo2Linux (Ubuntu 22.04.3 LTS) / x86_64  OK    OK    WARNINGS  UNNEEDED, same version is already published
palomino4Windows Server 2022 Datacenter / x64  OK    OK    WARNINGS    OK  UNNEEDED, same version is already published
merida1macOS 12.7.4 Monterey / x86_64  OK    OK    WARNINGS    OK  UNNEEDED, same version is already published
kjohnson1macOS 13.6.6 Ventura / arm64see weekly results here
Package 9/22HostnameOS / ArchINSTALLBUILDCHECKBUILD BIN
iNETgrate 1.3.0  (landing page)
Habil Zare
git_last_commit: 0966b8f
git_last_commit_date: 2024-04-30 11:50:02 -0400
nebbiolo2Linux (Ubuntu 22.04.3 LTS) / x86_64  OK    OK    OK  UNNEEDED, same version is already published
palomino4Windows Server 2022 Datacenter / x64  OK    OK    OK    OK  YES
merida1macOS 12.7.4 Monterey / x86_64  OK    OK    OK    OK  UNNEEDED, same version is already published
kjohnson1macOS 13.6.6 Ventura / arm64see weekly results here
Package 10/22HostnameOS / ArchINSTALLBUILDCHECKBUILD BIN
MEAL 1.35.0  (landing page)
Xavier Escribà Montagut
git_last_commit: 16f66a8
git_last_commit_date: 2024-04-30 10:46:03 -0400
nebbiolo2Linux (Ubuntu 22.04.3 LTS) / x86_64  OK    OK    WARNINGS  UNNEEDED, same version is already published
palomino4Windows Server 2022 Datacenter / x64  OK    OK    WARNINGS    OK  YES
merida1macOS 12.7.4 Monterey / x86_64  OK    OK    WARNINGS    OK  UNNEEDED, same version is already published
kjohnson1macOS 13.6.6 Ventura / arm64see weekly results here
Package 11/22HostnameOS / ArchINSTALLBUILDCHECKBUILD BIN
MEAT 1.17.0  (landing page)
Sarah Voisin
git_last_commit: 38799c0
git_last_commit_date: 2024-04-30 11:20:44 -0400
nebbiolo2Linux (Ubuntu 22.04.3 LTS) / x86_64  OK    OK    WARNINGS  UNNEEDED, same version is already published
palomino4Windows Server 2022 Datacenter / x64  OK    OK    WARNINGS    OK  UNNEEDED, same version is already published
merida1macOS 12.7.4 Monterey / x86_64  OK    OK    WARNINGS    OK  UNNEEDED, same version is already published
kjohnson1macOS 13.6.6 Ventura / arm64see weekly results here
Package 12/22HostnameOS / ArchINSTALLBUILDCHECKBUILD BIN
MethylAid 1.39.0  (landing page)
L.J.Sinke
git_last_commit: 6685685
git_last_commit_date: 2024-04-30 10:36:48 -0400
nebbiolo2Linux (Ubuntu 22.04.3 LTS) / x86_64  OK    OK    OK  UNNEEDED, same version is already published
palomino4Windows Server 2022 Datacenter / x64  OK    OK    OK    OK  UNNEEDED, same version is already published
merida1macOS 12.7.4 Monterey / x86_64  OK    OK    OK    OK  UNNEEDED, same version is already published
kjohnson1macOS 13.6.6 Ventura / arm64see weekly results here
Package 13/22HostnameOS / ArchINSTALLBUILDCHECKBUILD BIN
methylCC 1.19.0  (landing page)
Stephanie C. Hicks
git_last_commit: 9e2f073
git_last_commit_date: 2024-04-30 11:17:58 -0400
nebbiolo2Linux (Ubuntu 22.04.3 LTS) / x86_64  OK    OK    OK  UNNEEDED, same version is already published
palomino4Windows Server 2022 Datacenter / x64  OK    OK    OK    OK  YES
merida1macOS 12.7.4 Monterey / x86_64  OK    OK    OK    OK  UNNEEDED, same version is already published
kjohnson1macOS 13.6.6 Ventura / arm64see weekly results here
Package 14/22HostnameOS / ArchINSTALLBUILDCHECKBUILD BIN
methylclock 1.11.0  (landing page)
Dolors Pelegri-Siso
git_last_commit: bb5ccfa
git_last_commit_date: 2024-04-30 11:35:38 -0400
nebbiolo2Linux (Ubuntu 22.04.3 LTS) / x86_64  OK    ERROR  skipped
palomino4Windows Server 2022 Datacenter / x64  OK    OK    OK    OK  UNNEEDED, same version is already published
merida1macOS 12.7.4 Monterey / x86_64  OK    OK    OK    OK  UNNEEDED, same version is already published
kjohnson1macOS 13.6.6 Ventura / arm64see weekly results here
Package 15/22HostnameOS / ArchINSTALLBUILDCHECKBUILD BIN
methylumi 2.51.0  (landing page)
Sean Davis
git_last_commit: 53b30af
git_last_commit_date: 2024-04-30 10:20:01 -0400
nebbiolo2Linux (Ubuntu 22.04.3 LTS) / x86_64  OK    OK    OK  UNNEEDED, same version is already published
palomino4Windows Server 2022 Datacenter / x64  OK    OK    OK    OK  YES
merida1macOS 12.7.4 Monterey / x86_64  OK    OK    OK    OK  UNNEEDED, same version is already published
kjohnson1macOS 13.6.6 Ventura / arm64see weekly results here
Package 16/22HostnameOS / ArchINSTALLBUILDCHECKBUILD BIN
missMethyl 1.39.0  (landing page)
Belinda Phipson
git_last_commit: f9bce79
git_last_commit_date: 2024-04-30 10:37:36 -0400
nebbiolo2Linux (Ubuntu 22.04.3 LTS) / x86_64  OK    OK    OK  UNNEEDED, same version is already published
palomino4Windows Server 2022 Datacenter / x64  OK    OK    OK    OK  YES
merida1macOS 12.7.4 Monterey / x86_64  OK    OK    OK    OK  UNNEEDED, same version is already published
kjohnson1macOS 13.6.6 Ventura / arm64see weekly results here
Package 17/22HostnameOS / ArchINSTALLBUILDCHECKBUILD BIN
quantro 1.39.0  (landing page)
Stephanie Hicks
git_last_commit: f8b5d9d
git_last_commit_date: 2024-04-30 10:38:07 -0400
nebbiolo2Linux (Ubuntu 22.04.3 LTS) / x86_64  OK    OK    OK  UNNEEDED, same version is already published
palomino4Windows Server 2022 Datacenter / x64  OK    OK    OK    OK  UNNEEDED, same version is already published
merida1macOS 12.7.4 Monterey / x86_64  OK    OK    OK    OK  UNNEEDED, same version is already published
kjohnson1macOS 13.6.6 Ventura / arm64see weekly results here
Package 18/22HostnameOS / ArchINSTALLBUILDCHECKBUILD BIN
recountmethylation 1.15.0  (landing page)
Sean K Maden
git_last_commit: c029431
git_last_commit_date: 2024-04-30 11:26:41 -0400
nebbiolo2Linux (Ubuntu 22.04.3 LTS) / x86_64  OK    OK    OK  UNNEEDED, same version is already published
palomino4Windows Server 2022 Datacenter / x64  OK    OK    OK    OK  UNNEEDED, same version is already published
merida1macOS 12.7.4 Monterey / x86_64  OK    OK    OK    OK  UNNEEDED, same version is already published
kjohnson1macOS 13.6.6 Ventura / arm64see weekly results here
Package 19/22HostnameOS / ArchINSTALLBUILDCHECKBUILD BIN
REMP 1.29.0  (landing page)
Yinan Zheng
git_last_commit: 8751068
git_last_commit_date: 2024-04-30 10:56:18 -0400
nebbiolo2Linux (Ubuntu 22.04.3 LTS) / x86_64  OK    OK    OK  UNNEEDED, same version is already published
palomino4Windows Server 2022 Datacenter / x64  OK    OK    OK    OK  YES
merida1macOS 12.7.4 Monterey / x86_64  OK    OK    OK    OK  UNNEEDED, same version is already published
kjohnson1macOS 13.6.6 Ventura / arm64see weekly results here
Package 20/22HostnameOS / ArchINSTALLBUILDCHECKBUILD BIN
shinyepico 1.13.0  (landing page)
Octavio Morante-Palacios
git_last_commit: 605d58a
git_last_commit_date: 2024-04-30 11:29:32 -0400
nebbiolo2Linux (Ubuntu 22.04.3 LTS) / x86_64  OK    OK    OK  UNNEEDED, same version is already published
palomino4Windows Server 2022 Datacenter / x64  OK    OK    OK    OK  YES
merida1macOS 12.7.4 Monterey / x86_64  OK    OK    OK    OK  UNNEEDED, same version is already published
kjohnson1macOS 13.6.6 Ventura / arm64see weekly results here
Package 21/22HostnameOS / ArchINSTALLBUILDCHECKBUILD BIN
shinyMethyl 1.41.0  (landing page)
Jean-Philippe Fortin
git_last_commit: 43d63c9
git_last_commit_date: 2024-04-30 10:37:25 -0400
nebbiolo2Linux (Ubuntu 22.04.3 LTS) / x86_64  OK    OK    OK  UNNEEDED, same version is already published
palomino4Windows Server 2022 Datacenter / x64  OK    OK    OK    OK  UNNEEDED, same version is already published
merida1macOS 12.7.4 Monterey / x86_64  OK    OK    OK    OK  UNNEEDED, same version is already published
kjohnson1macOS 13.6.6 Ventura / arm64see weekly results here
Package 22/22HostnameOS / ArchINSTALLBUILDCHECKBUILD BIN
skewr 1.37.0  (landing page)
Ryan Putney
git_last_commit: af6e1a6
git_last_commit_date: 2024-04-30 10:41:54 -0400
nebbiolo2Linux (Ubuntu 22.04.3 LTS) / x86_64  OK    OK    OK  UNNEEDED, same version is already published
palomino4Windows Server 2022 Datacenter / x64  OK    OK    OK    OK  UNNEEDED, same version is already published
merida1macOS 12.7.4 Monterey / x86_64  OK    OK    OK    OK  UNNEEDED, same version is already published
kjohnson1macOS 13.6.6 Ventura / arm64see weekly results here