Back to Multiple platform build/check report for BioC 3.15
ABCDEFGHIJKLMNOPQR[S]TUVWXYZ

This page was generated on 2021-11-25 14:04:18 -0500 (Thu, 25 Nov 2021).

All results for package schex

To the developers/maintainers of the schex package:
- Please allow up to 24 hours (and sometimes 48 hours) for your latest push to git@git.bioconductor.org:packages/schex.git to
reflect on this report. See How and When does the builder pull? When will my changes propagate? here for more information.
- Make sure to use the following settings in order to reproduce any error or warning you see on this page.

raw results

Package 1713/2068HostnameOS / ArchINSTALLBUILDCHECKBUILD BIN
schex 1.9.0  (landing page)
Saskia Freytag
Snapshot Date: 2021-11-24 14:50:13 -0500 (Wed, 24 Nov 2021)
git_url: https://git.bioconductor.org/packages/schex
git_branch: master
git_last_commit: 5fe720d
git_last_commit_date: 2021-10-26 12:55:25 -0500 (Tue, 26 Oct 2021)
nebbiolo1Linux (Ubuntu 20.04.3 LTS) / x86_64  OK    OK    OK  UNNEEDED, same version is already published
riesling1Windows Server 2019 Standard / x64  OK    OK    OK    OK  
merida1macOS 10.14.6 Mojave / x86_64  OK    OK    OK    OK  UNNEEDED, same version is already published

Results for Bioconductor software packages that depend directly on package schex

QUICK STATSOS / ArchINSTALLBUILDCHECKBUILD BIN
nebbiolo1Linux (Ubuntu 20.04.3 LTS) / x86_64
002
002
0002
riesling1Windows Server 2019 Standard / x64
002
002
0002
002
merida1macOS 10.14.6 Mojave / x86_64
002
011
0001
001
Package 1/2HostnameOS / ArchINSTALLBUILDCHECKBUILD BIN
scTensor 2.5.0  (landing page)
Koki Tsuyuzaki
git_last_commit: 2465d43
git_last_commit_date: 2021-10-26 12:48:21 -0500
nebbiolo1Linux (Ubuntu 20.04.3 LTS) / x86_64  OK    OK    OK  UNNEEDED, same version is already published
riesling1Windows Server 2019 Standard / x64  OK    OK    OK    OK  
merida1macOS 10.14.6 Mojave / x86_64  OK    OK    OK    OK  NO, package depends on 'ReactomePA' which is not available
Package 2/2HostnameOS / ArchINSTALLBUILDCHECKBUILD BIN
scTGIF 1.9.0  (landing page)
Koki Tsuyuzaki
git_last_commit: 3f1c0d8
git_last_commit_date: 2021-10-26 12:55:54 -0500
nebbiolo1Linux (Ubuntu 20.04.3 LTS) / x86_64  OK    OK    OK  UNNEEDED, same version is already published
riesling1Windows Server 2019 Standard / x64  OK    OK    OK    OK  
merida1macOS 10.14.6 Mojave / x86_64  OK    ERROR  skippedskipped