Back to Multiple platform build/check report for BioC 3.17
ABCDEFGHIJKL[M]NOPQRSTUVWXYZ

This page was generated on 2022-12-06 11:04:59 -0500 (Tue, 06 Dec 2022).

HostnameOSArch (*)R versionInstalled pkgs
nebbiolo1Linux (Ubuntu 22.04.1 LTS)x86_64R Under development (unstable) (2022-11-30 r83393) -- "Unsuffered Consequences" 4277
palomino3Windows Server 2022 Datacenterx64R Under development (unstable) (2022-11-30 r83393 ucrt) -- "Unsuffered Consequences" 4193
merida1macOS 10.14.6 Mojavex86_64R Under development (unstable) (2022-11-30 r83393) -- "Unsuffered Consequences" 4236
Click on any hostname to see more info about the system (e.g. compilers)      (*) as reported by 'uname -p', except on Windows and Mac OS X

All results for package multiClust


To the developers/maintainers of the multiClust package:
- Please allow up to 24 hours (and sometimes 48 hours) for your latest push to git@git.bioconductor.org:packages/multiClust.git to
reflect on this report. See How and When does the builder pull? When will my changes propagate? for more information.
- Make sure to use the following settings in order to reproduce any error or warning you see on this page.

raw results

Package 1281/2155HostnameOS / ArchINSTALLBUILDCHECKBUILD BIN
multiClust 1.29.0  (landing page)
Nathan Lawlor
Snapshot Date: 2022-12-05 14:00:11 -0500 (Mon, 05 Dec 2022)
git_url: https://git.bioconductor.org/packages/multiClust
git_branch: master
git_last_commit: 943da6e
git_last_commit_date: 2022-11-01 11:12:32 -0500 (Tue, 01 Nov 2022)
nebbiolo1Linux (Ubuntu 22.04.1 LTS) / x86_64  OK    OK    OK  UNNEEDED, same version is already published
palomino3Windows Server 2022 Datacenter / x64  OK    OK    OK    OK  UNNEEDED, same version is already published
merida1macOS 10.14.6 Mojave / x86_64  OK    OK    OK    OK  UNNEEDED, same version is already published