Back to Multiple platform build/check report for BioC 3.18: simplified long |
|
This page was generated on 2023-09-28 11:39:05 -0400 (Thu, 28 Sep 2023).
Hostname | OS | Arch (*) | R version | Installed pkgs |
---|---|---|---|---|
nebbiolo2 | Linux (Ubuntu 22.04.2 LTS) | x86_64 | 4.3.1 (2023-06-16) -- "Beagle Scouts" | 4660 |
palomino4 | Windows Server 2022 Datacenter | x64 | 4.3.1 (2023-06-16 ucrt) -- "Beagle Scouts" | 4395 |
lconway | macOS 12.6.5 Monterey | x86_64 | 4.3.1 Patched (2023-06-17 r84564) -- "Beagle Scouts" | 4409 |
kunpeng2 | Linux (openEuler 22.03 LTS-SP1) | aarch64 | 4.3.1 (2023-06-16) -- "Beagle Scouts" | 4400 |
Click on any hostname to see more info about the system (e.g. compilers) (*) as reported by 'uname -p', except on Windows and Mac OS X |
Package 476/2233 | Hostname | OS / Arch | INSTALL | BUILD | CHECK | BUILD BIN | ||||||||
cyanoFilter 1.9.0 (landing page) Oluwafemi Olusoji
| nebbiolo2 | Linux (Ubuntu 22.04.2 LTS) / x86_64 | OK | OK | OK | ![]() | ||||||||
palomino4 | Windows Server 2022 Datacenter / x64 | OK | OK | OK | OK | ![]() | ||||||||
lconway | macOS 12.6.5 Monterey / x86_64 | OK | OK | OK | OK | ![]() | ||||||||
kunpeng2 | Linux (openEuler 22.03 LTS-SP1) / aarch64 | OK | OK | OK | ||||||||||
To the developers/maintainers of the cyanoFilter package: - Allow up to 24 hours (and sometimes 48 hours) for your latest push to git@git.bioconductor.org:packages/cyanoFilter.git to reflect on this report. See Troubleshooting Build Report for more information. - Use the following Renviron settings to reproduce errors and warnings. - If 'R CMD check' started to fail recently on the Linux builder(s) over a missing dependency, add the missing dependency to 'Suggests:' in your DESCRIPTION file. See Renviron.bioc for more information. |
Package: cyanoFilter |
Version: 1.9.0 |
Command: /Library/Frameworks/R.framework/Resources/bin/R CMD check --install=check:cyanoFilter.install-out.txt --library=/Library/Frameworks/R.framework/Resources/library --no-vignettes --timings cyanoFilter_1.9.0.tar.gz |
StartedAt: 2023-09-27 20:02:21 -0400 (Wed, 27 Sep 2023) |
EndedAt: 2023-09-27 20:04:30 -0400 (Wed, 27 Sep 2023) |
EllapsedTime: 128.4 seconds |
RetCode: 0 |
Status: OK |
CheckDir: cyanoFilter.Rcheck |
Warnings: 0 |
############################################################################## ############################################################################## ### ### Running command: ### ### /Library/Frameworks/R.framework/Resources/bin/R CMD check --install=check:cyanoFilter.install-out.txt --library=/Library/Frameworks/R.framework/Resources/library --no-vignettes --timings cyanoFilter_1.9.0.tar.gz ### ############################################################################## ############################################################################## * using log directory ‘/Users/biocbuild/bbs-3.18-bioc/meat/cyanoFilter.Rcheck’ * using R version 4.3.1 Patched (2023-06-17 r84564) * using platform: x86_64-apple-darwin20 (64-bit) * R was compiled by Apple clang version 14.0.3 (clang-1403.0.22.14.1) GNU Fortran (GCC) 12.2.0 * running under: macOS Monterey 12.6.5 * using session charset: UTF-8 * using option ‘--no-vignettes’ * checking for file ‘cyanoFilter/DESCRIPTION’ ... OK * checking extension type ... Package * this is package ‘cyanoFilter’ version ‘1.9.0’ * package encoding: UTF-8 * checking package namespace information ... OK * checking package dependencies ... OK * checking if this is a source package ... OK * checking if there is a namespace ... OK * checking for hidden files and directories ... OK * checking for portable file names ... OK * checking for sufficient/correct file permissions ... OK * checking whether package ‘cyanoFilter’ can be installed ... OK * checking installed package size ... OK * checking package directory ... OK * checking ‘build’ directory ... OK * checking DESCRIPTION meta-information ... OK * checking top-level files ... OK * checking for left-over files ... OK * checking index information ... OK * checking package subdirectories ... OK * checking R files for non-ASCII characters ... OK * checking R files for syntax errors ... OK * checking whether the package can be loaded ... OK * checking whether the package can be loaded with stated dependencies ... OK * checking whether the package can be unloaded cleanly ... OK * checking whether the namespace can be loaded with stated dependencies ... OK * checking whether the namespace can be unloaded cleanly ... OK * checking dependencies in R code ... OK * checking S3 generic/method consistency ... OK * checking replacement functions ... OK * checking foreign function calls ... OK * checking R code for possible problems ... OK * checking Rd files ... OK * checking Rd metadata ... OK * checking Rd cross-references ... OK * checking for missing documentation entries ... OK * checking for code/documentation mismatches ... OK * checking Rd \usage sections ... OK * checking Rd contents ... OK * checking for unstated dependencies in examples ... OK * checking files in ‘vignettes’ ... OK * checking examples ... OK Examples with CPU (user + system) or elapsed time > 5s user system elapsed gateFunc 9.9 1.027 9.206 * checking for unstated dependencies in vignettes ... OK * checking package vignettes in ‘inst/doc’ ... OK * checking running R code from vignettes ... SKIPPED * checking re-building of vignette outputs ... SKIPPED * checking PDF version of manual ... OK * DONE Status: OK
cyanoFilter.Rcheck/00install.out
############################################################################## ############################################################################## ### ### Running command: ### ### /Library/Frameworks/R.framework/Resources/bin/R CMD INSTALL cyanoFilter ### ############################################################################## ############################################################################## * installing to library ‘/Library/Frameworks/R.framework/Versions/4.3-x86_64/Resources/library’ * installing *source* package ‘cyanoFilter’ ... ** using staged installation ** R ** inst ** byte-compile and prepare package for lazy loading ** help *** installing help indices ** building package indices ** installing vignettes ** testing if installed package can be loaded from temporary location ** testing if installed package can be loaded from final location ** testing if installed package keeps a record of temporary installation path * DONE (cyanoFilter)
cyanoFilter.Rcheck/cyanoFilter-Ex.timings
name | user | system | elapsed | |
MarginEvents | 3.314 | 0.250 | 4.141 | |
PhytoFilter | 1.019 | 0.080 | 1.110 | |
PhytopFilter | 0.726 | 0.064 | 0.804 | |
accTest | 0.705 | 0.042 | 0.755 | |
accuracy | 0.389 | 0.035 | 0.426 | |
cellmargin | 0.356 | 0.047 | 0.407 | |
clusterExtract | 0.775 | 0.058 | 0.853 | |
clusterExtractp | 0.831 | 0.053 | 0.916 | |
debrisNc | 0.395 | 0.065 | 0.473 | |
fullFlowframe-MarginEvents-method | 0.333 | 0.031 | 0.381 | |
fullFlowframe-PhytopFilter-method | 0.632 | 0.042 | 0.700 | |
fullFlowframe | 0.356 | 0.028 | 0.392 | |
gateFunc | 9.900 | 1.027 | 9.206 | |
ggpairsDens | 3.182 | 0.216 | 3.504 | |
ggplotDens | 0.625 | 0.050 | 0.689 | |
ggplotDens2 | 0.922 | 0.072 | 1.093 | |
goodfcs | 0.047 | 0.008 | 0.117 | |
is.DebrisFilter | 0.001 | 0.001 | 0.010 | |
is.MarginEvents | 0.001 | 0.000 | 0.001 | |
is.PhytopFilter | 0.000 | 0.001 | 0.000 | |
is.flowFrame | 0.000 | 0.000 | 0.001 | |
is.flowSet | 0.000 | 0.001 | 0.001 | |
lnTrans | 0.658 | 0.073 | 0.794 | |
newFlowframe | 0.239 | 0.152 | 0.401 | |
nona | 0.100 | 0.013 | 0.118 | |
noneg | 0.189 | 0.025 | 0.215 | |
oneDgate | 0.243 | 0.153 | 0.404 | |
pairsPlot | 1.645 | 0.261 | 2.194 | |
pigmentGate | 0.216 | 0.074 | 0.719 | |
reducedFlowframe-MarginEvents-method | 0.249 | 0.045 | 0.529 | |
reducedFlowframe | 0.330 | 0.036 | 0.407 | |
retain | 0.022 | 0.001 | 0.024 | |
rowNumbers | 0.236 | 0.070 | 0.320 | |
summaries-DebrisFilter-method | 0.304 | 0.026 | 0.355 | |
summaries-MarginEvents-method | 0.319 | 0.043 | 0.376 | |
summaries-PhytopFilter-method | 0.624 | 0.043 | 0.681 | |
summaries | 0.348 | 0.029 | 0.395 | |