Back to Build/check report for BioC 3.13
ABCD[E]FGHIJKLMNOPQRSTUVWXYZ

Build/check report for BioC 3.13

Results for ExperimentHubData

This page was generated on 2020-10-29 10:59:23 -0400 (Thu, 29 Oct 2020).

Package 570/1906HostnameOS / ArchINSTALLBUILDCHECKBUILD BIN
ExperimentHubData 1.17.0
Bioconductor Package Maintainer
Snapshot Date: 2020-10-28 14:40:04 -0400 (Wed, 28 Oct 2020)
URL: https://git.bioconductor.org/packages/ExperimentHubData
Branch: master
Last Commit: e202a2e
Last Changed Date: 2020-10-27 11:11:47 -0400 (Tue, 27 Oct 2020)
malbec2 Linux (Ubuntu 18.04.4 LTS) / x86_64  OK  OK  OK UNNEEDED, same version exists in internal repository