Back to Multiple platform build/check report for BioC 3.20:   simplified   long
AB[C]DEFGHIJKLMNOPQRSTUVWXYZ

This page was generated on 2024-07-16 11:37 -0400 (Tue, 16 Jul 2024).

HostnameOSArch (*)R versionInstalled pkgs
nebbiolo2Linux (Ubuntu 22.04.3 LTS)x86_644.4.1 (2024-06-14) -- "Race for Your Life" 4677
palomino6Windows Server 2022 Datacenterx644.4.1 (2024-06-14 ucrt) -- "Race for Your Life" 4416
lconwaymacOS 12.7.1 Montereyx86_644.4.1 (2024-06-14) -- "Race for Your Life" 4444
kjohnson3macOS 13.6.5 Venturaarm644.4.1 (2024-06-14) -- "Race for Your Life" 4393
palomino8Windows Server 2022 Datacenterx644.4.1 (2024-06-14 ucrt) -- "Race for Your Life" 4373
Click on any hostname to see more info about the system (e.g. compilers)      (*) as reported by 'uname -p', except on Windows and Mac OS X

All results for package consensusOV


To the developers/maintainers of the consensusOV package:
- Allow up to 24 hours (and sometimes 48 hours) for your latest push to git@git.bioconductor.org:packages/consensusOV.git to reflect on this report. See Troubleshooting Build Report for more information.
- Use the following Renviron settings to reproduce errors and warnings.
- If 'R CMD check' started to fail recently on the Linux builder(s) over a missing dependency, add the missing dependency to 'Suggests:' in your DESCRIPTION file. See Renviron.bioc for more information.

raw results

Package 420/2243HostnameOS / ArchINSTALLBUILDCHECKBUILD BIN
consensusOV 1.27.0  (landing page)
Benjamin Haibe-Kains
Snapshot Date: 2024-07-15 14:00 -0400 (Mon, 15 Jul 2024)
git_url: https://git.bioconductor.org/packages/consensusOV
git_branch: devel
git_last_commit: 7b6f2d8
git_last_commit_date: 2024-04-30 10:59:05 -0400 (Tue, 30 Apr 2024)
nebbiolo2Linux (Ubuntu 22.04.3 LTS) / x86_64  ERROR    ERROR  skipped
palomino6Windows Server 2022 Datacenter / x64  ERROR    ERROR  skippedskipped
lconwaymacOS 12.7.1 Monterey / x86_64  ERROR    ERROR  skippedskipped
kjohnson3macOS 13.6.5 Ventura / arm64  ERROR    ERROR  skippedskipped
palomino8Windows Server 2022 Datacenter / x64  ERROR    ERROR  skippedskipped



Results for Bioconductor software packages that depend directly on package consensusOV

QUICK STATSOS / ArchINSTALLBUILDCHECKBUILD BIN
nebbiolo2Linux (Ubuntu 22.04.3 LTS) / x86_64
010
010
0000
palomino6Windows Server 2022 Datacenter / x64
010
010
0000
000
lconwaymacOS 12.7.1 Monterey / x86_64
010
010
0000
000
kjohnson3macOS 13.6.5 Ventura / arm64
010
010
0000
000
palomino8Windows Server 2022 Datacenter / x64
010
010
0000
000
Package 1/1HostnameOS / ArchINSTALLBUILDCHECKBUILD BIN
signifinder 1.7.0  (landing page)
Stefania Pirrotta
git_last_commit: ab19d3b
git_last_commit_date: 2024-04-30 11:45:33 -0400
nebbiolo2Linux (Ubuntu 22.04.3 LTS) / x86_64  ERROR    ERROR  skipped
palomino6Windows Server 2022 Datacenter / x64  ERROR    ERROR  skippedskipped
lconwaymacOS 12.7.1 Monterey / x86_64  ERROR    ERROR  skippedskipped
kjohnson3macOS 13.6.5 Ventura / arm64  ERROR    ERROR  skippedskipped
palomino8Windows Server 2022 Datacenter / x64  ERROR    ERROR  skippedskipped