Back to Multiple platform build/check report for BioC 3.15
ABCDEFGH[I]JKLMNOPQRSTUVWXYZ

This page was generated on 2022-01-21 11:04:54 -0500 (Fri, 21 Jan 2022).

HostnameOSArch (*)R versionInstalled pkgs
nebbiolo1Linux (Ubuntu 20.04.4 LTS)x86_64R Under development (unstable) (2022-01-05 r81451) -- "Unsuffered Consequences" 4163
riesling1Windows Server 2019 Standardx64R Under development (unstable) (2021-11-21 r81221) -- "Unsuffered Consequences" 4058
palomino3Windows Server 2022 Datacenterx64R Under development (unstable) (2021-12-21 r81400 ucrt) -- "Unsuffered Consequences" 4000
merida1macOS 10.14.6 Mojavex86_64R Under development (unstable) (2022-01-05 r81451) -- "Unsuffered Consequences" 4117
Click on any hostname to see more info about the system (e.g. compilers)      (*) as reported by 'uname -p', except on Windows and Mac OS X

All results for package impute


To the developers/maintainers of the impute package:
- Please allow up to 24 hours (and sometimes 48 hours) for your latest push to git@git.bioconductor.org:packages/impute.git to
reflect on this report. See How and When does the builder pull? When will my changes propagate? here for more information.
- Make sure to use the following settings in order to reproduce any error or warning you see on this page.

raw results

Package 927/2075HostnameOS / ArchINSTALLBUILDCHECKBUILD BIN
impute 1.69.0  (landing page)
Balasubramanian Narasimhan
Snapshot Date: 2022-01-20 13:55:17 -0500 (Thu, 20 Jan 2022)
git_url: https://git.bioconductor.org/packages/impute
git_branch: master
git_last_commit: 09c5904
git_last_commit_date: 2021-10-26 11:46:35 -0500 (Tue, 26 Oct 2021)
nebbiolo1Linux (Ubuntu 20.04.4 LTS) / x86_64  OK    OK    OK  UNNEEDED, same version is already published
riesling1Windows Server 2019 Standard / x64  OK    OK    OK    OK  
palomino3Windows Server 2022 Datacenter / x64  OK    OK    OK    OK  UNNEEDED, same version is already published
merida1macOS 10.14.6 Mojave / x86_64  OK    OK    OK    OK  UNNEEDED, same version is already published

Results for Bioconductor software packages that depend directly on package impute

QUICK STATSOS / ArchINSTALLBUILDCHECKBUILD BIN
nebbiolo1Linux (Ubuntu 20.04.4 LTS) / x86_64
0130
0130
00822
riesling1Windows Server 2019 Standard / x64
0129
0129
01820
0029
palomino3Windows Server 2022 Datacenter / x64
0129
0129
01820
0029
merida1macOS 10.14.6 Mojave / x86_64
0130
0229
00821
0029
Package 1/31HostnameOS / ArchINSTALLBUILDCHECKBUILD BIN
AMARETTO 1.11.0  (landing page)
Olivier Gevaert
git_last_commit: dd06549
git_last_commit_date: 2021-10-26 12:50:18 -0500
nebbiolo1Linux (Ubuntu 20.04.4 LTS) / x86_64  OK    OK    OK  UNNEEDED, same version is already published
riesling1Windows Server 2019 Standard / x64  OK    OK    OK    OK  
palomino3Windows Server 2022 Datacenter / x64  OK    OK    OK    OK  NO, package depends on 'ComplexHeatmap' which is not available
merida1macOS 10.14.6 Mojave / x86_64  OK    OK    OK    OK  UNNEEDED, same version is already published
Package 2/31HostnameOS / ArchINSTALLBUILDCHECKBUILD BIN
biscuiteer 1.9.2  (landing page)
"Jacob Morrison"
git_last_commit: a17221f
git_last_commit_date: 2021-11-20 23:10:29 -0500
nebbiolo1Linux (Ubuntu 20.04.4 LTS) / x86_64  OK    OK    WARNINGS  UNNEEDED, same version is already published
riesling1Windows Server 2019 Standard / x64  OK    OK    WARNINGS    OK  
palomino3Windows Server 2022 Datacenter / x64  OK    OK    WARNINGS    OK  NO, package depends on 'bsseq' which is not available
merida1macOS 10.14.6 Mojave / x86_64  OK    OK    WARNINGS    OK  UNNEEDED, same version is already published
Package 3/31HostnameOS / ArchINSTALLBUILDCHECKBUILD BIN
CancerSubtypes 1.21.0  (landing page)
Taosheng Xu
git_last_commit: 6dd9e51
git_last_commit_date: 2021-10-26 12:29:33 -0500
nebbiolo1Linux (Ubuntu 20.04.4 LTS) / x86_64  OK    OK    OK  UNNEEDED, same version is already published
riesling1Windows Server 2019 Standard / x64  OK    OK    OK    OK  
palomino3Windows Server 2022 Datacenter / x64  OK    OK    OK    OK  NO, package depends on 'ConsensusClusterPlus' which is not available
merida1macOS 10.14.6 Mojave / x86_64  OK    OK    OK    OK  UNNEEDED, same version is already published
Package 4/31HostnameOS / ArchINSTALLBUILDCHECKBUILD BIN
CGHcall 2.57.0  (landing page)
Mark van de Wiel
git_last_commit: 1c00124
git_last_commit_date: 2021-10-26 11:51:30 -0500
nebbiolo1Linux (Ubuntu 20.04.4 LTS) / x86_64  OK    OK    WARNINGS  UNNEEDED, same version is already published
riesling1Windows Server 2019 Standard / x64  OK    OK    WARNINGS    OK  
palomino3Windows Server 2022 Datacenter / x64  OK    OK    WARNINGS    OK  NO, package depends on 'Biobase' which is not available
merida1macOS 10.14.6 Mojave / x86_64  OK    OK    WARNINGS    OK  UNNEEDED, same version is already published
Package 5/31HostnameOS / ArchINSTALLBUILDCHECKBUILD BIN
ChAMP 2.25.0  (landing page)
Yuan Tian
git_last_commit: f25a72d
git_last_commit_date: 2021-10-26 12:10:43 -0500
nebbiolo1Linux (Ubuntu 20.04.4 LTS) / x86_64  OK    OK    WARNINGS  UNNEEDED, same version is already published
riesling1Windows Server 2019 Standard / x64  OK    OK    WARNINGS    OK  
palomino3Windows Server 2022 Datacenter / x64  OK    OK    WARNINGS    OK  NO, package depends on 'minfi' which is not available
merida1macOS 10.14.6 Mojave / x86_64  OK    OK    WARNINGS    OK  NO, package depends on 'DMRcate' which is not available
Package 6/31HostnameOS / ArchINSTALLBUILDCHECKBUILD BIN
cola 2.1.0  (landing page)
Zuguang Gu
git_last_commit: b1d6f9d
git_last_commit_date: 2021-10-26 12:49:03 -0500
nebbiolo1Linux (Ubuntu 20.04.4 LTS) / x86_64  OK    OK    OK  UNNEEDED, same version is already published
riesling1Windows Server 2019 Standard / x64  OK    OK    OK    OK  
palomino3Windows Server 2022 Datacenter / x64  OK    OK    OK    OK  NO, package depends on 'ComplexHeatmap' which is not available
merida1macOS 10.14.6 Mojave / x86_64  OK    OK    OK    OK  UNNEEDED, same version is already published
Package 7/31HostnameOS / ArchINSTALLBUILDCHECKBUILD BIN
DAPAR 1.27.0  (landing page)
Samuel Wieczorek
git_last_commit: bb43d36
git_last_commit_date: 2021-10-26 12:22:53 -0500
nebbiolo1Linux (Ubuntu 20.04.4 LTS) / x86_64  ERROR    ERROR  skipped
riesling1Windows Server 2019 Standard / x64  ERROR    ERROR  skippedskipped
palomino3Windows Server 2022 Datacenter / x64  ERROR    ERROR  skippedskipped
merida1macOS 10.14.6 Mojave / x86_64  ERROR    ERROR  skippedskipped
Package 8/31HostnameOS / ArchINSTALLBUILDCHECKBUILD BIN
DExMA 1.3.1  (landing page)
Juan Antonio Villatoro-GarcĂ­a
git_last_commit: 654dbef
git_last_commit_date: 2021-11-26 13:06:34 -0500
nebbiolo1Linux (Ubuntu 20.04.4 LTS) / x86_64  OK    OK    OK  UNNEEDED, same version is already published
riesling1Windows Server 2019 Standard / x64  OK    OK    OK    OK  
palomino3Windows Server 2022 Datacenter / x64  OK    OK    OK    OK  NO, package depends on 'Biobase' which is not available
merida1macOS 10.14.6 Mojave / x86_64  OK    OK    OK    OK  UNNEEDED, same version is already published
Package 9/31HostnameOS / ArchINSTALLBUILDCHECKBUILD BIN
doppelgangR 1.23.0  (landing page)
Levi Waldron
git_last_commit: 8b1f509
git_last_commit_date: 2021-10-26 12:26:10 -0500
nebbiolo1Linux (Ubuntu 20.04.4 LTS) / x86_64  OK    OK    OK  UNNEEDED, same version is already published
riesling1Windows Server 2019 Standard / x64  OK    OK    OK    OK  
palomino3Windows Server 2022 Datacenter / x64  OK    OK    OK    OK  NO, package depends on 'Biobase' which is not available
merida1macOS 10.14.6 Mojave / x86_64  OK    OK    OK    OK  UNNEEDED, same version is already published
Package 10/31HostnameOS / ArchINSTALLBUILDCHECKBUILD BIN
EGAD 1.23.0  (landing page)
Sara Ballouz
git_last_commit: d94e355
git_last_commit_date: 2021-10-26 12:27:52 -0500
nebbiolo1Linux (Ubuntu 20.04.4 LTS) / x86_64  OK    OK    WARNINGS  UNNEEDED, same version is already published
riesling1Windows Server 2019 Standard / x64  OK    OK    WARNINGS    OK  
palomino3Windows Server 2022 Datacenter / x64  OK    OK    WARNINGS    OK  NO, package depends on 'Biobase' which is not available
merida1macOS 10.14.6 Mojave / x86_64  OK    OK    WARNINGS    OK  UNNEEDED, same version is already published
Package 11/31HostnameOS / ArchINSTALLBUILDCHECKBUILD BIN
ENmix 1.31.01  (landing page)
Zongli Xu
git_last_commit: f0d41d5
git_last_commit_date: 2021-12-07 15:36:04 -0500
nebbiolo1Linux (Ubuntu 20.04.4 LTS) / x86_64  OK    OK    OK  UNNEEDED, same version is already published
riesling1Windows Server 2019 Standard / x64  OK    OK    OK    OK  
palomino3Windows Server 2022 Datacenter / x64  OK    OK    OK    OK  NO, package depends on 'SummarizedExperiment' which is not available
merida1macOS 10.14.6 Mojave / x86_64  OK    OK    OK    OK  UNNEEDED, same version is already published
Package 12/31HostnameOS / ArchINSTALLBUILDCHECKBUILD BIN
fastLiquidAssociation 1.31.0  (landing page)
Tina Gunderson
git_last_commit: 1593f06
git_last_commit_date: 2021-10-26 12:13:36 -0500
nebbiolo1Linux (Ubuntu 20.04.4 LTS) / x86_64  OK    OK    WARNINGS  UNNEEDED, same version is already published
riesling1Windows Server 2019 Standard / x64  OK    OK    WARNINGS    OK  
palomino3Windows Server 2022 Datacenter / x64  OK    OK    WARNINGS    OK  NO, package depends on 'LiquidAssociation' which is not available
merida1macOS 10.14.6 Mojave / x86_64  OK    OK    WARNINGS    OK  UNNEEDED, same version is already published
Package 13/31HostnameOS / ArchINSTALLBUILDCHECKBUILD BIN
genefu 2.27.0  (landing page)
Benjamin Haibe-Kains
git_last_commit: a614a0d
git_last_commit_date: 2021-10-26 11:58:39 -0500
nebbiolo1Linux (Ubuntu 20.04.4 LTS) / x86_64  OK    OK    OK  UNNEEDED, same version is already published
riesling1Windows Server 2019 Standard / x64  OK    OK    OK    OK  
palomino3Windows Server 2022 Datacenter / x64  OK    OK    OK    OK  NO, package depends on 'biomaRt' which is not available
merida1macOS 10.14.6 Mojave / x86_64  OK    OK    OK    OK  UNNEEDED, same version is already published
Package 14/31HostnameOS / ArchINSTALLBUILDCHECKBUILD BIN
genomation 1.27.1  (landing page)
Altuna Akalin , Vedran Franke
git_last_commit: fe8db24
git_last_commit_date: 2021-11-18 16:59:51 -0500
nebbiolo1Linux (Ubuntu 20.04.4 LTS) / x86_64  OK    OK    WARNINGS  UNNEEDED, same version is already published
riesling1Windows Server 2019 Standard / x64  OK    OK    WARNINGS    OK  
palomino3Windows Server 2022 Datacenter / x64  OK    OK    WARNINGS    OK  NO, package depends on 'Biostrings' which is not available
merida1macOS 10.14.6 Mojave / x86_64  OK    OK    WARNINGS    OK  UNNEEDED, same version is already published
Package 15/31HostnameOS / ArchINSTALLBUILDCHECKBUILD BIN
GEOexplorer 1.1.0  (landing page)
Guy Hunt
git_last_commit: bebe716
git_last_commit_date: 2021-10-26 13:11:43 -0500
nebbiolo1Linux (Ubuntu 20.04.4 LTS) / x86_64  OK    OK    OK  UNNEEDED, same version is already published
riesling1Windows Server 2019 Standard / x64  OK    OK    OK    OK  
palomino3Windows Server 2022 Datacenter / x64  OK    OK    ERROR    OK  
merida1macOS 10.14.6 Mojave / x86_64  OK    OK    OK    OK  UNNEEDED, same version is already published
Package 16/31HostnameOS / ArchINSTALLBUILDCHECKBUILD BIN
MAGAR 1.3.0  (landing page)
Michael Scherer
git_last_commit: 47e3631
git_last_commit_date: 2021-11-04 06:02:38 -0500
nebbiolo1Linux (Ubuntu 20.04.4 LTS) / x86_64  OK    OK    OK  UNNEEDED, same version is already published
riesling1Windows Server 2019 Standard / x64  OK    OK    OK    OK  
palomino3Windows Server 2022 Datacenter / x64  OK    OK    OK    OK  NO, package depends on 'HDF5Array' which is not available
merida1macOS 10.14.6 Mojave / x86_64  OK    OK    OK    OK  UNNEEDED, same version is already published
Package 17/31HostnameOS / ArchINSTALLBUILDCHECKBUILD BIN
MatrixQCvis 1.3.2  (landing page)
Thomas Naake
git_last_commit: 47d52ef
git_last_commit_date: 2022-01-19 09:42:27 -0500
nebbiolo1Linux (Ubuntu 20.04.4 LTS) / x86_64  OK    OK    OK  UNNEEDED, same version is already published
riesling1Windows Server 2019 Standard / x64  OK    OK    OK    OK  
palomino3Windows Server 2022 Datacenter / x64  OK    OK    OK    OK  NO, package depends on 'SummarizedExperiment' which is not available
merida1macOS 10.14.6 Mojave / x86_64  OK    OK    OK    OK  UNNEEDED, same version is already published
Package 18/31HostnameOS / ArchINSTALLBUILDCHECKBUILD BIN
MEAT 1.7.0  (landing page)
Sarah Voisin
git_last_commit: ecf3872
git_last_commit_date: 2021-10-26 12:57:13 -0500
nebbiolo1Linux (Ubuntu 20.04.4 LTS) / x86_64  OK    OK    WARNINGS  UNNEEDED, same version is already published
riesling1Windows Server 2019 Standard / x64  OK    OK    WARNINGS    OK  
palomino3Windows Server 2022 Datacenter / x64  OK    OK    WARNINGS    OK  NO, package depends on 'minfi' which is not available
merida1macOS 10.14.6 Mojave / x86_64  OK    OK    WARNINGS    OK  NO, package depends on 'wateRmelon' which is not available
Package 19/31HostnameOS / ArchINSTALLBUILDCHECKBUILD BIN
methylclock 1.1.2  (landing page)
Dolors Pelegri-Siso
git_last_commit: 1856a52
git_last_commit_date: 2021-11-21 05:56:37 -0500
nebbiolo1Linux (Ubuntu 20.04.4 LTS) / x86_64  OK    OK    OK  UNNEEDED, same version is already published
riesling1Windows Server 2019 Standard / x64  OK    OK    OK    OK  
palomino3Windows Server 2022 Datacenter / x64  OK    OK    OK    OK  NO, package depends on 'ExperimentHub' which is not available
merida1macOS 10.14.6 Mojave / x86_64  OK    OK    OK    OK  UNNEEDED, same version is already published
Package 20/31HostnameOS / ArchINSTALLBUILDCHECKBUILD BIN
MethylMix 2.25.0  (landing page)
Olivier Gevaert
git_last_commit: c855dac
git_last_commit_date: 2021-10-26 12:15:36 -0500
nebbiolo1Linux (Ubuntu 20.04.4 LTS) / x86_64  OK    OK    OK  UNNEEDED, same version is already published
riesling1Windows Server 2019 Standard / x64  OK    OK    OK    OK  
palomino3Windows Server 2022 Datacenter / x64  OK    OK    OK    OK  UNNEEDED, same version is already published
merida1macOS 10.14.6 Mojave / x86_64  OK    OK    OK    OK  UNNEEDED, same version is already published
Package 21/31HostnameOS / ArchINSTALLBUILDCHECKBUILD BIN
miRLAB 1.25.1  (landing page)
Thuc Duy Le
git_last_commit: 83fdf5c
git_last_commit_date: 2021-11-24 18:44:25 -0500
nebbiolo1Linux (Ubuntu 20.04.4 LTS) / x86_64  OK    OK    OK  UNNEEDED, same version is already published
riesling1Windows Server 2019 Standard / x64  OK    OK    OK    OK  
palomino3Windows Server 2022 Datacenter / x64  OK    OK    OK    OK  NO, package depends on 'TCGAbiolinks' which is not available
merida1macOS 10.14.6 Mojave / x86_64  OK    OK    OK    OK  UNNEEDED, same version is already published
Package 22/31HostnameOS / ArchINSTALLBUILDCHECKBUILD BIN
MSnbase 2.21.4  (landing page)
Laurent Gatto
git_last_commit: 9ae61b97
git_last_commit_date: 2022-01-13 12:03:54 -0500
nebbiolo1Linux (Ubuntu 20.04.4 LTS) / x86_64  OK    OK    OK  UNNEEDED, same version is already published
riesling1Windows Server 2019 Standard / x64  OK    OK    ERROR    OK  
palomino3Windows Server 2022 Datacenter / x64  OK    OK    OK    OK  NO, package depends on 'BiocGenerics' which is not available
merida1macOS 10.14.6 Mojave / x86_64  OK    OK    OK    OK  UNNEEDED, same version is already published
Package 23/31HostnameOS / ArchINSTALLBUILDCHECKBUILD BIN
netboost 2.3.0  (landing page)
Pascal Schlosser
git_last_commit: fea871a
git_last_commit_date: 2021-10-26 12:52:10 -0500
nebbiolo1Linux (Ubuntu 20.04.4 LTS) / x86_64  OK    OK    OK  UNNEEDED, same version is already published
riesling1Windows Server 2019 Standard / x64... NOT SUPPORTED ...
palomino3Windows Server 2022 Datacenter / x64... NOT SUPPORTED ...
merida1macOS 10.14.6 Mojave / x86_64  OK    OK    OK    OK  UNNEEDED, same version is already published
Package 24/31HostnameOS / ArchINSTALLBUILDCHECKBUILD BIN
Pigengene 1.21.36  (landing page)
Habil Zare
git_last_commit: fa5d359
git_last_commit_date: 2021-11-16 23:57:42 -0500
nebbiolo1Linux (Ubuntu 20.04.4 LTS) / x86_64  OK    OK    OK  UNNEEDED, same version is already published
riesling1Windows Server 2019 Standard / x64  OK    OK    OK    OK  
palomino3Windows Server 2022 Datacenter / x64  OK    OK    OK    OK  NO, package depends on 'graph' which is not available
merida1macOS 10.14.6 Mojave / x86_64  OK    ERROR  skippedskipped
Package 25/31HostnameOS / ArchINSTALLBUILDCHECKBUILD BIN
pmp 1.7.0  (landing page)
Gavin Rhys Lloyd
git_last_commit: 5ada669
git_last_commit_date: 2021-10-26 12:56:52 -0500
nebbiolo1Linux (Ubuntu 20.04.4 LTS) / x86_64  OK    OK    OK  UNNEEDED, same version is already published
riesling1Windows Server 2019 Standard / x64  OK    OK    OK    OK  
palomino3Windows Server 2022 Datacenter / x64  OK    OK    OK    OK  NO, package depends on 'pcaMethods' which is not available
merida1macOS 10.14.6 Mojave / x86_64  OK    OK    OK    OK  UNNEEDED, same version is already published
Package 26/31HostnameOS / ArchINSTALLBUILDCHECKBUILD BIN
POMA 1.5.5  (landing page)
Pol Castellano-Escuder
git_last_commit: f93eb55
git_last_commit_date: 2021-12-13 12:18:08 -0500
nebbiolo1Linux (Ubuntu 20.04.4 LTS) / x86_64  OK    OK    OK  UNNEEDED, same version is already published
riesling1Windows Server 2019 Standard / x64  OK    OK    OK    OK  
palomino3Windows Server 2022 Datacenter / x64  OK    OK    OK    OK  NO, package depends on 'ComplexHeatmap' which is not available
merida1macOS 10.14.6 Mojave / x86_64  OK    OK    OK    OK  UNNEEDED, same version is already published
Package 27/31HostnameOS / ArchINSTALLBUILDCHECKBUILD BIN
REMP 1.19.1  (landing page)
Yinan Zheng
git_last_commit: b78a06c
git_last_commit_date: 2021-11-21 00:47:47 -0500
nebbiolo1Linux (Ubuntu 20.04.4 LTS) / x86_64  OK    OK    OK  UNNEEDED, same version is already published
riesling1Windows Server 2019 Standard / x64  OK    OK    OK    OK  
palomino3Windows Server 2022 Datacenter / x64  OK    OK    OK    OK  NO, package depends on 'SummarizedExperiment' which is not available
merida1macOS 10.14.6 Mojave / x86_64  OK    OK    OK    OK  UNNEEDED, same version is already published
Package 28/31HostnameOS / ArchINSTALLBUILDCHECKBUILD BIN
RNAAgeCalc 1.7.0  (landing page)
Xu Ren
git_last_commit: ddee618
git_last_commit_date: 2021-10-26 12:57:56 -0500
nebbiolo1Linux (Ubuntu 20.04.4 LTS) / x86_64  OK    OK    OK  UNNEEDED, same version is already published
riesling1Windows Server 2019 Standard / x64  OK    OK    OK    OK  
palomino3Windows Server 2022 Datacenter / x64  OK    OK    OK    OK  NO, package depends on 'recount' which is not available
merida1macOS 10.14.6 Mojave / x86_64  OK    OK    OK    OK  UNNEEDED, same version is already published
Package 29/31HostnameOS / ArchINSTALLBUILDCHECKBUILD BIN
Rnits 1.29.0  (landing page)
Dipen P. Sangurdekar
git_last_commit: f913d43
git_last_commit_date: 2021-10-26 12:15:38 -0500
nebbiolo1Linux (Ubuntu 20.04.4 LTS) / x86_64  OK    OK    WARNINGS  UNNEEDED, same version is already published
riesling1Windows Server 2019 Standard / x64  OK    OK    WARNINGS    OK  
palomino3Windows Server 2022 Datacenter / x64  OK    OK    WARNINGS    OK  NO, package depends on 'Biobase' which is not available
merida1macOS 10.14.6 Mojave / x86_64  OK    OK    WARNINGS    OK  UNNEEDED, same version is already published
Package 30/31HostnameOS / ArchINSTALLBUILDCHECKBUILD BIN
statTarget 1.25.5  (landing page)
Hemi Luan
git_last_commit: f7572a2
git_last_commit_date: 2022-01-17 02:48:18 -0500
nebbiolo1Linux (Ubuntu 20.04.4 LTS) / x86_64  OK    OK    OK  UNNEEDED, same version is already published
riesling1Windows Server 2019 Standard / x64  OK    OK    OK    OK  
palomino3Windows Server 2022 Datacenter / x64  OK    OK    OK    OK  UNNEEDED, same version is already published
merida1macOS 10.14.6 Mojave / x86_64  OK    OK    OK    OK  UNNEEDED, same version is already published
Package 31/31HostnameOS / ArchINSTALLBUILDCHECKBUILD BIN
TIN 1.27.0  (landing page)
Bjarne Johannessen
git_last_commit: 97bffa1
git_last_commit_date: 2021-10-26 12:19:24 -0500
nebbiolo1Linux (Ubuntu 20.04.4 LTS) / x86_64  OK    OK    OK  UNNEEDED, same version is already published
riesling1Windows Server 2019 Standard / x64  OK    OK    OK    OK  
palomino3Windows Server 2022 Datacenter / x64  OK    OK    OK    OK  UNNEEDED, same version is already published
merida1macOS 10.14.6 Mojave / x86_64  OK    OK    OK    OK  UNNEEDED, same version is already published