Back to Multiple platform build/check report for BioC 3.16
ABCDEFGHIJKLM[N]OPQRSTUVWXYZ

This page was generated on 2022-07-05 11:04:40 -0400 (Tue, 05 Jul 2022).

HostnameOSArch (*)R versionInstalled pkgs
nebbiolo2Linux (Ubuntu 20.04.4 LTS)x86_644.2.0 Patched (2022-06-02 r82447) -- "Vigorous Calisthenics" 4343
palomino4Windows Server 2022 Datacenterx644.2.0 Patched (2022-06-02 r82447 ucrt) -- "Vigorous Calisthenics" 4148
lconwaymacOS 12.2.1 Montereyx86_644.2.0 Patched (2022-05-29 r82424) -- "Vigorous Calisthenics" 4160
Click on any hostname to see more info about the system (e.g. compilers)      (*) as reported by 'uname -p', except on Windows and Mac OS X

All results for package netresponse


To the developers/maintainers of the netresponse package:
- Please allow up to 24 hours (and sometimes 48 hours) for your latest push to git@git.bioconductor.org:packages/netresponse.git to
reflect on this report. See How and When does the builder pull? When will my changes propagate? for more information.
- Make sure to use the following settings in order to reproduce any error or warning you see on this page.

raw results

Package 1313/2124HostnameOS / ArchINSTALLBUILDCHECKBUILD BIN
netresponse 1.57.0  (landing page)
Leo Lahti
Snapshot Date: 2022-07-04 14:00:06 -0400 (Mon, 04 Jul 2022)
git_url: https://git.bioconductor.org/packages/netresponse
git_branch: master
git_last_commit: af11aa9
git_last_commit_date: 2022-04-26 11:05:56 -0400 (Tue, 26 Apr 2022)
nebbiolo2Linux (Ubuntu 20.04.4 LTS) / x86_64  OK    OK    OK  UNNEEDED, same version is already published
palomino4Windows Server 2022 Datacenter / x64  OK    OK    OK    OK  UNNEEDED, same version is already published
lconwaymacOS 12.2.1 Monterey / x86_64  OK    OK    OK    OK  UNNEEDED, same version is already published