Back to Multiple platform build/check report for BioC 3.19:   simplified   long
[A]BCDEFGHIJKLMNOPQRSTUVWXYZ

This page was generated on 2024-03-01 11:34:39 -0500 (Fri, 01 Mar 2024).

HostnameOSArch (*)R versionInstalled pkgs
nebbiolo1Linux (Ubuntu 22.04.3 LTS)x86_64R Under development (unstable) (2024-01-16 r85808) -- "Unsuffered Consequences" 4676
palomino3Windows Server 2022 Datacenterx64R Under development (unstable) (2024-01-14 r85805 ucrt) -- "Unsuffered Consequences" 4414
merida1macOS 12.7.1 Montereyx86_64R Under development (unstable) (2024-01-16 r85808) -- "Unsuffered Consequences" 4441
kunpeng2Linux (openEuler 22.03 LTS-SP1)aarch64R Under development (unstable) (2024-01-16 r85812) -- "Unsuffered Consequences" 4417
Click on any hostname to see more info about the system (e.g. compilers)      (*) as reported by 'uname -p', except on Windows and Mac OS X

All results for package affy


To the developers/maintainers of the affy package:
- Allow up to 24 hours (and sometimes 48 hours) for your latest push to git@git.bioconductor.org:packages/affy.git to reflect on this report. See Troubleshooting Build Report for more information.
- Use the following Renviron settings to reproduce errors and warnings.
- If 'R CMD check' started to fail recently on the Linux builder(s) over a missing dependency, add the missing dependency to 'Suggests:' in your DESCRIPTION file. See Renviron.bioc for more information.

raw results

Package 23/2251HostnameOS / ArchINSTALLBUILDCHECKBUILD BIN
affy 1.81.0  (landing page)
Robert D. Shear
Snapshot Date: 2024-02-28 14:00:14 -0500 (Wed, 28 Feb 2024)
git_url: https://git.bioconductor.org/packages/affy
git_branch: devel
git_last_commit: 928e160
git_last_commit_date: 2023-10-24 09:31:51 -0500 (Tue, 24 Oct 2023)
nebbiolo1Linux (Ubuntu 22.04.3 LTS) / x86_64  OK    OK    WARNINGS  UNNEEDED, same version is already published
palomino3Windows Server 2022 Datacenter / x64  OK    OK    WARNINGS    OK  UNNEEDED, same version is already published
merida1macOS 12.7.1 Monterey / x86_64  OK    OK    WARNINGS    OK  UNNEEDED, same version is already published
kunpeng2Linux (openEuler 22.03 LTS-SP1) / aarch64  OK    OK    WARNINGS  

Results for Bioconductor software packages that depend directly on package affy

QUICK STATSOS / ArchINSTALLBUILDCHECKBUILD BIN
nebbiolo1Linux (Ubuntu 22.04.3 LTS) / x86_64
0052
0052
02743
palomino3Windows Server 2022 Datacenter / x64
0051
0942
00735
0042
merida1macOS 12.7.1 Monterey / x86_64
0052
0052
00943
0052
kunpeng2Linux (openEuler 22.03 LTS-SP1) / aarch64
0052
0151
02742
Package 1/52HostnameOS / ArchINSTALLBUILDCHECKBUILD BIN
affyContam 1.61.0  (landing page)
V. Carey
git_last_commit: 39956ba
git_last_commit_date: 2023-10-24 09:40:56 -0500
nebbiolo1Linux (Ubuntu 22.04.3 LTS) / x86_64  OK    OK    OK  UNNEEDED, same version is already published
palomino3Windows Server 2022 Datacenter / x64  OK    OK    OK    OK  UNNEEDED, same version is already published
merida1macOS 12.7.1 Monterey / x86_64  OK    OK    OK    OK  UNNEEDED, same version is already published
kunpeng2Linux (openEuler 22.03 LTS-SP1) / aarch64  OK    OK    OK  
Package 2/52HostnameOS / ArchINSTALLBUILDCHECKBUILD BIN
affycoretools 1.75.0  (landing page)
James W. MacDonald
git_last_commit: 21500b3
git_last_commit_date: 2023-10-24 09:35:49 -0500
nebbiolo1Linux (Ubuntu 22.04.3 LTS) / x86_64  OK    OK    OK  UNNEEDED, same version is already published
palomino3Windows Server 2022 Datacenter / x64  OK    OK    OK    OK  UNNEEDED, same version is already published
merida1macOS 12.7.1 Monterey / x86_64  OK    OK    OK    OK  UNNEEDED, same version is already published
kunpeng2Linux (openEuler 22.03 LTS-SP1) / aarch64  OK    OK    WARNINGS  
Package 3/52HostnameOS / ArchINSTALLBUILDCHECKBUILD BIN
affyILM 1.55.0  (landing page)
Myriam Kroll and Fabrice Berger
git_last_commit: 1a1f670
git_last_commit_date: 2023-10-24 09:44:11 -0500
nebbiolo1Linux (Ubuntu 22.04.3 LTS) / x86_64  OK    OK    OK  UNNEEDED, same version is already published
palomino3Windows Server 2022 Datacenter / x64  OK    OK    OK    OK  UNNEEDED, same version is already published
merida1macOS 12.7.1 Monterey / x86_64  OK    OK    OK    OK  UNNEEDED, same version is already published
kunpeng2Linux (openEuler 22.03 LTS-SP1) / aarch64  OK    OK    OK  
Package 4/52HostnameOS / ArchINSTALLBUILDCHECKBUILD BIN
affylmGUI 1.77.0  (landing page)
Gordon Smyth
git_last_commit: e5e67ff
git_last_commit_date: 2023-10-24 09:33:21 -0500
nebbiolo1Linux (Ubuntu 22.04.3 LTS) / x86_64  OK    OK    OK  UNNEEDED, same version is already published
palomino3Windows Server 2022 Datacenter / x64  OK    OK    OK    OK  UNNEEDED, same version is already published
merida1macOS 12.7.1 Monterey / x86_64  OK    OK    OK    OK  UNNEEDED, same version is already published
kunpeng2Linux (openEuler 22.03 LTS-SP1) / aarch64  OK    OK    OK  
Package 5/52HostnameOS / ArchINSTALLBUILDCHECKBUILD BIN
affyPLM 1.79.0  (landing page)
Ben Bolstad
git_last_commit: 9c743e0
git_last_commit_date: 2023-10-24 09:32:34 -0500
nebbiolo1Linux (Ubuntu 22.04.3 LTS) / x86_64  OK    OK    WARNINGS  UNNEEDED, same version is already published
palomino3Windows Server 2022 Datacenter / x64  OK    OK    WARNINGS    OK  UNNEEDED, same version is already published
merida1macOS 12.7.1 Monterey / x86_64  OK    OK    OK    OK  UNNEEDED, same version is already published
kunpeng2Linux (openEuler 22.03 LTS-SP1) / aarch64  OK    OK    WARNINGS  
Package 6/52HostnameOS / ArchINSTALLBUILDCHECKBUILD BIN
AffyRNADegradation 1.49.0  (landing page)
Mario Fasold
git_last_commit: 64e63e3
git_last_commit_date: 2023-10-24 09:49:00 -0500
nebbiolo1Linux (Ubuntu 22.04.3 LTS) / x86_64  OK    OK    OK  UNNEEDED, same version is already published
palomino3Windows Server 2022 Datacenter / x64  OK    OK    OK    OK  UNNEEDED, same version is already published
merida1macOS 12.7.1 Monterey / x86_64  OK    OK    OK    OK  UNNEEDED, same version is already published
kunpeng2Linux (openEuler 22.03 LTS-SP1) / aarch64  OK    OK    OK  
Package 7/52HostnameOS / ArchINSTALLBUILDCHECKBUILD BIN
AgiMicroRna 2.53.0  (landing page)
Pedro Lopez-Romero
git_last_commit: ab14229
git_last_commit_date: 2023-10-24 09:42:33 -0500
nebbiolo1Linux (Ubuntu 22.04.3 LTS) / x86_64  OK    OK    WARNINGS  UNNEEDED, same version is already published
palomino3Windows Server 2022 Datacenter / x64  OK    OK    WARNINGS    OK  UNNEEDED, same version is already published
merida1macOS 12.7.1 Monterey / x86_64  OK    OK    WARNINGS    OK  UNNEEDED, same version is already published
kunpeng2Linux (openEuler 22.03 LTS-SP1) / aarch64  OK    OK    ERROR  
Package 8/52HostnameOS / ArchINSTALLBUILDCHECKBUILD BIN
altcdfenvs 2.65.0  (landing page)
Laurent Gautier
git_last_commit: 2407d03
git_last_commit_date: 2023-10-24 09:33:12 -0500
nebbiolo1Linux (Ubuntu 22.04.3 LTS) / x86_64  OK    OK    OK  UNNEEDED, same version is already published
palomino3Windows Server 2022 Datacenter / x64  OK    OK    OK    OK  UNNEEDED, same version is already published
merida1macOS 12.7.1 Monterey / x86_64  OK    OK    OK    OK  UNNEEDED, same version is already published
kunpeng2Linux (openEuler 22.03 LTS-SP1) / aarch64  OK    OK    OK  
Package 9/52HostnameOS / ArchINSTALLBUILDCHECKBUILD BIN
arrayMvout 1.61.0  (landing page)
V. Carey
git_last_commit: 55e3a51
git_last_commit_date: 2023-10-24 09:40:59 -0500
nebbiolo1Linux (Ubuntu 22.04.3 LTS) / x86_64  OK    OK    OK  UNNEEDED, same version is already published
palomino3Windows Server 2022 Datacenter / x64  OK    OK    OK    OK  UNNEEDED, same version is already published
merida1macOS 12.7.1 Monterey / x86_64  OK    OK    OK    OK  UNNEEDED, same version is already published
kunpeng2Linux (openEuler 22.03 LTS-SP1) / aarch64  OK    OK    OK  
Package 10/52HostnameOS / ArchINSTALLBUILDCHECKBUILD BIN
arrayQualityMetrics 3.59.0  (landing page)
Mike Smith
git_last_commit: af80579
git_last_commit_date: 2023-10-24 09:38:50 -0500
nebbiolo1Linux (Ubuntu 22.04.3 LTS) / x86_64  OK    OK    OK  UNNEEDED, same version is already published
palomino3Windows Server 2022 Datacenter / x64  OK    OK    OK    OK  UNNEEDED, same version is already published
merida1macOS 12.7.1 Monterey / x86_64  OK    OK    OK    OK  UNNEEDED, same version is already published
kunpeng2Linux (openEuler 22.03 LTS-SP1) / aarch64  OK    OK    OK  
Package 11/52HostnameOS / ArchINSTALLBUILDCHECKBUILD BIN
bgx 1.69.3  (landing page)
Ernest Turro
git_last_commit: 5bfe829
git_last_commit_date: 2024-02-07 14:35:41 -0500
nebbiolo1Linux (Ubuntu 22.04.3 LTS) / x86_64  OK    OK    OK  UNNEEDED, same version is already published
palomino3Windows Server 2022 Datacenter / x64  OK    OK    OK    OK  UNNEEDED, same version is already published
merida1macOS 12.7.1 Monterey / x86_64  OK    OK    WARNINGS    OK  UNNEEDED, same version is already published
kunpeng2Linux (openEuler 22.03 LTS-SP1) / aarch64  OK    OK    OK  
Package 12/52HostnameOS / ArchINSTALLBUILDCHECKBUILD BIN
bnem 1.11.0  (landing page)
Martin Pirkl
git_last_commit: c0ad922
git_last_commit_date: 2023-10-24 11:28:26 -0500
nebbiolo1Linux (Ubuntu 22.04.3 LTS) / x86_64  OK    OK    OK  UNNEEDED, same version is already published
palomino3Windows Server 2022 Datacenter / x64  OK    OK    OK    OK  UNNEEDED, same version is already published
merida1macOS 12.7.1 Monterey / x86_64  OK    OK    OK    OK  UNNEEDED, same version is already published
kunpeng2Linux (openEuler 22.03 LTS-SP1) / aarch64  OK    OK    OK  
Package 13/52HostnameOS / ArchINSTALLBUILDCHECKBUILD BIN
CAFE 1.39.0  (landing page)
Sander Bollen
git_last_commit: fa0f9c9
git_last_commit_date: 2023-10-24 09:57:47 -0500
nebbiolo1Linux (Ubuntu 22.04.3 LTS) / x86_64  OK    OK    WARNINGS  UNNEEDED, same version is already published
palomino3Windows Server 2022 Datacenter / x64  OK    ERROR  skippedskipped
merida1macOS 12.7.1 Monterey / x86_64  OK    OK    WARNINGS    OK  UNNEEDED, same version is already published
kunpeng2Linux (openEuler 22.03 LTS-SP1) / aarch64  OK    OK    WARNINGS  
Package 14/52HostnameOS / ArchINSTALLBUILDCHECKBUILD BIN
ChIPXpress 1.47.0  (landing page)
George Wu
git_last_commit: 1c19b64
git_last_commit_date: 2023-10-24 09:50:52 -0500
nebbiolo1Linux (Ubuntu 22.04.3 LTS) / x86_64  OK    OK    OK  UNNEEDED, same version is already published
palomino3Windows Server 2022 Datacenter / x64... NOT SUPPORTED ...
merida1macOS 12.7.1 Monterey / x86_64  OK    OK    OK    OK  UNNEEDED, same version is already published
kunpeng2Linux (openEuler 22.03 LTS-SP1) / aarch64  OK    OK    OK  
Package 15/52HostnameOS / ArchINSTALLBUILDCHECKBUILD BIN
Cormotif 1.49.0  (landing page)
Yingying Wei
git_last_commit: e96c370
git_last_commit_date: 2023-10-24 09:47:15 -0500
nebbiolo1Linux (Ubuntu 22.04.3 LTS) / x86_64  OK    OK    OK  UNNEEDED, same version is already published
palomino3Windows Server 2022 Datacenter / x64  OK    ERROR  skippedskipped
merida1macOS 12.7.1 Monterey / x86_64  OK    OK    OK    OK  UNNEEDED, same version is already published
kunpeng2Linux (openEuler 22.03 LTS-SP1) / aarch64  OK    OK    OK  
Package 16/52HostnameOS / ArchINSTALLBUILDCHECKBUILD BIN
crossmeta 1.29.0  (landing page)
Alex Pickering
git_last_commit: 096199f
git_last_commit_date: 2023-10-24 10:50:52 -0500
nebbiolo1Linux (Ubuntu 22.04.3 LTS) / x86_64  OK    OK    OK  UNNEEDED, same version is already published
palomino3Windows Server 2022 Datacenter / x64  OK    OK    OK    OK  UNNEEDED, same version is already published
merida1macOS 12.7.1 Monterey / x86_64  OK    OK    OK    OK  UNNEEDED, same version is already published
kunpeng2Linux (openEuler 22.03 LTS-SP1) / aarch64  OK    OK    OK  
Package 17/52HostnameOS / ArchINSTALLBUILDCHECKBUILD BIN
Doscheda 1.25.0  (landing page)
Bruno Contrino
git_last_commit: de5a35a
git_last_commit_date: 2023-10-24 10:59:06 -0500
nebbiolo1Linux (Ubuntu 22.04.3 LTS) / x86_64  OK    OK    OK  UNNEEDED, same version is already published
palomino3Windows Server 2022 Datacenter / x64  OK    OK    OK    OK  UNNEEDED, same version is already published
merida1macOS 12.7.1 Monterey / x86_64  OK    OK    OK    OK  UNNEEDED, same version is already published
kunpeng2Linux (openEuler 22.03 LTS-SP1) / aarch64  OK    OK    OK  
Package 18/52HostnameOS / ArchINSTALLBUILDCHECKBUILD BIN
DrugVsDisease 2.45.0  (landing page)
j. Saez-Rodriguez
git_last_commit: bf0973c
git_last_commit_date: 2023-10-24 09:52:37 -0500
nebbiolo1Linux (Ubuntu 22.04.3 LTS) / x86_64  OK    OK    OK  UNNEEDED, same version is already published
palomino3Windows Server 2022 Datacenter / x64  OK    OK    OK    OK  UNNEEDED, same version is already published
merida1macOS 12.7.1 Monterey / x86_64  OK    OK    OK    OK  UNNEEDED, same version is already published
kunpeng2Linux (openEuler 22.03 LTS-SP1) / aarch64  OK    OK    OK  
Package 19/52HostnameOS / ArchINSTALLBUILDCHECKBUILD BIN
ExiMiR 2.45.0  (landing page)
Sylvain Gubian
git_last_commit: a67442e
git_last_commit_date: 2023-10-24 09:45:39 -0500
nebbiolo1Linux (Ubuntu 22.04.3 LTS) / x86_64  OK    OK    OK  UNNEEDED, same version is already published
palomino3Windows Server 2022 Datacenter / x64  OK    OK    OK    OK  UNNEEDED, same version is already published
merida1macOS 12.7.1 Monterey / x86_64  OK    OK    OK    OK  UNNEEDED, same version is already published
kunpeng2Linux (openEuler 22.03 LTS-SP1) / aarch64  OK    OK    OK  
Package 20/52HostnameOS / ArchINSTALLBUILDCHECKBUILD BIN
farms 1.55.1  (landing page)
Djork-Arne Clevert
git_last_commit: 908cff0
git_last_commit_date: 2024-02-01 14:56:00 -0500
nebbiolo1Linux (Ubuntu 22.04.3 LTS) / x86_64  OK    OK    ERROR  
palomino3Windows Server 2022 Datacenter / x64  OK    OK    WARNINGS    OK  UNNEEDED, same version is already published
merida1macOS 12.7.1 Monterey / x86_64  OK    OK    WARNINGS    OK  UNNEEDED, same version is already published
kunpeng2Linux (openEuler 22.03 LTS-SP1) / aarch64  OK    OK    WARNINGS  
Package 21/52HostnameOS / ArchINSTALLBUILDCHECKBUILD BIN
ffpe 1.47.0  (landing page)
Levi Waldron
git_last_commit: 1df8054
git_last_commit_date: 2023-10-24 09:49:37 -0500
nebbiolo1Linux (Ubuntu 22.04.3 LTS) / x86_64  OK    OK    OK  UNNEEDED, same version is already published
palomino3Windows Server 2022 Datacenter / x64  OK    OK    OK    OK  UNNEEDED, same version is already published
merida1macOS 12.7.1 Monterey / x86_64  OK    OK    OK    OK  UNNEEDED, same version is already published
kunpeng2Linux (openEuler 22.03 LTS-SP1) / aarch64  OK    OK    OK  
Package 22/52HostnameOS / ArchINSTALLBUILDCHECKBUILD BIN
frma 1.55.0  (landing page)
Matthew N. McCall
git_last_commit: 7f1e59f
git_last_commit_date: 2023-10-24 09:43:06 -0500
nebbiolo1Linux (Ubuntu 22.04.3 LTS) / x86_64  OK    OK    OK  UNNEEDED, same version is already published
palomino3Windows Server 2022 Datacenter / x64  OK    OK    OK    OK  UNNEEDED, same version is already published
merida1macOS 12.7.1 Monterey / x86_64  OK    OK    OK    OK  UNNEEDED, same version is already published
kunpeng2Linux (openEuler 22.03 LTS-SP1) / aarch64  OK    OK    OK  
Package 23/52HostnameOS / ArchINSTALLBUILDCHECKBUILD BIN
frmaTools 1.55.0  (landing page)
Matthew N. McCall
git_last_commit: a3f8c63
git_last_commit_date: 2023-10-24 09:43:09 -0500
nebbiolo1Linux (Ubuntu 22.04.3 LTS) / x86_64  OK    OK    OK  UNNEEDED, same version is already published
palomino3Windows Server 2022 Datacenter / x64  OK    OK    OK    OK  UNNEEDED, same version is already published
merida1macOS 12.7.1 Monterey / x86_64  OK    OK    OK    OK  UNNEEDED, same version is already published
kunpeng2Linux (openEuler 22.03 LTS-SP1) / aarch64  OK    OK    OK  
Package 24/52HostnameOS / ArchINSTALLBUILDCHECKBUILD BIN
gcrma 2.75.0  (landing page)
Z. Wu
git_last_commit: 2a982f7
git_last_commit_date: 2023-10-24 09:32:13 -0500
nebbiolo1Linux (Ubuntu 22.04.3 LTS) / x86_64  OK    OK    OK  UNNEEDED, same version is already published
palomino3Windows Server 2022 Datacenter / x64  OK    OK    OK    OK  UNNEEDED, same version is already published
merida1macOS 12.7.1 Monterey / x86_64  OK    OK    OK    OK  UNNEEDED, same version is already published
kunpeng2Linux (openEuler 22.03 LTS-SP1) / aarch64  OK    OK    OK  
Package 25/52HostnameOS / ArchINSTALLBUILDCHECKBUILD BIN
GEOsubmission 1.55.0  (landing page)
Alexandre Kuhn
git_last_commit: 1ca9350
git_last_commit_date: 2023-10-24 09:44:00 -0500
nebbiolo1Linux (Ubuntu 22.04.3 LTS) / x86_64  OK    OK    OK  UNNEEDED, same version is already published
palomino3Windows Server 2022 Datacenter / x64  OK    ERROR  skippedskipped
merida1macOS 12.7.1 Monterey / x86_64  OK    OK    OK    OK  UNNEEDED, same version is already published
kunpeng2Linux (openEuler 22.03 LTS-SP1) / aarch64  OK    OK    OK  
Package 26/52HostnameOS / ArchINSTALLBUILDCHECKBUILD BIN
Harshlight 1.75.0  (landing page)
Maurizio Pellegrino
git_last_commit: 56d3225
git_last_commit_date: 2023-10-24 09:37:00 -0500
nebbiolo1Linux (Ubuntu 22.04.3 LTS) / x86_64  OK    OK    WARNINGS  UNNEEDED, same version is already published
palomino3Windows Server 2022 Datacenter / x64  OK    OK    WARNINGS    OK  UNNEEDED, same version is already published
merida1macOS 12.7.1 Monterey / x86_64  OK    OK    OK    OK  UNNEEDED, same version is already published
kunpeng2Linux (openEuler 22.03 LTS-SP1) / aarch64  OK    OK    WARNINGS  
Package 27/52HostnameOS / ArchINSTALLBUILDCHECKBUILD BIN
HTqPCR 1.57.0  (landing page)
Heidi Dvinge
git_last_commit: 6cd6056
git_last_commit_date: 2023-10-24 09:42:53 -0500
nebbiolo1Linux (Ubuntu 22.04.3 LTS) / x86_64  OK    OK    OK  UNNEEDED, same version is already published
palomino3Windows Server 2022 Datacenter / x64  OK    OK    OK    OK  UNNEEDED, same version is already published
merida1macOS 12.7.1 Monterey / x86_64  OK    OK    OK    OK  UNNEEDED, same version is already published
kunpeng2Linux (openEuler 22.03 LTS-SP1) / aarch64  OK    OK    OK  
Package 28/52HostnameOS / ArchINSTALLBUILDCHECKBUILD BIN
iCheck 1.33.0  (landing page)
Weiliang Qiu
git_last_commit: 5dad432
git_last_commit_date: 2023-10-24 10:45:34 -0500
nebbiolo1Linux (Ubuntu 22.04.3 LTS) / x86_64  OK    OK    OK  UNNEEDED, same version is already published
palomino3Windows Server 2022 Datacenter / x64  OK    OK    OK    OK  UNNEEDED, same version is already published
merida1macOS 12.7.1 Monterey / x86_64  OK    OK    OK    OK  UNNEEDED, same version is already published
kunpeng2Linux (openEuler 22.03 LTS-SP1) / aarch64  OK    OK    OK  
Package 29/52HostnameOS / ArchINSTALLBUILDCHECKBUILD BIN
lumi 2.55.0  (landing page)
Lei Huang
git_last_commit: 6331e8a
git_last_commit_date: 2023-10-24 09:37:44 -0500
nebbiolo1Linux (Ubuntu 22.04.3 LTS) / x86_64  OK    OK    WARNINGS  UNNEEDED, same version is already published
palomino3Windows Server 2022 Datacenter / x64  OK    OK    WARNINGS    OK  UNNEEDED, same version is already published
merida1macOS 12.7.1 Monterey / x86_64  OK    OK    WARNINGS    OK  UNNEEDED, same version is already published
kunpeng2Linux (openEuler 22.03 LTS-SP1) / aarch64  OK    OK    WARNINGS  
Package 30/52HostnameOS / ArchINSTALLBUILDCHECKBUILD BIN
makecdfenv 1.79.0  (landing page)
James W. MacDonald
git_last_commit: aedd5af
git_last_commit_date: 2023-10-24 09:31:59 -0500
nebbiolo1Linux (Ubuntu 22.04.3 LTS) / x86_64  OK    OK    WARNINGS  UNNEEDED, same version is already published
palomino3Windows Server 2022 Datacenter / x64  OK    ERROR  skippedskipped
merida1macOS 12.7.1 Monterey / x86_64  OK    OK    OK    OK  UNNEEDED, same version is already published
kunpeng2Linux (openEuler 22.03 LTS-SP1) / aarch64  OK    OK    OK  
Package 31/52HostnameOS / ArchINSTALLBUILDCHECKBUILD BIN
maPredictDSC 1.41.0  (landing page)
Adi Laurentiu Tarca
git_last_commit: 26c9594
git_last_commit_date: 2023-10-24 09:54:43 -0500
nebbiolo1Linux (Ubuntu 22.04.3 LTS) / x86_64  OK    OK    OK  UNNEEDED, same version is already published
palomino3Windows Server 2022 Datacenter / x64  OK    OK    OK    OK  UNNEEDED, same version is already published
merida1macOS 12.7.1 Monterey / x86_64  OK    OK    OK    OK  UNNEEDED, same version is already published
kunpeng2Linux (openEuler 22.03 LTS-SP1) / aarch64  OK    OK    OK  
Package 32/52HostnameOS / ArchINSTALLBUILDCHECKBUILD BIN
maskBAD 1.47.0  (landing page)
Michael Dannemann
git_last_commit: 17584b7
git_last_commit_date: 2023-10-24 09:49:03 -0500
nebbiolo1Linux (Ubuntu 22.04.3 LTS) / x86_64  OK    OK    OK  UNNEEDED, same version is already published
palomino3Windows Server 2022 Datacenter / x64  OK    OK    OK    OK  UNNEEDED, same version is already published
merida1macOS 12.7.1 Monterey / x86_64  OK    OK    OK    OK  UNNEEDED, same version is already published
kunpeng2Linux (openEuler 22.03 LTS-SP1) / aarch64  OK    OK    OK  
Package 33/52HostnameOS / ArchINSTALLBUILDCHECKBUILD BIN
mimager 1.27.0  (landing page)
Aaron Wolen
git_last_commit: 86b6ed8
git_last_commit_date: 2023-10-24 10:54:58 -0500
nebbiolo1Linux (Ubuntu 22.04.3 LTS) / x86_64  OK    OK    OK  UNNEEDED, same version is already published
palomino3Windows Server 2022 Datacenter / x64  OK    OK    OK    OK  UNNEEDED, same version is already published
merida1macOS 12.7.1 Monterey / x86_64  OK    OK    OK    OK  UNNEEDED, same version is already published
kunpeng2Linux (openEuler 22.03 LTS-SP1) / aarch64  OK    OK    OK  
Package 34/52HostnameOS / ArchINSTALLBUILDCHECKBUILD BIN
MSnbase 2.29.3  (landing page)
Laurent Gatto
git_last_commit: efd48e3
git_last_commit_date: 2024-01-25 13:05:57 -0500
nebbiolo1Linux (Ubuntu 22.04.3 LTS) / x86_64  OK    OK    OK  UNNEEDED, same version is already published
palomino3Windows Server 2022 Datacenter / x64  OK    OK    OK    OK  UNNEEDED, same version is already published
merida1macOS 12.7.1 Monterey / x86_64  OK    OK    OK    OK  UNNEEDED, same version is already published
kunpeng2Linux (openEuler 22.03 LTS-SP1) / aarch64  OK    ERROR  skipped
Package 35/52HostnameOS / ArchINSTALLBUILDCHECKBUILD BIN
panp 1.73.0  (landing page)
Peter Warren
git_last_commit: b527598
git_last_commit_date: 2023-10-24 09:35:57 -0500
nebbiolo1Linux (Ubuntu 22.04.3 LTS) / x86_64  OK    OK    OK  UNNEEDED, same version is already published
palomino3Windows Server 2022 Datacenter / x64  OK    OK    OK    OK  UNNEEDED, same version is already published
merida1macOS 12.7.1 Monterey / x86_64  OK    OK    OK    OK  UNNEEDED, same version is already published
kunpeng2Linux (openEuler 22.03 LTS-SP1) / aarch64  OK    OK    OK  
Package 36/52HostnameOS / ArchINSTALLBUILDCHECKBUILD BIN
PECA 1.39.0  (landing page)
Tomi Suomi
git_last_commit: f1ba2db
git_last_commit_date: 2023-10-24 09:56:52 -0500
nebbiolo1Linux (Ubuntu 22.04.3 LTS) / x86_64  OK    OK    OK  UNNEEDED, same version is already published
palomino3Windows Server 2022 Datacenter / x64  OK    OK    OK    OK  UNNEEDED, same version is already published
merida1macOS 12.7.1 Monterey / x86_64  OK    OK    OK    OK  UNNEEDED, same version is already published
kunpeng2Linux (openEuler 22.03 LTS-SP1) / aarch64  OK    OK    OK  
Package 37/52HostnameOS / ArchINSTALLBUILDCHECKBUILD BIN
plier 1.73.0  (landing page)
Crispin Miller
git_last_commit: 2a259ab
git_last_commit_date: 2023-10-24 09:34:37 -0500
nebbiolo1Linux (Ubuntu 22.04.3 LTS) / x86_64  OK    OK    OK  UNNEEDED, same version is already published
palomino3Windows Server 2022 Datacenter / x64  OK    OK    WARNINGS    OK  UNNEEDED, same version is already published
merida1macOS 12.7.1 Monterey / x86_64  OK    OK    WARNINGS    OK  UNNEEDED, same version is already published
kunpeng2Linux (openEuler 22.03 LTS-SP1) / aarch64  OK    OK    OK  
Package 38/52HostnameOS / ArchINSTALLBUILDCHECKBUILD BIN
prebs 1.43.0  (landing page)
Karolis Uziela
git_last_commit: b5ed1fc
git_last_commit_date: 2023-10-24 09:53:49 -0500
nebbiolo1Linux (Ubuntu 22.04.3 LTS) / x86_64  OK    OK    OK  UNNEEDED, same version is already published
palomino3Windows Server 2022 Datacenter / x64  OK    ERROR  skippedskipped
merida1macOS 12.7.1 Monterey / x86_64  OK    OK    OK    OK  UNNEEDED, same version is already published
kunpeng2Linux (openEuler 22.03 LTS-SP1) / aarch64  OK    OK    OK  
Package 39/52HostnameOS / ArchINSTALLBUILDCHECKBUILD BIN
puma 3.45.0  (landing page)
Xuejun Liu
git_last_commit: cb8ad87
git_last_commit_date: 2023-10-24 09:38:31 -0500
nebbiolo1Linux (Ubuntu 22.04.3 LTS) / x86_64  OK    OK    OK  UNNEEDED, same version is already published
palomino3Windows Server 2022 Datacenter / x64  OK    OK    OK    OK  UNNEEDED, same version is already published
merida1macOS 12.7.1 Monterey / x86_64  OK    OK    WARNINGS    OK  UNNEEDED, same version is already published
kunpeng2Linux (openEuler 22.03 LTS-SP1) / aarch64  OK    OK    OK  
Package 40/52HostnameOS / ArchINSTALLBUILDCHECKBUILD BIN
pvac 1.51.0  (landing page)
Jun Lu , Pierre R. Bushel
git_last_commit: 17296a2
git_last_commit_date: 2023-10-24 09:45:47 -0500
nebbiolo1Linux (Ubuntu 22.04.3 LTS) / x86_64  OK    OK    OK  UNNEEDED, same version is already published
palomino3Windows Server 2022 Datacenter / x64  OK    ERROR  skippedskipped
merida1macOS 12.7.1 Monterey / x86_64  OK    OK    OK    OK  UNNEEDED, same version is already published
kunpeng2Linux (openEuler 22.03 LTS-SP1) / aarch64  OK    OK    OK  
Package 41/52HostnameOS / ArchINSTALLBUILDCHECKBUILD BIN
qpcrNorm 1.61.0  (landing page)
Jessica Mar
git_last_commit: cc59c01
git_last_commit_date: 2023-10-24 09:41:44 -0500
nebbiolo1Linux (Ubuntu 22.04.3 LTS) / x86_64  OK    OK    OK  UNNEEDED, same version is already published
palomino3Windows Server 2022 Datacenter / x64  OK    ERROR  skippedskipped
merida1macOS 12.7.1 Monterey / x86_64  OK    OK    OK    OK  UNNEEDED, same version is already published
kunpeng2Linux (openEuler 22.03 LTS-SP1) / aarch64  OK    OK    OK  
Package 42/52HostnameOS / ArchINSTALLBUILDCHECKBUILD BIN
rCGH 1.33.0  (landing page)
Frederic Commo
git_last_commit: 77d8311
git_last_commit_date: 2023-10-24 10:44:17 -0500
nebbiolo1Linux (Ubuntu 22.04.3 LTS) / x86_64  OK    OK    OK  UNNEEDED, same version is already published
palomino3Windows Server 2022 Datacenter / x64  OK    OK    OK    OK  UNNEEDED, same version is already published
merida1macOS 12.7.1 Monterey / x86_64  OK    OK    OK    OK  UNNEEDED, same version is already published
kunpeng2Linux (openEuler 22.03 LTS-SP1) / aarch64  OK    OK    OK  
Package 43/52HostnameOS / ArchINSTALLBUILDCHECKBUILD BIN
RefPlus 1.73.1  (landing page)
Kai-Ming Chang
git_last_commit: 2f9c3f3
git_last_commit_date: 2024-02-01 14:36:48 -0500
nebbiolo1Linux (Ubuntu 22.04.3 LTS) / x86_64  OK    OK    ERROR  
palomino3Windows Server 2022 Datacenter / x64  OK    OK    WARNINGS    OK  UNNEEDED, same version is already published
merida1macOS 12.7.1 Monterey / x86_64  OK    OK    WARNINGS    OK  UNNEEDED, same version is already published
kunpeng2Linux (openEuler 22.03 LTS-SP1) / aarch64  OK    OK    ERROR  
Package 44/52HostnameOS / ArchINSTALLBUILDCHECKBUILD BIN
Risa 1.45.0  (landing page)
Alejandra Gonzalez-Beltran
git_last_commit: 4cc9753
git_last_commit_date: 2023-10-24 09:51:15 -0500
nebbiolo1Linux (Ubuntu 22.04.3 LTS) / x86_64  OK    OK    OK  UNNEEDED, same version is already published
palomino3Windows Server 2022 Datacenter / x64  OK    OK    OK    OK  UNNEEDED, same version is already published
merida1macOS 12.7.1 Monterey / x86_64  OK    OK    OK    OK  UNNEEDED, same version is already published
kunpeng2Linux (openEuler 22.03 LTS-SP1) / aarch64  OK    OK    OK  
Package 45/52HostnameOS / ArchINSTALLBUILDCHECKBUILD BIN
Rnits 1.37.0  (landing page)
Dipen P. Sangurdekar
git_last_commit: de55820
git_last_commit_date: 2023-10-24 10:38:10 -0500
nebbiolo1Linux (Ubuntu 22.04.3 LTS) / x86_64  OK    OK    WARNINGS  UNNEEDED, same version is already published
palomino3Windows Server 2022 Datacenter / x64  OK    ERROR  skippedskipped
merida1macOS 12.7.1 Monterey / x86_64  OK    OK    WARNINGS    OK  UNNEEDED, same version is already published
kunpeng2Linux (openEuler 22.03 LTS-SP1) / aarch64  OK    OK    WARNINGS  
Package 46/52HostnameOS / ArchINSTALLBUILDCHECKBUILD BIN
RPA 1.59.0  (landing page)
Leo Lahti
git_last_commit: 1cda4dd
git_last_commit_date: 2023-10-24 09:42:14 -0500
nebbiolo1Linux (Ubuntu 22.04.3 LTS) / x86_64  OK    OK    OK  UNNEEDED, same version is already published
palomino3Windows Server 2022 Datacenter / x64  OK    OK    OK    OK  UNNEEDED, same version is already published
merida1macOS 12.7.1 Monterey / x86_64  OK    OK    OK    OK  UNNEEDED, same version is already published
kunpeng2Linux (openEuler 22.03 LTS-SP1) / aarch64  OK    OK    OK  
Package 47/52HostnameOS / ArchINSTALLBUILDCHECKBUILD BIN
SCAN.UPC 2.45.0  (landing page)
Stephen R. Piccolo
git_last_commit: 5ee99a4
git_last_commit_date: 2023-10-24 09:51:26 -0500
nebbiolo1Linux (Ubuntu 22.04.3 LTS) / x86_64  OK    OK    OK  UNNEEDED, same version is already published
palomino3Windows Server 2022 Datacenter / x64  OK    ERROR  skippedskipped
merida1macOS 12.7.1 Monterey / x86_64  OK    OK    OK    OK  UNNEEDED, same version is already published
kunpeng2Linux (openEuler 22.03 LTS-SP1) / aarch64  OK    OK    OK  
Package 48/52HostnameOS / ArchINSTALLBUILDCHECKBUILD BIN
STATegRa 1.39.0  (landing page)
David Gomez-Cabrero , NĂºria Planell
git_last_commit: 0f1f293
git_last_commit_date: 2023-10-24 10:39:39 -0500
nebbiolo1Linux (Ubuntu 22.04.3 LTS) / x86_64  OK    OK    OK  UNNEEDED, same version is already published
palomino3Windows Server 2022 Datacenter / x64  OK    OK    OK    OK  UNNEEDED, same version is already published
merida1macOS 12.7.1 Monterey / x86_64  OK    OK    OK    OK  UNNEEDED, same version is already published
kunpeng2Linux (openEuler 22.03 LTS-SP1) / aarch64  OK    OK    OK  
Package 49/52HostnameOS / ArchINSTALLBUILDCHECKBUILD BIN
tilingArray 1.81.0  (landing page)
Zhenyu Xu
git_last_commit: 3ebb44e
git_last_commit_date: 2023-10-24 09:34:45 -0500
nebbiolo1Linux (Ubuntu 22.04.3 LTS) / x86_64  OK    OK    OK  UNNEEDED, same version is already published
palomino3Windows Server 2022 Datacenter / x64  OK    OK    OK    OK  UNNEEDED, same version is already published
merida1macOS 12.7.1 Monterey / x86_64  OK    OK    OK    OK  UNNEEDED, same version is already published
kunpeng2Linux (openEuler 22.03 LTS-SP1) / aarch64  OK    OK    OK  
Package 50/52HostnameOS / ArchINSTALLBUILDCHECKBUILD BIN
TurboNorm 1.51.0  (landing page)
Maarten van Iterson
git_last_commit: 1242957
git_last_commit_date: 2023-10-24 09:45:26 -0500
nebbiolo1Linux (Ubuntu 22.04.3 LTS) / x86_64  OK    OK    OK  UNNEEDED, same version is already published
palomino3Windows Server 2022 Datacenter / x64  OK    OK    OK    OK  UNNEEDED, same version is already published
merida1macOS 12.7.1 Monterey / x86_64  OK    OK    OK    OK  UNNEEDED, same version is already published
kunpeng2Linux (openEuler 22.03 LTS-SP1) / aarch64  OK    OK    OK  
Package 51/52HostnameOS / ArchINSTALLBUILDCHECKBUILD BIN
vsn 3.71.0  (landing page)
Wolfgang Huber
git_last_commit: 393bfeb
git_last_commit_date: 2023-10-24 09:31:53 -0500
nebbiolo1Linux (Ubuntu 22.04.3 LTS) / x86_64  OK    OK    OK  UNNEEDED, same version is already published
palomino3Windows Server 2022 Datacenter / x64  OK    OK    OK    OK  UNNEEDED, same version is already published
merida1macOS 12.7.1 Monterey / x86_64  OK    OK    OK    OK  UNNEEDED, same version is already published
kunpeng2Linux (openEuler 22.03 LTS-SP1) / aarch64  OK    OK    OK  
Package 52/52HostnameOS / ArchINSTALLBUILDCHECKBUILD BIN
webbioc 1.75.0  (landing page)
Colin A. Smith
git_last_commit: 54e20f1
git_last_commit_date: 2023-10-24 09:32:39 -0500
nebbiolo1Linux (Ubuntu 22.04.3 LTS) / x86_64  OK    OK    OK  UNNEEDED, same version is already published
palomino3Windows Server 2022 Datacenter / x64  OK    OK    OK    OK  UNNEEDED, same version is already published
merida1macOS 12.7.1 Monterey / x86_64  OK    OK    OK    OK  UNNEEDED, same version is already published
kunpeng2Linux (openEuler 22.03 LTS-SP1) / aarch64  OK    OK    OK