Back to Multiple platform build/check report for BioC 3.16
AB[C]DEFGHIJKLMNOPQRSTUVWXYZ

This page was generated on 2022-05-23 11:04:06 -0400 (Mon, 23 May 2022).

HostnameOSArch (*)R versionInstalled pkgs
nebbiolo2Linux (Ubuntu 20.04.4 LTS)x86_644.2.0 RC (2022-04-21 r82226) -- "Vigorous Calisthenics" 4357
palomino4Windows Server 2022 Datacenterx644.2.0 Patched (2022-04-24 r82246 ucrt) -- "Vigorous Calisthenics" 4129
lconwaymacOS 12.2.1 Montereyx86_644.2.0 Patched (2022-04-24 r82246) -- "Vigorous Calisthenics" 4173
Click on any hostname to see more info about the system (e.g. compilers)      (*) as reported by 'uname -p', except on Windows and Mac OS X

All results for package ConsensusClusterPlus


To the developers/maintainers of the ConsensusClusterPlus package:
- Please allow up to 24 hours (and sometimes 48 hours) for your latest push to git@git.bioconductor.org:packages/ConsensusClusterPlus.git to
reflect on this report. See How and When does the builder pull? When will my changes propagate? for more information.
- Make sure to use the following settings in order to reproduce any error or warning you see on this page.

raw results

Package 394/2112HostnameOS / ArchINSTALLBUILDCHECKBUILD BIN
ConsensusClusterPlus 1.61.0  (landing page)
Matt Wilkerson
Snapshot Date: 2022-05-22 13:55:05 -0400 (Sun, 22 May 2022)
git_url: https://git.bioconductor.org/packages/ConsensusClusterPlus
git_branch: master
git_last_commit: a853c0d
git_last_commit_date: 2022-04-26 11:04:10 -0400 (Tue, 26 Apr 2022)
nebbiolo2Linux (Ubuntu 20.04.4 LTS) / x86_64  OK    OK    OK  UNNEEDED, same version is already published
palomino4Windows Server 2022 Datacenter / x64  OK    OK    OK    OK  UNNEEDED, same version is already published
lconwaymacOS 12.2.1 Monterey / x86_64  OK    OK    OK    OK  UNNEEDED, same version is already published

Results for Bioconductor software packages that depend directly on package ConsensusClusterPlus

QUICK STATSOS / ArchINSTALLBUILDCHECKBUILD BIN
nebbiolo2Linux (Ubuntu 20.04.4 LTS) / x86_64
006
006
0114
palomino4Windows Server 2022 Datacenter / x64
006
006
0114
006
lconwaymacOS 12.2.1 Monterey / x86_64
006
006
0114
006
Package 1/6HostnameOS / ArchINSTALLBUILDCHECKBUILD BIN
CancerSubtypes 1.23.0  (landing page)
Taosheng Xu
git_last_commit: 61a876a
git_last_commit_date: 2022-04-26 11:34:43 -0400
nebbiolo2Linux (Ubuntu 20.04.4 LTS) / x86_64  OK    OK    OK  UNNEEDED, same version is already published
palomino4Windows Server 2022 Datacenter / x64  OK    OK    OK    OK  UNNEEDED, same version is already published
lconwaymacOS 12.2.1 Monterey / x86_64  OK    OK    OK    OK  UNNEEDED, same version is already published
Package 2/6HostnameOS / ArchINSTALLBUILDCHECKBUILD BIN
CATALYST 1.21.2  (landing page)
Helena L. Crowell
git_last_commit: f0b44ff
git_last_commit_date: 2022-05-20 04:55:02 -0400
nebbiolo2Linux (Ubuntu 20.04.4 LTS) / x86_64  OK    OK    OK  UNNEEDED, same version is already published
palomino4Windows Server 2022 Datacenter / x64  OK    OK    OK    OK  NO, package depends on 'FlowSOM' which is not available
lconwaymacOS 12.2.1 Monterey / x86_64  OK    OK    OK    OK  NO, package depends on 'FlowSOM' which is not available
Package 3/6HostnameOS / ArchINSTALLBUILDCHECKBUILD BIN
ChromSCape 1.7.0  (landing page)
Pacome Prompsy
git_last_commit: 1e130ad
git_last_commit_date: 2022-04-26 12:09:05 -0400
nebbiolo2Linux (Ubuntu 20.04.4 LTS) / x86_64  OK    OK    WARNINGS  UNNEEDED, same version is already published
palomino4Windows Server 2022 Datacenter / x64  OK    OK    WARNINGS    OK  UNNEEDED, same version is already published
lconwaymacOS 12.2.1 Monterey / x86_64  OK    OK    WARNINGS    OK  UNNEEDED, same version is already published
Package 4/6HostnameOS / ArchINSTALLBUILDCHECKBUILD BIN
DEGreport 1.33.0  (landing page)
Lorena Pantano
git_last_commit: 967068a
git_last_commit_date: 2022-04-26 11:20:09 -0400
nebbiolo2Linux (Ubuntu 20.04.4 LTS) / x86_64  OK    OK    OK  UNNEEDED, same version is already published
palomino4Windows Server 2022 Datacenter / x64  OK    OK    OK    OK  UNNEEDED, same version is already published
lconwaymacOS 12.2.1 Monterey / x86_64  OK    OK    OK    OK  UNNEEDED, same version is already published
Package 5/6HostnameOS / ArchINSTALLBUILDCHECKBUILD BIN
FlowSOM 2.5.1  (landing page)
Sofie Van Gassen
git_last_commit: bcf761f
git_last_commit_date: 2022-05-06 11:07:24 -0400
nebbiolo2Linux (Ubuntu 20.04.4 LTS) / x86_64  OK    OK    ERROR  
palomino4Windows Server 2022 Datacenter / x64  OK    OK    ERROR    OK  
lconwaymacOS 12.2.1 Monterey / x86_64  OK    OK    ERROR    OK  
Package 6/6HostnameOS / ArchINSTALLBUILDCHECKBUILD BIN
PDATK 1.5.0  (landing page)
Benjamin Haibe-Kains
git_last_commit: bac070b
git_last_commit_date: 2022-04-26 12:13:17 -0400
nebbiolo2Linux (Ubuntu 20.04.4 LTS) / x86_64  OK    OK    OK  UNNEEDED, same version is already published
palomino4Windows Server 2022 Datacenter / x64  OK    OK    OK    OK  UNNEEDED, same version is already published
lconwaymacOS 12.2.1 Monterey / x86_64  OK    OK    OK    OK  UNNEEDED, same version is already published