Back to Multiple platform build/check report for BioC 3.16
ABCDE[F]GHIJKLMNOPQRSTUVWXYZ

This page was generated on 2022-07-01 11:04:57 -0400 (Fri, 01 Jul 2022).

HostnameOSArch (*)R versionInstalled pkgs
nebbiolo2Linux (Ubuntu 20.04.4 LTS)x86_644.2.0 Patched (2022-06-02 r82447) -- "Vigorous Calisthenics" 4343
palomino4Windows Server 2022 Datacenterx644.2.0 Patched (2022-06-02 r82447 ucrt) -- "Vigorous Calisthenics" 4147
lconwaymacOS 12.2.1 Montereyx86_644.2.0 Patched (2022-05-29 r82424) -- "Vigorous Calisthenics" 4159
Click on any hostname to see more info about the system (e.g. compilers)      (*) as reported by 'uname -p', except on Windows and Mac OS X

INSTALL results for FLAMES on nebbiolo2


To the developers/maintainers of the FLAMES package:
- Please allow up to 24 hours (and sometimes 48 hours) for your latest push to git@git.bioconductor.org:packages/FLAMES.git to
reflect on this report. See How and When does the builder pull? When will my changes propagate? for more information.
- Make sure to use the following settings in order to reproduce any error or warning you see on this page.

raw results

Package 664/2124HostnameOS / ArchINSTALLBUILDCHECKBUILD BIN
FLAMES 1.3.3  (landing page)
Voogd Oliver
Snapshot Date: 2022-06-30 14:00:04 -0400 (Thu, 30 Jun 2022)
git_url: https://git.bioconductor.org/packages/FLAMES
git_branch: master
git_last_commit: 3ddad9b
git_last_commit_date: 2022-05-15 22:37:58 -0400 (Sun, 15 May 2022)
nebbiolo2Linux (Ubuntu 20.04.4 LTS) / x86_64  OK    OK    OK  UNNEEDED, same version is already published
palomino4Windows Server 2022 Datacenter / x64  OK    OK    OK    OK  UNNEEDED, same version is already published
lconwaymacOS 12.2.1 Monterey / x86_64  OK    OK    OK    OK  UNNEEDED, same version is already published

Summary

Package: FLAMES
Version: 1.3.3
Command: /home/biocbuild/bbs-3.16-bioc/R/bin/R CMD INSTALL FLAMES
StartedAt: 2022-06-30 15:40:12 -0400 (Thu, 30 Jun 2022)
EndedAt: 2022-06-30 15:41:41 -0400 (Thu, 30 Jun 2022)
EllapsedTime: 89.4 seconds
RetCode: 0
Status:   OK  

Command output

##############################################################################
##############################################################################
###
### Running command:
###
###   /home/biocbuild/bbs-3.16-bioc/R/bin/R CMD INSTALL FLAMES
###
##############################################################################
##############################################################################


* installing to library ‘/home/biocbuild/bbs-3.16-bioc/R/library’
* installing *source* package ‘FLAMES’ ...
** using staged installation
** libs
g++ -std=gnu++17 -I"/home/biocbuild/bbs-3.16-bioc/R/include" -DNDEBUG -D_FILE_OFFSET_BITS=64 -I'/home/biocbuild/bbs-3.16-bioc/R/library/Rcpp/include' -I'/home/biocbuild/bbs-3.16-bioc/R/library/Rhtslib/include' -I'/home/biocbuild/bbs-3.16-bioc/R/library/zlibbioc/include' -I/usr/local/include   -fpic  -g -O2  -Wall -c RcppFunctions.cpp -o RcppFunctions.o
In file included from main-functions/../utility/fastq_utils.h:9,
                 from main-functions/match_cell_barcode.h:16,
                 from RcppFunctions.cpp:7:
/home/biocbuild/bbs-3.16-bioc/R/library/Rhtslib/include/htslib/kseq.h:185:12: warning: ‘int kseq_read(kseq_t*)’ defined but not used [-Wunused-function]
  185 |  SCOPE int kseq_read(kseq_t *seq) \
      |            ^~~~~~~~~
/home/biocbuild/bbs-3.16-bioc/R/library/Rhtslib/include/htslib/kseq.h:185:12: note: in definition of macro ‘__KSEQ_READ’
  185 |  SCOPE int kseq_read(kseq_t *seq) \
      |            ^~~~~~~~~
/home/biocbuild/bbs-3.16-bioc/R/library/Rhtslib/include/htslib/kseq.h:240:35: note: in expansion of macro ‘KSEQ_INIT2’
  240 | #define KSEQ_INIT(type_t, __read) KSEQ_INIT2(static, type_t, __read)
      |                                   ^~~~~~~~~~
main-functions/../utility/fastq_utils.h:15:1: note: in expansion of macro ‘KSEQ_INIT’
   15 | KSEQ_INIT(gzFile, gzread)
      | ^~~~~~~~~
/home/biocbuild/bbs-3.16-bioc/R/library/Rhtslib/include/htslib/kseq.h:171:13: warning: ‘void kseq_destroy(kseq_t*)’ defined but not used [-Wunused-function]
  171 |  SCOPE void kseq_destroy(kseq_t *ks)         \
      |             ^~~~~~~~~~~~
/home/biocbuild/bbs-3.16-bioc/R/library/Rhtslib/include/htslib/kseq.h:171:13: note: in definition of macro ‘__KSEQ_BASIC’
  171 |  SCOPE void kseq_destroy(kseq_t *ks)         \
      |             ^~~~~~~~~~~~
/home/biocbuild/bbs-3.16-bioc/R/library/Rhtslib/include/htslib/kseq.h:240:35: note: in expansion of macro ‘KSEQ_INIT2’
  240 | #define KSEQ_INIT(type_t, __read) KSEQ_INIT2(static, type_t, __read)
      |                                   ^~~~~~~~~~
main-functions/../utility/fastq_utils.h:15:1: note: in expansion of macro ‘KSEQ_INIT’
   15 | KSEQ_INIT(gzFile, gzread)
      | ^~~~~~~~~
/home/biocbuild/bbs-3.16-bioc/R/library/Rhtslib/include/htslib/kseq.h:165:16: warning: ‘kseq_t* kseq_init(gzFile)’ defined but not used [-Wunused-function]
  165 |  SCOPE kseq_t *kseq_init(type_t fd)         \
      |                ^~~~~~~~~
/home/biocbuild/bbs-3.16-bioc/R/library/Rhtslib/include/htslib/kseq.h:165:16: note: in definition of macro ‘__KSEQ_BASIC’
  165 |  SCOPE kseq_t *kseq_init(type_t fd)         \
      |                ^~~~~~~~~
/home/biocbuild/bbs-3.16-bioc/R/library/Rhtslib/include/htslib/kseq.h:240:35: note: in expansion of macro ‘KSEQ_INIT2’
  240 | #define KSEQ_INIT(type_t, __read) KSEQ_INIT2(static, type_t, __read)
      |                                   ^~~~~~~~~~
main-functions/../utility/fastq_utils.h:15:1: note: in expansion of macro ‘KSEQ_INIT’
   15 | KSEQ_INIT(gzFile, gzread)
      | ^~~~~~~~~
g++ -std=gnu++17 -I"/home/biocbuild/bbs-3.16-bioc/R/include" -DNDEBUG -D_FILE_OFFSET_BITS=64 -I'/home/biocbuild/bbs-3.16-bioc/R/library/Rcpp/include' -I'/home/biocbuild/bbs-3.16-bioc/R/library/Rhtslib/include' -I'/home/biocbuild/bbs-3.16-bioc/R/library/zlibbioc/include' -I/usr/local/include   -fpic  -g -O2  -Wall -c RcppExports.cpp -o RcppExports.o
g++ -std=gnu++17 -I"/home/biocbuild/bbs-3.16-bioc/R/include" -DNDEBUG -D_FILE_OFFSET_BITS=64 -I'/home/biocbuild/bbs-3.16-bioc/R/library/Rcpp/include' -I'/home/biocbuild/bbs-3.16-bioc/R/library/Rhtslib/include' -I'/home/biocbuild/bbs-3.16-bioc/R/library/zlibbioc/include' -I/usr/local/include   -fpic  -g -O2  -Wall -c main-functions/match_cell_barcode.cpp -o main-functions/match_cell_barcode.o
g++ -std=gnu++17 -I"/home/biocbuild/bbs-3.16-bioc/R/include" -DNDEBUG -D_FILE_OFFSET_BITS=64 -I'/home/biocbuild/bbs-3.16-bioc/R/library/Rcpp/include' -I'/home/biocbuild/bbs-3.16-bioc/R/library/Rhtslib/include' -I'/home/biocbuild/bbs-3.16-bioc/R/library/zlibbioc/include' -I/usr/local/include   -fpic  -g -O2  -Wall -c main-functions/merge_bulk.cpp -o main-functions/merge_bulk.o
g++ -std=gnu++17 -I"/home/biocbuild/bbs-3.16-bioc/R/include" -DNDEBUG -D_FILE_OFFSET_BITS=64 -I'/home/biocbuild/bbs-3.16-bioc/R/library/Rcpp/include' -I'/home/biocbuild/bbs-3.16-bioc/R/library/Rhtslib/include' -I'/home/biocbuild/bbs-3.16-bioc/R/library/zlibbioc/include' -I/usr/local/include   -fpic  -g -O2  -Wall -c utility/edit_dist.cpp -o utility/edit_dist.o
g++ -std=gnu++17 -I"/home/biocbuild/bbs-3.16-bioc/R/include" -DNDEBUG -D_FILE_OFFSET_BITS=64 -I'/home/biocbuild/bbs-3.16-bioc/R/library/Rcpp/include' -I'/home/biocbuild/bbs-3.16-bioc/R/library/Rhtslib/include' -I'/home/biocbuild/bbs-3.16-bioc/R/library/zlibbioc/include' -I/usr/local/include   -fpic  -g -O2  -Wall -c utility/fastq_utils.cpp -o utility/fastq_utils.o
g++ -std=gnu++17 -I"/home/biocbuild/bbs-3.16-bioc/R/include" -DNDEBUG -D_FILE_OFFSET_BITS=64 -I'/home/biocbuild/bbs-3.16-bioc/R/library/Rcpp/include' -I'/home/biocbuild/bbs-3.16-bioc/R/library/Rhtslib/include' -I'/home/biocbuild/bbs-3.16-bioc/R/library/zlibbioc/include' -I/usr/local/include   -fpic  -g -O2  -Wall -c utility/ssw/ssw_cpp.cpp -o utility/ssw/ssw_cpp.o
gcc -I"/home/biocbuild/bbs-3.16-bioc/R/include" -DNDEBUG -D_FILE_OFFSET_BITS=64 -I'/home/biocbuild/bbs-3.16-bioc/R/library/Rcpp/include' -I'/home/biocbuild/bbs-3.16-bioc/R/library/Rhtslib/include' -I'/home/biocbuild/bbs-3.16-bioc/R/library/zlibbioc/include' -I/usr/local/include   -fpic  -g -O2  -Wall -c bam.c -o bam.o
bam.c: In function ‘bam_remove_B’:
bam.c:163:2: warning: this ‘for’ clause does not guard... [-Wmisleading-indentation]
  163 |  for (k = 0; k < b->core.n_cigar; ++k)
      |  ^~~
bam.c:165:3: note: ...this statement, but the latter is misleadingly indented as if it were guarded by the ‘for’
  165 |   if (k == b->core.n_cigar) return 0; // no 'B'
      |   ^~
bam.c:226:3: warning: this ‘for’ clause does not guard... [-Wmisleading-indentation]
  226 |   for (k = 1; k < l; ++k)
      |   ^~~
bam.c:230:4: note: ...this statement, but the latter is misleadingly indented as if it were guarded by the ‘for’
  230 |    for (k = i = 0; k < l; ++k)
      |    ^~~
bam.c:230:4: warning: this ‘for’ clause does not guard... [-Wmisleading-indentation]
bam.c:233:5: note: ...this statement, but the latter is misleadingly indented as if it were guarded by the ‘for’
  233 |     l = i;
      |     ^
gcc -I"/home/biocbuild/bbs-3.16-bioc/R/include" -DNDEBUG -D_FILE_OFFSET_BITS=64 -I'/home/biocbuild/bbs-3.16-bioc/R/library/Rcpp/include' -I'/home/biocbuild/bbs-3.16-bioc/R/library/Rhtslib/include' -I'/home/biocbuild/bbs-3.16-bioc/R/library/zlibbioc/include' -I/usr/local/include   -fpic  -g -O2  -Wall -c utility/ssw/ssw.c -o utility/ssw/ssw.o
g++ -std=gnu++17 -shared -L/home/biocbuild/bbs-3.16-bioc/R/lib -L/usr/local/lib -o FLAMES.so RcppFunctions.o RcppExports.o main-functions/match_cell_barcode.o main-functions/merge_bulk.o utility/edit_dist.o utility/fastq_utils.o utility/ssw/ssw_cpp.o bam.o utility/ssw/ssw.o /home/biocbuild/bbs-3.16-bioc/R/library/Rhtslib/usrlib/libhts.a -lcurl -L/home/biocbuild/bbs-3.16-bioc/R/lib -lR
installing to /home/biocbuild/bbs-3.16-bioc/R/library/00LOCK-FLAMES/00new/FLAMES/libs
** R
** inst
** byte-compile and prepare package for lazy loading
** help
*** installing help indices
** building package indices
** installing vignettes
** testing if installed package can be loaded from temporary location
** checking absolute paths in shared objects and dynamic libraries
** testing if installed package can be loaded from final location
** testing if installed package keeps a record of temporary installation path
* DONE (FLAMES)