Back to Multiple platform build/check report for BioC 3.14
ABCDEFGHIJKL[M]NOPQRSTUVWXYZ

This page was generated on 2021-10-19 12:04:10 -0400 (Tue, 19 Oct 2021).

All results for package metaseqR2

To the developers/maintainers of the metaseqR2 package:
- Please allow up to 24 hours (and sometimes 48 hours) for your latest push to git@git.bioconductor.org:packages/metaseqR2.git to
reflect on this report. See How and When does the builder pull? When will my changes propagate? here for more information.
- Make sure to use the following settings in order to reproduce any error or warning you see on this page.

raw results

Package 1095/2060HostnameOS / ArchINSTALLBUILDCHECKBUILD BIN
metaseqR2 1.5.17  (landing page)
Panagiotis Moulos
Snapshot Date: 2021-10-18 14:50:10 -0400 (Mon, 18 Oct 2021)
git_url: https://git.bioconductor.org/packages/metaseqR2
git_branch: master
git_last_commit: 879d963
git_last_commit_date: 2021-10-15 10:55:52 -0400 (Fri, 15 Oct 2021)
nebbiolo2Linux (Ubuntu 20.04.2 LTS) / x86_64  OK    ERROR  skipped
riesling1Windows Server 2019 Standard / x64  OK    ERROR  skippedskipped
merida1macOS 10.14.6 Mojave / x86_64  OK    ERROR  skippedskipped