Back to Multiple platform build/check report for BioC 3.20:   simplified   long
ABCDEFGHIJKLMNO[P]QRSTUVWXYZ

This page was generated on 2024-07-24 11:41 -0400 (Wed, 24 Jul 2024).

HostnameOSArch (*)R versionInstalled pkgs
nebbiolo2Linux (Ubuntu 22.04.3 LTS)x86_644.4.1 (2024-06-14) -- "Race for Your Life" 4688
palomino8Windows Server 2022 Datacenterx644.4.1 (2024-06-14 ucrt) -- "Race for Your Life" 4284
lconwaymacOS 12.7.1 Montereyx86_644.4.1 (2024-06-14) -- "Race for Your Life" 4455
kjohnson3macOS 13.6.5 Venturaarm644.4.1 (2024-06-14) -- "Race for Your Life" 4404
Click on any hostname to see more info about the system (e.g. compilers)      (*) as reported by 'uname -p', except on Windows and Mac OS X

Package 1528/2248HostnameOS / ArchINSTALLBUILDCHECKBUILD BIN
Pigengene 1.31.2  (landing page)
Habil Zare
Snapshot Date: 2024-07-23 14:00 -0400 (Tue, 23 Jul 2024)
git_url: https://git.bioconductor.org/packages/Pigengene
git_branch: devel
git_last_commit: e04cac6
git_last_commit_date: 2024-06-23 12:56:04 -0400 (Sun, 23 Jun 2024)
nebbiolo2Linux (Ubuntu 22.04.3 LTS) / x86_64  OK    OK    OK  UNNEEDED, same version is already published
palomino8Windows Server 2022 Datacenter / x64  OK    OK    OK    OK  UNNEEDED, same version is already published
lconwaymacOS 12.7.1 Monterey / x86_64  OK    OK    OK    OK  UNNEEDED, same version is already published
kjohnson3macOS 13.6.5 Ventura / arm64  OK    OK    OK    OK  UNNEEDED, same version is already published


CHECK results for Pigengene on lconway

To the developers/maintainers of the Pigengene package:
- Allow up to 24 hours (and sometimes 48 hours) for your latest push to git@git.bioconductor.org:packages/Pigengene.git to reflect on this report. See Troubleshooting Build Report for more information.
- Use the following Renviron settings to reproduce errors and warnings.
- If 'R CMD check' started to fail recently on the Linux builder(s) over a missing dependency, add the missing dependency to 'Suggests:' in your DESCRIPTION file. See Renviron.bioc for more information.

raw results


Summary

Package: Pigengene
Version: 1.31.2
Command: /Library/Frameworks/R.framework/Resources/bin/R CMD check --install=check:Pigengene.install-out.txt --library=/Library/Frameworks/R.framework/Resources/library --no-vignettes --timings Pigengene_1.31.2.tar.gz
StartedAt: 2024-07-23 23:21:50 -0400 (Tue, 23 Jul 2024)
EndedAt: 2024-07-23 23:34:14 -0400 (Tue, 23 Jul 2024)
EllapsedTime: 743.2 seconds
RetCode: 0
Status:   OK  
CheckDir: Pigengene.Rcheck
Warnings: 0

Command output

##############################################################################
##############################################################################
###
### Running command:
###
###   /Library/Frameworks/R.framework/Resources/bin/R CMD check --install=check:Pigengene.install-out.txt --library=/Library/Frameworks/R.framework/Resources/library --no-vignettes --timings Pigengene_1.31.2.tar.gz
###
##############################################################################
##############################################################################


* using log directory ‘/Users/biocbuild/bbs-3.20-bioc/meat/Pigengene.Rcheck’
* using R version 4.4.1 (2024-06-14)
* using platform: x86_64-apple-darwin20
* R was compiled by
    Apple clang version 14.0.0 (clang-1400.0.29.202)
    GNU Fortran (GCC) 12.2.0
* running under: macOS Monterey 12.7.1
* using session charset: UTF-8
* using option ‘--no-vignettes’
* checking for file ‘Pigengene/DESCRIPTION’ ... OK
* checking extension type ... Package
* this is package ‘Pigengene’ version ‘1.31.2’
* checking package namespace information ... OK
* checking package dependencies ... OK
* checking if this is a source package ... OK
* checking if there is a namespace ... OK
* checking for hidden files and directories ... OK
* checking for portable file names ... OK
* checking for sufficient/correct file permissions ... OK
* checking whether package ‘Pigengene’ can be installed ... OK
* checking installed package size ... OK
* checking package directory ... OK
* checking ‘build’ directory ... OK
* checking DESCRIPTION meta-information ... OK
* checking top-level files ... OK
* checking for left-over files ... OK
* checking index information ... OK
* checking package subdirectories ... OK
* checking code files for non-ASCII characters ... OK
* checking R files for syntax errors ... OK
* checking whether the package can be loaded ... OK
* checking whether the package can be loaded with stated dependencies ... OK
* checking whether the package can be unloaded cleanly ... OK
* checking whether the namespace can be loaded with stated dependencies ... OK
* checking whether the namespace can be unloaded cleanly ... OK
* checking dependencies in R code ... NOTE
'library' or 'require' calls in package code:
  ‘AnnotationDbi’ ‘biomaRt’ ‘energy’ ‘org.Hs.eg.db’ ‘org.Mm.eg.db’
  Please use :: or requireNamespace() instead.
  See section 'Suggested packages' in the 'Writing R Extensions' manual.
* checking S3 generic/method consistency ... OK
* checking replacement functions ... OK
* checking foreign function calls ... OK
* checking R code for possible problems ... NOTE
Found the following possibly unsafe calls:
File ‘Pigengene/R/bn.calculation.R’:
  assignInNamespace("supported.clusters", fixArgs, "bnlearn")

one.step.pigengene: no visible binding for global variable
  ‘org.Hs.eg.db’
Undefined global functions or variables:
  org.Hs.eg.db
* checking Rd files ... NOTE
checkRd: (-1) draw.bn.Rd:47: Lost braces
    47 |      rename the nodes name.  See code{rename.node}.}
       |                                      ^
checkRd: (-1) eigengenes33.Rd:21-22: Lost braces
    21 |  {A 202 by 34 matrix. 
       |  ^
checkRd: (-1) eigengenes33.Rd:25: Lost braces; missing escapes or markup?
    25 |  {A 164 by 34 matrix for MDS cases with columns similar to aml.}
       |  ^
checkRd: (-1) eigengenes33.Rd:28: Lost braces; missing escapes or markup?
    28 |  {A numeric vector of length 9166 labeling members of each module. Named by Entrez ID.}
       |  ^
checkRd: (-1) pigengene-class.Rd:25-26: Lost braces in \itemize; meant \describe ?
checkRd: (-1) pigengene-class.Rd:27-29: Lost braces in \itemize; meant \describe ?
checkRd: (-1) pigengene-class.Rd:30-39: Lost braces in \itemize; meant \describe ?
checkRd: (-1) pigengene-class.Rd:40-41: Lost braces in \itemize; meant \describe ?
checkRd: (-1) pigengene-class.Rd:42-44: Lost braces in \itemize; meant \describe ?
checkRd: (-1) pigengene-class.Rd:45-47: Lost braces in \itemize; meant \describe ?
checkRd: (-1) pigengene-class.Rd:48-49: Lost braces in \itemize; meant \describe ?
checkRd: (-1) pigengene-class.Rd:50-52: Lost braces in \itemize; meant \describe ?
checkRd: (-1) pigengene-class.Rd:53-55: Lost braces in \itemize; meant \describe ?
checkRd: (-1) pigengene-class.Rd:56-57: Lost braces in \itemize; meant \describe ?
checkRd: (-1) pigengene-class.Rd:58-59: Lost braces in \itemize; meant \describe ?
checkRd: (-1) pigengene-class.Rd:60-63: Lost braces in \itemize; meant \describe ?
checkRd: (-1) pigengene-class.Rd:64-68: Lost braces in \itemize; meant \describe ?
checkRd: (-1) pigengene-class.Rd:73-76: Lost braces in \itemize; meant \describe ?
checkRd: (-1) pigengene-class.Rd:77-79: Lost braces in \itemize; meant \describe ?
* checking Rd metadata ... OK
* checking Rd cross-references ... OK
* checking for missing documentation entries ... OK
* checking for code/documentation mismatches ... OK
* checking Rd \usage sections ... OK
* checking Rd contents ... OK
* checking for unstated dependencies in examples ... OK
* checking contents of ‘data’ directory ... OK
* checking data for non-ASCII characters ... OK
* checking data for ASCII and uncompressed saves ... OK
* checking sizes of PDF files under ‘inst/doc’ ... OK
* checking files in ‘vignettes’ ... OK
* checking examples ... OK
Examples with CPU (user + system) or elapsed time > 5s
                     user system elapsed
get.enriched.pw    82.283  7.034  90.789
one.step.pigengene 83.101  2.464  86.108
Pigengene-package  81.523  2.994  85.051
module.heatmap     35.958  1.792  38.028
learn.bn           16.849  0.483  17.535
make.filter        16.088  0.335  16.497
apply.filter       14.801  0.293  15.187
combine.networks   14.335  0.133  14.567
determine.modules  14.125  0.113  14.319
compute.pigengene  13.077  0.755  13.961
wgcna.one.step     13.279  0.098  13.457
make.decision.tree 12.620  0.601  13.324
compact.tree       12.499  0.721  13.397
gene.mapping        8.711  0.944  31.608
pigengene           7.305  0.682   8.103
plot.pigengene      6.986  0.393   7.456
project.eigen       6.640  0.360   7.055
* checking for unstated dependencies in vignettes ... OK
* checking package vignettes ... OK
* checking running R code from vignettes ... SKIPPED
* checking re-building of vignette outputs ... SKIPPED
* checking PDF version of manual ... OK
* DONE

Status: 3 NOTEs
See
  ‘/Users/biocbuild/bbs-3.20-bioc/meat/Pigengene.Rcheck/00check.log’
for details.


Installation output

Pigengene.Rcheck/00install.out

##############################################################################
##############################################################################
###
### Running command:
###
###   /Library/Frameworks/R.framework/Resources/bin/R CMD INSTALL Pigengene
###
##############################################################################
##############################################################################


* installing to library ‘/Library/Frameworks/R.framework/Versions/4.4-x86_64/Resources/library’
* installing *source* package ‘Pigengene’ ...
** using staged installation
** R
** data
** inst
** byte-compile and prepare package for lazy loading
** help
*** installing help indices
** building package indices
** installing vignettes
** testing if installed package can be loaded from temporary location
** testing if installed package can be loaded from final location
** testing if installed package keeps a record of temporary installation path
* DONE (Pigengene)

Tests output


Example timings

Pigengene.Rcheck/Pigengene-Ex.timings

nameusersystemelapsed
Pigengene-package81.523 2.99485.051
aml0.1440.0080.153
apply.filter14.801 0.29315.187
balance0.3740.0140.390
calculate.beta0.8240.0690.901
check.nas0.0530.0050.059
check.pigengene.input0.0500.0050.055
combine.networks14.335 0.13314.567
compact.tree12.499 0.72113.397
compute.pigengene13.077 0.75513.961
dcor.matrix0.1620.0160.179
determine.modules14.125 0.11314.319
draw.bn0.0000.0000.001
eigengenes330.1270.0100.136
gene.mapping 8.711 0.94431.608
get.enriched.pw82.283 7.03490.789
get.fitted.leaf0.5160.0470.574
get.genes0.4940.0380.536
get.used.features0.5020.0400.546
learn.bn16.849 0.48317.535
make.decision.tree12.620 0.60113.324
make.filter16.088 0.33516.497
mds0.1220.0140.137
message.if0.0010.0000.000
module.heatmap35.958 1.79238.028
one.step.pigengene83.101 2.46486.108
pheatmap.type0.2200.0070.228
pigengene7.3050.6828.103
plot.pigengene6.9860.3937.456
preds.at0.6380.0480.690
project.eigen6.6400.3607.055
pvalues.manova0.0520.0090.061
save.if0.8060.0380.850
wgcna.one.step13.279 0.09813.457