Back to Multiple platform build/check report for BioC 3.11
ABCDEFGHIJKLMNOPQR[S]TUVWXYZ

Multiple platform build/check report for BioC 3.11

Results for SWATH2stats

This page was generated on 2020-04-06 13:19:31 -0400 (Mon, 06 Apr 2020).

Package 1721/1857HostnameOS / ArchINSTALLBUILDCHECKBUILD BIN
SWATH2stats 1.17.5
Peter Blattmann
Snapshot Date: 2020-04-05 16:45:17 -0400 (Sun, 05 Apr 2020)
URL: https://git.bioconductor.org/packages/SWATH2stats
Branch: master
Last Commit: 34f8afa
Last Changed Date: 2019-12-10 01:23:59 -0400 (Tue, 10 Dec 2019)
malbec2 Linux (Ubuntu 18.04.4 LTS) / x86_64  OK  OK  OK UNNEEDED, same version exists in internal repository
tokay2 Windows Server 2012 R2 Standard / x64  OK  OK  OK  OK UNNEEDED, same version exists in internal repository