Back to Multiple platform build/check report for BioC 3.16
ABCDEFGHIJKLMNOPQRS[T]UVWXYZ

This page was generated on 2022-07-01 11:05:40 -0400 (Fri, 01 Jul 2022).

HostnameOSArch (*)R versionInstalled pkgs
nebbiolo2Linux (Ubuntu 20.04.4 LTS)x86_644.2.0 Patched (2022-06-02 r82447) -- "Vigorous Calisthenics" 4343
palomino4Windows Server 2022 Datacenterx644.2.0 Patched (2022-06-02 r82447 ucrt) -- "Vigorous Calisthenics" 4147
lconwaymacOS 12.2.1 Montereyx86_644.2.0 Patched (2022-05-29 r82424) -- "Vigorous Calisthenics" 4159
Click on any hostname to see more info about the system (e.g. compilers)      (*) as reported by 'uname -p', except on Windows and Mac OS X

CHECK results for TRESS on nebbiolo2


To the developers/maintainers of the TRESS package:
- Please allow up to 24 hours (and sometimes 48 hours) for your latest push to git@git.bioconductor.org:packages/TRESS.git to
reflect on this report. See How and When does the builder pull? When will my changes propagate? for more information.
- Make sure to use the following settings in order to reproduce any error or warning you see on this page.

raw results

Package 2039/2124HostnameOS / ArchINSTALLBUILDCHECKBUILD BIN
TRESS 1.3.0  (landing page)
Zhenxing Guo
Snapshot Date: 2022-06-30 14:00:04 -0400 (Thu, 30 Jun 2022)
git_url: https://git.bioconductor.org/packages/TRESS
git_branch: master
git_last_commit: 0126d61
git_last_commit_date: 2022-04-26 12:18:58 -0400 (Tue, 26 Apr 2022)
nebbiolo2Linux (Ubuntu 20.04.4 LTS) / x86_64  OK    OK    OK  UNNEEDED, same version is already published
palomino4Windows Server 2022 Datacenter / x64  OK    ERROR  skippedskipped
lconwaymacOS 12.2.1 Monterey / x86_64  OK    OK    OK    OK  UNNEEDED, same version is already published

Summary

Package: TRESS
Version: 1.3.0
Command: /home/biocbuild/bbs-3.16-bioc/R/bin/R CMD check --install=check:TRESS.install-out.txt --library=/home/biocbuild/bbs-3.16-bioc/R/library --no-vignettes --timings TRESS_1.3.0.tar.gz
StartedAt: 2022-06-30 22:15:08 -0400 (Thu, 30 Jun 2022)
EndedAt: 2022-06-30 22:20:24 -0400 (Thu, 30 Jun 2022)
EllapsedTime: 316.6 seconds
RetCode: 0
Status:   OK  
CheckDir: TRESS.Rcheck
Warnings: 0

Command output

##############################################################################
##############################################################################
###
### Running command:
###
###   /home/biocbuild/bbs-3.16-bioc/R/bin/R CMD check --install=check:TRESS.install-out.txt --library=/home/biocbuild/bbs-3.16-bioc/R/library --no-vignettes --timings TRESS_1.3.0.tar.gz
###
##############################################################################
##############################################################################


* using log directory ‘/home/biocbuild/bbs-3.16-bioc/meat/TRESS.Rcheck’
* using R version 4.2.0 Patched (2022-06-02 r82447)
* using platform: x86_64-pc-linux-gnu (64-bit)
* using session charset: UTF-8
* using option ‘--no-vignettes’
* checking for file ‘TRESS/DESCRIPTION’ ... OK
* checking extension type ... Package
* this is package ‘TRESS’ version ‘1.3.0’
* package encoding: UTF-8
* checking package namespace information ... OK
* checking package dependencies ... OK
* checking if this is a source package ... OK
* checking if there is a namespace ... OK
* checking for hidden files and directories ... OK
* checking for portable file names ... OK
* checking for sufficient/correct file permissions ... OK
* checking whether package ‘TRESS’ can be installed ... OK
* checking installed package size ... OK
* checking package directory ... OK
* checking ‘build’ directory ... OK
* checking DESCRIPTION meta-information ... OK
* checking top-level files ... OK
* checking for left-over files ... OK
* checking index information ... OK
* checking package subdirectories ... OK
* checking R files for non-ASCII characters ... OK
* checking R files for syntax errors ... OK
* checking whether the package can be loaded ... OK
* checking whether the package can be loaded with stated dependencies ... OK
* checking whether the package can be unloaded cleanly ... OK
* checking whether the namespace can be loaded with stated dependencies ... OK
* checking whether the namespace can be unloaded cleanly ... OK
* checking dependencies in R code ... OK
* checking S3 generic/method consistency ... OK
* checking replacement functions ... OK
* checking foreign function calls ... OK
* checking R code for possible problems ... OK
* checking Rd files ... OK
* checking Rd metadata ... OK
* checking Rd cross-references ... OK
* checking for missing documentation entries ... OK
* checking for code/documentation mismatches ... OK
* checking Rd \usage sections ... OK
* checking Rd contents ... OK
* checking for unstated dependencies in examples ... OK
* checking contents of ‘data’ directory ... OK
* checking data for non-ASCII characters ... OK
* checking data for ASCII and uncompressed saves ... OK
* checking files in ‘vignettes’ ... OK
* checking examples ... OK
Examples with CPU (user + system) or elapsed time > 5s
                     user system elapsed
TRESS_DMRtest      29.444  2.840  19.819
CallDMRs.paramEsti 29.409  2.372  19.308
CoefName           23.314  2.559  18.988
DMRInfer            9.469  1.683   0.226
CallPeaks.multiRep  6.639  0.927   1.656
findBumps           5.321  1.121   0.071
* checking for unstated dependencies in vignettes ... OK
* checking package vignettes in ‘inst/doc’ ... OK
* checking running R code from vignettes ... SKIPPED
* checking re-building of vignette outputs ... SKIPPED
* checking PDF version of manual ... OK
* DONE

Status: OK


Installation output

TRESS.Rcheck/00install.out

##############################################################################
##############################################################################
###
### Running command:
###
###   /home/biocbuild/bbs-3.16-bioc/R/bin/R CMD INSTALL TRESS
###
##############################################################################
##############################################################################


* installing to library ‘/home/biocbuild/bbs-3.16-bioc/R/library’
* installing *source* package ‘TRESS’ ...
** using staged installation
** R
** data
** inst
** byte-compile and prepare package for lazy loading
** help
*** installing help indices
** building package indices
** installing vignettes
** testing if installed package can be loaded from temporary location
** testing if installed package can be loaded from final location
** testing if installed package keeps a record of temporary installation path
* DONE (TRESS)

Tests output


Example timings

TRESS.Rcheck/TRESS-Ex.timings

nameusersystemelapsed
CallCandidates1.7740.1321.906
CallDMRs.paramEsti29.409 2.37219.308
CallPeaks.multiRep6.6390.9271.656
CallPeaks.oneRep0.0630.0320.096
CallPeaks.paramEsti1.5280.0201.548
CoefName23.314 2.55918.988
DMRInfer9.4691.6830.226
DivideBins0.0000.0000.001
ShowOnePeak0.2040.0200.224
TRESS_DMRfit000
TRESS_DMRtest29.444 2.84019.819
TRESS_peak000
filterRegions0.0060.0020.009
findBumps5.3211.1210.071
meRatio1.0140.2401.255