Back to Multiple platform build/check report for BioC 3.16
ABCDEFGH[I]JKLMNOPQRSTUVWXYZ

This page was generated on 2022-08-06 11:04:20 -0400 (Sat, 06 Aug 2022).

HostnameOSArch (*)R versionInstalled pkgs
nebbiolo2Linux (Ubuntu 20.04.4 LTS)x86_644.2.1 (2022-06-23) -- "Funny-Looking Kid" 4371
palomino4Windows Server 2022 Datacenterx644.2.1 (2022-06-23 ucrt) -- "Funny-Looking Kid" 4155
lconwaymacOS 12.2.1 Montereyx86_644.2.1 Patched (2022-07-09 r82577) -- "Funny-Looking Kid" 4155
Click on any hostname to see more info about the system (e.g. compilers)      (*) as reported by 'uname -p', except on Windows and Mac OS X

All results for package idpr


To the developers/maintainers of the idpr package:
- Please allow up to 24 hours (and sometimes 48 hours) for your latest push to git@git.bioconductor.org:packages/idpr.git to
reflect on this report. See How and When does the builder pull? When will my changes propagate? for more information.
- Make sure to use the following settings in order to reproduce any error or warning you see on this page.

raw results

Package 935/2137HostnameOS / ArchINSTALLBUILDCHECKBUILD BIN
idpr 1.7.01  (landing page)
William M. McFadden
Snapshot Date: 2022-08-05 14:00:05 -0400 (Fri, 05 Aug 2022)
git_url: https://git.bioconductor.org/packages/idpr
git_branch: master
git_last_commit: a3bc1de
git_last_commit_date: 2022-05-11 22:48:05 -0400 (Wed, 11 May 2022)
nebbiolo2Linux (Ubuntu 20.04.4 LTS) / x86_64  OK    OK    OK  UNNEEDED, same version is already published
palomino4Windows Server 2022 Datacenter / x64  OK    OK    OK    OK  UNNEEDED, same version is already published
lconwaymacOS 12.2.1 Monterey / x86_64  OK    OK    OK    OK  UNNEEDED, same version is already published