Back to Multiple platform build/check report for BioC 3.14
ABCDE[F]GHIJKLMNOPQRSTUVWXYZ

This page was generated on 2021-10-20 12:04:15 -0400 (Wed, 20 Oct 2021).

All results for package flowSpecs

To the developers/maintainers of the flowSpecs package:
- Please allow up to 24 hours (and sometimes 48 hours) for your latest push to git@git.bioconductor.org:packages/flowSpecs.git to
reflect on this report. See How and When does the builder pull? When will my changes propagate? here for more information.
- Make sure to use the following settings in order to reproduce any error or warning you see on this page.

raw results

Package 667/2072HostnameOS / ArchINSTALLBUILDCHECKBUILD BIN
flowSpecs 1.7.0  (landing page)
Jakob Theorell
Snapshot Date: 2021-10-19 14:50:04 -0400 (Tue, 19 Oct 2021)
git_url: https://git.bioconductor.org/packages/flowSpecs
git_branch: master
git_last_commit: 3c4ba8c
git_last_commit_date: 2021-07-05 08:49:52 -0400 (Mon, 05 Jul 2021)
nebbiolo2Linux (Ubuntu 20.04.2 LTS) / x86_64  OK    OK    OK  UNNEEDED, same version is already published
riesling1Windows Server 2019 Standard / x64  OK    OK    OK    OK  UNNEEDED, same version is already published
merida1macOS 10.14.6 Mojave / x86_64  OK    OK    OK    OK  UNNEEDED, same version is already published