Back to Multiple platform build/check report for BioC 3.16
AB[C]DEFGHIJKLMNOPQRSTUVWXYZ

This page was generated on 2022-08-09 11:04:14 -0400 (Tue, 09 Aug 2022).

HostnameOSArch (*)R versionInstalled pkgs
nebbiolo2Linux (Ubuntu 20.04.4 LTS)x86_644.2.1 (2022-06-23) -- "Funny-Looking Kid" 4374
palomino4Windows Server 2022 Datacenterx644.2.1 (2022-06-23 ucrt) -- "Funny-Looking Kid" 4158
lconwaymacOS 12.2.1 Montereyx86_644.2.1 Patched (2022-07-09 r82577) -- "Funny-Looking Kid" 4158
Click on any hostname to see more info about the system (e.g. compilers)      (*) as reported by 'uname -p', except on Windows and Mac OS X

All results for package csaw


To the developers/maintainers of the csaw package:
- Please allow up to 24 hours (and sometimes 48 hours) for your latest push to git@git.bioconductor.org:packages/csaw.git to
reflect on this report. See How and When does the builder pull? When will my changes propagate? for more information.
- Make sure to use the following settings in order to reproduce any error or warning you see on this page.

raw results

Package 436/2139HostnameOS / ArchINSTALLBUILDCHECKBUILD BIN
csaw 1.31.1  (landing page)
Aaron Lun
Snapshot Date: 2022-08-08 14:00:04 -0400 (Mon, 08 Aug 2022)
git_url: https://git.bioconductor.org/packages/csaw
git_branch: master
git_last_commit: ede4964
git_last_commit_date: 2022-05-06 01:48:42 -0400 (Fri, 06 May 2022)
nebbiolo2Linux (Ubuntu 20.04.4 LTS) / x86_64  OK    OK    OK  UNNEEDED, same version is already published
palomino4Windows Server 2022 Datacenter / x64  OK    OK    OK    OK  UNNEEDED, same version is already published
lconwaymacOS 12.2.1 Monterey / x86_64  OK    OK    OK    OK  UNNEEDED, same version is already published

Results for Bioconductor software packages that depend directly on package csaw

QUICK STATSOS / ArchINSTALLBUILDCHECKBUILD BIN
nebbiolo2Linux (Ubuntu 20.04.4 LTS) / x86_64
007
016
0006
palomino4Windows Server 2022 Datacenter / x64
007
007
0016
007
lconwaymacOS 12.2.1 Monterey / x86_64
007
007
0007
007
Package 1/7HostnameOS / ArchINSTALLBUILDCHECKBUILD BIN
diffHic 1.29.0  (landing page)
Aaron Lun
git_last_commit: 7f618d0
git_last_commit_date: 2022-04-26 11:25:14 -0400
nebbiolo2Linux (Ubuntu 20.04.4 LTS) / x86_64  OK    OK    OK  UNNEEDED, same version is already published
palomino4Windows Server 2022 Datacenter / x64  OK    OK    OK    OK  UNNEEDED, same version is already published
lconwaymacOS 12.2.1 Monterey / x86_64  OK    OK    OK    OK  UNNEEDED, same version is already published
Package 2/7HostnameOS / ArchINSTALLBUILDCHECKBUILD BIN
epigraHMM 1.5.0  (landing page)
Pedro Baldoni
git_last_commit: 25664e6
git_last_commit_date: 2022-04-26 12:16:15 -0400
nebbiolo2Linux (Ubuntu 20.04.4 LTS) / x86_64  OK    OK    OK  UNNEEDED, same version is already published
palomino4Windows Server 2022 Datacenter / x64  OK    OK    OK    OK  UNNEEDED, same version is already published
lconwaymacOS 12.2.1 Monterey / x86_64  OK    OK    OK    OK  UNNEEDED, same version is already published
Package 3/7HostnameOS / ArchINSTALLBUILDCHECKBUILD BIN
extraChIPs 1.1.3  (landing page)
Stephen Pederson
git_last_commit: e39edd6
git_last_commit_date: 2022-08-01 09:22:21 -0400
nebbiolo2Linux (Ubuntu 20.04.4 LTS) / x86_64  OK    OK    OK  UNNEEDED, same version is already published
palomino4Windows Server 2022 Datacenter / x64  OK    OK    OK    OK  UNNEEDED, same version is already published
lconwaymacOS 12.2.1 Monterey / x86_64  OK    OK    OK    OK  UNNEEDED, same version is already published
Package 4/7HostnameOS / ArchINSTALLBUILDCHECKBUILD BIN
GRaNIE 1.1.9  (landing page)
Christian Arnold
git_last_commit: 0b43b18
git_last_commit_date: 2022-07-20 12:21:33 -0400
nebbiolo2Linux (Ubuntu 20.04.4 LTS) / x86_64  OK    ERROR  skipped
palomino4Windows Server 2022 Datacenter / x64  OK    OK    WARNINGS    OK  UNNEEDED, same version is already published
lconwaymacOS 12.2.1 Monterey / x86_64  OK    OK    OK    OK  UNNEEDED, same version is already published
Package 5/7HostnameOS / ArchINSTALLBUILDCHECKBUILD BIN
icetea 1.15.0  (landing page)
Vivek Bhardwaj
git_last_commit: 087c142
git_last_commit_date: 2022-04-26 11:49:42 -0400
nebbiolo2Linux (Ubuntu 20.04.4 LTS) / x86_64  OK    OK    OK  UNNEEDED, same version is already published
palomino4Windows Server 2022 Datacenter / x64  OK    OK    OK    OK  UNNEEDED, same version is already published
lconwaymacOS 12.2.1 Monterey / x86_64  OK    OK    OK    OK  UNNEEDED, same version is already published
Package 6/7HostnameOS / ArchINSTALLBUILDCHECKBUILD BIN
NADfinder 1.21.0  (landing page)
Jianhong Ou
git_last_commit: 382c1ca
git_last_commit_date: 2022-04-26 11:40:01 -0400
nebbiolo2Linux (Ubuntu 20.04.4 LTS) / x86_64  OK    OK    OK  UNNEEDED, same version is already published
palomino4Windows Server 2022 Datacenter / x64  OK    OK    OK    OK  UNNEEDED, same version is already published
lconwaymacOS 12.2.1 Monterey / x86_64  OK    OK    OK    OK  UNNEEDED, same version is already published
Package 7/7HostnameOS / ArchINSTALLBUILDCHECKBUILD BIN
vulcan 1.19.0  (landing page)
Federico M. Giorgi
git_last_commit: 34919ac
git_last_commit_date: 2022-04-26 11:43:45 -0400
nebbiolo2Linux (Ubuntu 20.04.4 LTS) / x86_64  OK    OK    OK  UNNEEDED, same version is already published
palomino4Windows Server 2022 Datacenter / x64  OK    OK    OK    OK  UNNEEDED, same version is already published
lconwaymacOS 12.2.1 Monterey / x86_64  OK    OK    OK    OK  UNNEEDED, same version is already published