Back to Multiple platform build/check report for BioC 3.14
ABCDEFGHIJKLMNOPQR[S]TUVWXYZ

This page was generated on 2021-10-18 12:03:54 -0400 (Mon, 18 Oct 2021).

INSTALL results for spatialHeatmap on nebbiolo2

To the developers/maintainers of the spatialHeatmap package:
- Please allow up to 24 hours (and sometimes 48 hours) for your latest push to git@git.bioconductor.org:packages/spatialHeatmap.git to
reflect on this report. See How and When does the builder pull? When will my changes propagate? here for more information.
- Make sure to use the following settings in order to reproduce any error or warning you see on this page.

raw results

Package 1828/2060HostnameOS / ArchINSTALLBUILDCHECKBUILD BIN
spatialHeatmap 1.99.0  (landing page)
Jianhai Zhang
Snapshot Date: 2021-10-17 14:50:03 -0400 (Sun, 17 Oct 2021)
git_url: https://git.bioconductor.org/packages/spatialHeatmap
git_branch: master
git_last_commit: af132ff
git_last_commit_date: 2021-10-16 03:31:32 -0400 (Sat, 16 Oct 2021)
nebbiolo2Linux (Ubuntu 20.04.2 LTS) / x86_64  OK    OK    OK  YES
riesling1Windows Server 2019 Standard / x64  OK    OK    OK    OK  YES
merida1macOS 10.14.6 Mojave / x86_64  OK    OK    OK    NA  

Summary

Package: spatialHeatmap
Version: 1.99.0
Command: /home/biocbuild/bbs-3.14-bioc/R/bin/R CMD INSTALL spatialHeatmap
StartedAt: 2021-10-17 16:19:58 -0400 (Sun, 17 Oct 2021)
EndedAt: 2021-10-17 16:20:40 -0400 (Sun, 17 Oct 2021)
EllapsedTime: 41.9 seconds
RetCode: 0
Status:   OK  

Command output

##############################################################################
##############################################################################
###
### Running command:
###
###   /home/biocbuild/bbs-3.14-bioc/R/bin/R CMD INSTALL spatialHeatmap
###
##############################################################################
##############################################################################


* installing to library ‘/home/biocbuild/bbs-3.14-bioc/R/library’
* installing *source* package ‘spatialHeatmap’ ...
** using staged installation
** R
** data
** inst
** byte-compile and prepare package for lazy loading
** help
*** installing help indices
** building package indices
** installing vignettes
** testing if installed package can be loaded from temporary location
** testing if installed package can be loaded from final location
** testing if installed package keeps a record of temporary installation path
* DONE (spatialHeatmap)