Back to Multiple platform build/check report for BioC 3.20:   simplified   long
ABCDEFGHIJKL[M]NOPQRSTUVWXYZ

This page was generated on 2024-07-18 11:41 -0400 (Thu, 18 Jul 2024).

HostnameOSArch (*)R versionInstalled pkgs
nebbiolo2Linux (Ubuntu 22.04.3 LTS)x86_644.4.1 (2024-06-14) -- "Race for Your Life" 4683
palomino8Windows Server 2022 Datacenterx644.4.1 (2024-06-14 ucrt) -- "Race for Your Life" 4379
lconwaymacOS 12.7.1 Montereyx86_644.4.1 (2024-06-14) -- "Race for Your Life" 4450
kjohnson3macOS 13.6.5 Venturaarm644.4.1 (2024-06-14) -- "Race for Your Life" 4399
Click on any hostname to see more info about the system (e.g. compilers)      (*) as reported by 'uname -p', except on Windows and Mac OS X

Package 1216/2248HostnameOS / ArchINSTALLBUILDCHECKBUILD BIN
MethylSeekR 1.45.0  (landing page)
Lukas Burger
Snapshot Date: 2024-07-17 14:00 -0400 (Wed, 17 Jul 2024)
git_url: https://git.bioconductor.org/packages/MethylSeekR
git_branch: devel
git_last_commit: 94e0371
git_last_commit_date: 2024-04-30 10:30:22 -0400 (Tue, 30 Apr 2024)
nebbiolo2Linux (Ubuntu 22.04.3 LTS) / x86_64  OK    OK    OK  UNNEEDED, same version is already published
palomino8Windows Server 2022 Datacenter / x64  OK    OK    OK    OK  UNNEEDED, same version is already published
lconwaymacOS 12.7.1 Monterey / x86_64  OK    OK    OK    OK  UNNEEDED, same version is already published
kjohnson3macOS 13.6.5 Ventura / arm64  OK    OK    OK    OK  UNNEEDED, same version is already published


CHECK results for MethylSeekR on lconway

To the developers/maintainers of the MethylSeekR package:
- Allow up to 24 hours (and sometimes 48 hours) for your latest push to git@git.bioconductor.org:packages/MethylSeekR.git to reflect on this report. See Troubleshooting Build Report for more information.
- Use the following Renviron settings to reproduce errors and warnings.
- If 'R CMD check' started to fail recently on the Linux builder(s) over a missing dependency, add the missing dependency to 'Suggests:' in your DESCRIPTION file. See Renviron.bioc for more information.

raw results


Summary

Package: MethylSeekR
Version: 1.45.0
Command: /Library/Frameworks/R.framework/Resources/bin/R CMD check --install=check:MethylSeekR.install-out.txt --library=/Library/Frameworks/R.framework/Resources/library --no-vignettes --timings MethylSeekR_1.45.0.tar.gz
StartedAt: 2024-07-17 22:28:36 -0400 (Wed, 17 Jul 2024)
EndedAt: 2024-07-17 22:35:57 -0400 (Wed, 17 Jul 2024)
EllapsedTime: 440.9 seconds
RetCode: 0
Status:   OK  
CheckDir: MethylSeekR.Rcheck
Warnings: 0

Command output

##############################################################################
##############################################################################
###
### Running command:
###
###   /Library/Frameworks/R.framework/Resources/bin/R CMD check --install=check:MethylSeekR.install-out.txt --library=/Library/Frameworks/R.framework/Resources/library --no-vignettes --timings MethylSeekR_1.45.0.tar.gz
###
##############################################################################
##############################################################################


* using log directory ‘/Users/biocbuild/bbs-3.20-bioc/meat/MethylSeekR.Rcheck’
* using R version 4.4.1 (2024-06-14)
* using platform: x86_64-apple-darwin20
* R was compiled by
    Apple clang version 14.0.0 (clang-1400.0.29.202)
    GNU Fortran (GCC) 12.2.0
* running under: macOS Monterey 12.7.1
* using session charset: UTF-8
* using option ‘--no-vignettes’
* checking for file ‘MethylSeekR/DESCRIPTION’ ... OK
* checking extension type ... Package
* this is package ‘MethylSeekR’ version ‘1.45.0’
* checking package namespace information ... OK
* checking package dependencies ... OK
* checking if this is a source package ... OK
* checking if there is a namespace ... OK
* checking for hidden files and directories ... OK
* checking for portable file names ... OK
* checking for sufficient/correct file permissions ... OK
* checking whether package ‘MethylSeekR’ can be installed ... OK
* checking installed package size ... OK
* checking package directory ... OK
* checking ‘build’ directory ... OK
* checking DESCRIPTION meta-information ... NOTE
Malformed Description field: should contain one or more complete sentences.
Package listed in more than one of Depends, Imports, Suggests, Enhances:
  ‘parallel’
A package should be listed in only one of these fields.
* checking top-level files ... OK
* checking for left-over files ... OK
* checking index information ... OK
* checking package subdirectories ... OK
* checking code files for non-ASCII characters ... OK
* checking R files for syntax errors ... OK
* checking whether the package can be loaded ... OK
* checking whether the package can be loaded with stated dependencies ... OK
* checking whether the package can be unloaded cleanly ... OK
* checking whether the namespace can be loaded with stated dependencies ... OK
* checking whether the namespace can be unloaded cleanly ... OK
* checking dependencies in R code ... NOTE
Namespace in Imports field not imported from: ‘geneplotter’
  All declared Imports should be used.
Package in Depends field not imported from: ‘rtracklayer’
  These packages need to be imported from (in the NAMESPACE file)
  for when this namespace is loaded but not attached.
* checking S3 generic/method consistency ... OK
* checking replacement functions ... OK
* checking foreign function calls ... OK
* checking R code for possible problems ... NOTE
PMDviterbiSegmentation : <anonymous>: no visible global function
  definition for ‘values’
PMDviterbiSegmentation : <anonymous>: no visible global function
  definition for ‘predict’
PMDviterbiSegmentation : <anonymous>: no visible global function
  definition for ‘Rle’
PMDviterbiSegmentation : <anonymous>: no visible global function
  definition for ‘runValue’
calculateAlphaDistr : <anonymous>: no visible global function
  definition for ‘Rle’
calculateFDRs: no visible global function definition for ‘values’
calculateFDRs: no visible global function definition for ‘queryHits’
calculateFDRs: no visible global function definition for ‘values<-’
calculateFDRs : <anonymous>: no visible global function definition for
  ‘Rle’
calculateFDRs : <anonymous>: no visible global function definition for
  ‘values’
calculateFDRs : <anonymous>: no visible global function definition for
  ‘runValue’
createGRangesObjectPMDSegmentation : <anonymous>: no visible global
  function definition for ‘Rle’
createGRangesObjectPMDSegmentation : <anonymous>: no visible global
  function definition for ‘nrun’
createGRangesObjectPMDSegmentation : <anonymous>: no visible global
  function definition for ‘runValue’
plotAlphaDistributionOneChr: no visible global function definition for
  ‘values’
plotFinalSegmentation: no visible global function definition for
  ‘values’
plotFinalSegmentation: no visible global function definition for ‘Rle’
plotPMDSegmentation: no visible global function definition for ‘values’
readMethylome: no visible global function definition for ‘values’
removeSNPs: no visible global function definition for ‘queryHits’
savePMDSegments: no visible global function definition for ‘values’
saveUMRLMRSegments: no visible global function definition for ‘values’
segmentUMRsLMRs: no visible global function definition for ‘values’
segmentUMRsLMRs : <anonymous>: no visible global function definition
  for ‘Rle’
segmentUMRsLMRs : <anonymous>: no visible global function definition
  for ‘values’
segmentUMRsLMRs : <anonymous>: no visible global function definition
  for ‘runValue’
segmentUMRsLMRs: no visible global function definition for ‘queryHits’
segmentUMRsLMRs: no visible global function definition for
  ‘subjectHits’
segmentUMRsLMRs: no visible global function definition for ‘Rle’
segmentUMRsLMRs: no visible global function definition for ‘values<-’
segmentUMRsLMRs: no visible global function definition for ‘DataFrame’
segmentUMRsLMRs: no visible global function definition for
  ‘colorRampPalette’
trainPMDHMM: no visible global function definition for ‘values’
Undefined global functions or variables:
  DataFrame Rle colorRampPalette nrun predict queryHits runValue
  subjectHits values values<-
Consider adding
  importFrom("grDevices", "colorRampPalette")
  importFrom("stats", "predict")
to your NAMESPACE file.
* checking Rd files ... OK
* checking Rd metadata ... OK
* checking Rd cross-references ... OK
* checking for missing documentation entries ... OK
* checking for code/documentation mismatches ... OK
* checking Rd \usage sections ... OK
* checking Rd contents ... OK
* checking for unstated dependencies in examples ... OK
* checking sizes of PDF files under ‘inst/doc’ ... OK
* checking files in ‘vignettes’ ... OK
* checking examples ... OK
Examples with CPU (user + system) or elapsed time > 5s
                              user system elapsed
MethylSeekR-package         48.237  3.085  62.333
plotPMDSegmentation         31.965  2.496  34.821
savePMDSegments             30.467  2.366  33.168
segmentPMDs                 28.860  2.415  31.593
plotAlphaDistributionOneChr  7.032  0.436   7.520
calculateFDRs                6.467  0.715  16.426
* checking for unstated dependencies in vignettes ... OK
* checking package vignettes ... OK
* checking running R code from vignettes ... SKIPPED
* checking re-building of vignette outputs ... SKIPPED
* checking PDF version of manual ... OK
* DONE

Status: 3 NOTEs
See
  ‘/Users/biocbuild/bbs-3.20-bioc/meat/MethylSeekR.Rcheck/00check.log’
for details.


Installation output

MethylSeekR.Rcheck/00install.out

##############################################################################
##############################################################################
###
### Running command:
###
###   /Library/Frameworks/R.framework/Resources/bin/R CMD INSTALL MethylSeekR
###
##############################################################################
##############################################################################


* installing to library ‘/Library/Frameworks/R.framework/Versions/4.4-x86_64/Resources/library’
* installing *source* package ‘MethylSeekR’ ...
** using staged installation
** R
** inst
** byte-compile and prepare package for lazy loading
** help
*** installing help indices
** building package indices
** installing vignettes
** testing if installed package can be loaded from temporary location
** testing if installed package can be loaded from final location
** testing if installed package keeps a record of temporary installation path
* DONE (MethylSeekR)

Tests output


Example timings

MethylSeekR.Rcheck/MethylSeekR-Ex.timings

nameusersystemelapsed
MethylSeekR-package48.237 3.08562.333
calculateFDRs 6.467 0.71516.426
plotAlphaDistributionOneChr7.0320.4367.520
plotFinalSegmentation1.8730.2072.111
plotPMDSegmentation31.965 2.49634.821
readMethylome0.3960.0210.425
readSNPTable0.1380.0130.153
removeSNPs0.5310.0830.623
savePMDSegments30.467 2.36633.168
saveUMRLMRSegments1.3540.1201.502
segmentPMDs28.860 2.41531.593
segmentUMRsLMRs1.1530.0771.242