Back to Multiple platform build/check report for BioC 3.20:   simplified   long
A[B]CDEFGHIJKLMNOPQRSTUVWXYZ

This page was generated on 2024-06-13 12:18 -0400 (Thu, 13 Jun 2024).

HostnameOSArch (*)R versionInstalled pkgs
nebbiolo2Linux (Ubuntu 22.04.3 LTS)x86_644.4.0 RC (2024-04-16 r86468) -- "Puppy Cup" 4679
lconwaymacOS 12.7.1 Montereyx86_644.4.1 RC (2024-06-06 r86719) -- "Race for Your Life" 4353
kjohnson3macOS 13.6.5 Venturaarm644.4.1 RC (2024-06-06 r86719) -- "Race for Your Life" 4344
Click on any hostname to see more info about the system (e.g. compilers)      (*) as reported by 'uname -p', except on Windows and Mac OS X

Package 142/2239HostnameOS / ArchINSTALLBUILDCHECKBUILD BIN
BBCAnalyzer 1.35.0  (landing page)
Sarah Sandmann
Snapshot Date: 2024-06-12 14:00 -0400 (Wed, 12 Jun 2024)
git_url: https://git.bioconductor.org/packages/BBCAnalyzer
git_branch: devel
git_last_commit: 876004b
git_last_commit_date: 2024-04-30 10:45:13 -0400 (Tue, 30 Apr 2024)
nebbiolo2Linux (Ubuntu 22.04.3 LTS) / x86_64  OK    OK    OK  UNNEEDED, same version is already published
lconwaymacOS 12.7.1 Monterey / x86_64  OK    OK    OK    OK  UNNEEDED, same version is already published
kjohnson3macOS 13.6.5 Ventura / arm64  OK    OK    OK    OK  UNNEEDED, same version is already published


BUILD results for BBCAnalyzer on nebbiolo2

To the developers/maintainers of the BBCAnalyzer package:
- Allow up to 24 hours (and sometimes 48 hours) for your latest push to git@git.bioconductor.org:packages/BBCAnalyzer.git to reflect on this report. See Troubleshooting Build Report for more information.
- Use the following Renviron settings to reproduce errors and warnings.
- If 'R CMD check' started to fail recently on the Linux builder(s) over a missing dependency, add the missing dependency to 'Suggests:' in your DESCRIPTION file. See Renviron.bioc for more information.

raw results


Summary

Package: BBCAnalyzer
Version: 1.35.0
Command: /home/biocbuild/bbs-3.20-bioc/R/bin/R CMD build --keep-empty-dirs --no-resave-data --md5 BBCAnalyzer
StartedAt: 2024-06-12 16:19:42 -0400 (Wed, 12 Jun 2024)
EndedAt: 2024-06-12 16:26:00 -0400 (Wed, 12 Jun 2024)
EllapsedTime: 377.7 seconds
RetCode: 0
Status:   OK  
PackageFile: BBCAnalyzer_1.35.0.tar.gz
PackageFileSize: 2.081 MiB

Command output

##############################################################################
##############################################################################
###
### Running command:
###
###   /home/biocbuild/bbs-3.20-bioc/R/bin/R CMD build --keep-empty-dirs --no-resave-data --md5 BBCAnalyzer
###
##############################################################################
##############################################################################


* checking for file ‘BBCAnalyzer/DESCRIPTION’ ... OK
* preparing ‘BBCAnalyzer’:
* checking DESCRIPTION meta-information ... OK
* installing the package to process help pages
* saving partial Rd database
* creating vignettes ... OK
* checking for LF line-endings in source and make files and shell scripts
* checking for empty or unneeded directories
* adding MD5 file
* building ‘BBCAnalyzer_1.35.0.tar.gz’