Back to Multiple platform build/check report for BioC 3.18:   simplified   long
ABCDE[F]GHIJKLMNOPQRSTUVWXYZ

This page was generated on 2023-09-21 11:39:21 -0400 (Thu, 21 Sep 2023).

HostnameOSArch (*)R versionInstalled pkgs
nebbiolo2Linux (Ubuntu 22.04.2 LTS)x86_644.3.1 (2023-06-16) -- "Beagle Scouts" 4654
palomino4Windows Server 2022 Datacenterx644.3.1 (2023-06-16 ucrt) -- "Beagle Scouts" 4388
lconwaymacOS 12.6.5 Montereyx86_644.3.1 Patched (2023-06-17 r84564) -- "Beagle Scouts" 4402
kunpeng2Linux (openEuler 22.03 LTS-SP1)aarch644.3.1 (2023-06-16) -- "Beagle Scouts" 4391
Click on any hostname to see more info about the system (e.g. compilers)      (*) as reported by 'uname -p', except on Windows and Mac OS X

Package 706/2229HostnameOS / ArchINSTALLBUILDCHECKBUILD BIN
FLAMES 1.7.2  (landing page)
Oliver Voogd
Snapshot Date: 2023-09-20 14:05:05 -0400 (Wed, 20 Sep 2023)
git_url: https://git.bioconductor.org/packages/FLAMES
git_branch: devel
git_last_commit: c62c530
git_last_commit_date: 2023-09-10 23:10:11 -0400 (Sun, 10 Sep 2023)
nebbiolo2Linux (Ubuntu 22.04.2 LTS) / x86_64  OK    OK    OK  UNNEEDED, same version is already published
palomino4Windows Server 2022 Datacenter / x64  OK    OK    WARNINGS    OK  UNNEEDED, same version is already published
lconwaymacOS 12.6.5 Monterey / x86_64  OK    OK    WARNINGS    OK  UNNEEDED, same version is already published
kunpeng2Linux (openEuler 22.03 LTS-SP1) / aarch64  OK    ERROR  skipped

BUILD BIN results for FLAMES on lconway


To the developers/maintainers of the FLAMES package:
- Allow up to 24 hours (and sometimes 48 hours) for your latest push to git@git.bioconductor.org:packages/FLAMES.git to reflect on this report. See Troubleshooting Build Report for more information.
- Use the following Renviron settings to reproduce errors and warnings.
- If 'R CMD check' started to fail recently on the Linux builder(s) over a missing dependency, add the missing dependency to 'Suggests:' in your DESCRIPTION file. See Renviron.bioc for more information.

raw results


Summary

Package: FLAMES
Version: 1.7.2
Command: rm -rf FLAMES.buildbin-libdir && mkdir FLAMES.buildbin-libdir && /Users/biocbuild/BBS/utils/build-universal.sh FLAMES_1.7.2.tar.gz /Library/Frameworks/R.framework/Resources/bin/R FLAMES.buildbin-libdir
StartedAt: 2023-09-21 00:25:44 -0400 (Thu, 21 Sep 2023)
EndedAt: 2023-09-21 00:27:35 -0400 (Thu, 21 Sep 2023)
EllapsedTime: 111.1 seconds
RetCode: 0
Status:   OK  
PackageFile: FLAMES_1.7.2.tgz
PackageFileSize: 2.369 MiB

Command output

##############################################################################
##############################################################################
###
### Running command:
###
###   rm -rf FLAMES.buildbin-libdir && mkdir FLAMES.buildbin-libdir && /Users/biocbuild/BBS/utils/build-universal.sh FLAMES_1.7.2.tar.gz /Library/Frameworks/R.framework/Resources/bin/R FLAMES.buildbin-libdir
###
##############################################################################
##############################################################################


>>>>>>> 
>>>>>>> INSTALLATION WITH 'R CMD INSTALL --preclean --no-multiarch --library=FLAMES.buildbin-libdir FLAMES_1.7.2.tar.gz'
>>>>>>> 

* installing *source* package ‘FLAMES’ ...
** using staged installation
** libs
using C++ compiler: ‘Apple clang version 14.0.0 (clang-1400.0.29.202)’
using C++17
using SDK: ‘MacOSX11.3.sdk’
clang++ -arch x86_64 -std=gnu++17 -I"/Library/Frameworks/R.framework/Resources/include" -DNDEBUG -pthread '/Library/Frameworks/R.framework/Versions/4.3-x86_64/Resources/library/Rhtslib/usrlib/libhts.a' -lcurl -I'/Library/Frameworks/R.framework/Versions/4.3-x86_64/Resources/library/Rcpp/include' -I'/Library/Frameworks/R.framework/Versions/4.3-x86_64/Resources/library/Rhtslib/include' -I'/Library/Frameworks/R.framework/Versions/4.3-x86_64/Resources/library/zlibbioc/include' -I/opt/R/x86_64/include    -fPIC  -falign-functions=64 -Wall -g -O2  -c RcppExports.cpp -o RcppExports.o
clang: warning: /Library/Frameworks/R.framework/Versions/4.3-x86_64/Resources/library/Rhtslib/usrlib/libhts.a: 'linker' input unused [-Wunused-command-line-argument]
clang: warning: -lcurl: 'linker' input unused [-Wunused-command-line-argument]
clang++ -arch x86_64 -std=gnu++17 -I"/Library/Frameworks/R.framework/Resources/include" -DNDEBUG -pthread '/Library/Frameworks/R.framework/Versions/4.3-x86_64/Resources/library/Rhtslib/usrlib/libhts.a' -lcurl -I'/Library/Frameworks/R.framework/Versions/4.3-x86_64/Resources/library/Rcpp/include' -I'/Library/Frameworks/R.framework/Versions/4.3-x86_64/Resources/library/Rhtslib/include' -I'/Library/Frameworks/R.framework/Versions/4.3-x86_64/Resources/library/zlibbioc/include' -I/opt/R/x86_64/include    -fPIC  -falign-functions=64 -Wall -g -O2  -c flexiplex.cpp -o flexiplex.o
clang: warning: /Library/Frameworks/R.framework/Versions/4.3-x86_64/Resources/library/Rhtslib/usrlib/libhts.a: 'linker' input unused [-Wunused-command-line-argument]
clang: warning: -lcurl: 'linker' input unused [-Wunused-command-line-argument]
clang++ -arch x86_64 -std=gnu++17 -I"/Library/Frameworks/R.framework/Resources/include" -DNDEBUG -pthread '/Library/Frameworks/R.framework/Versions/4.3-x86_64/Resources/library/Rhtslib/usrlib/libhts.a' -lcurl -I'/Library/Frameworks/R.framework/Versions/4.3-x86_64/Resources/library/Rcpp/include' -I'/Library/Frameworks/R.framework/Versions/4.3-x86_64/Resources/library/Rhtslib/include' -I'/Library/Frameworks/R.framework/Versions/4.3-x86_64/Resources/library/zlibbioc/include' -I/opt/R/x86_64/include    -fPIC  -falign-functions=64 -Wall -g -O2  -c utility/edlib-1.2.7/edlib.cpp -o utility/edlib-1.2.7/edlib.o
clang: warning: /Library/Frameworks/R.framework/Versions/4.3-x86_64/Resources/library/Rhtslib/usrlib/libhts.a: 'linker' input unused [-Wunused-command-line-argument]
clang: warning: -lcurl: 'linker' input unused [-Wunused-command-line-argument]
clang++ -arch x86_64 -std=gnu++17 -dynamiclib -Wl,-headerpad_max_install_names -undefined dynamic_lookup -single_module -multiply_defined suppress -L/Library/Frameworks/R.framework/Resources/lib -L/opt/R/x86_64/lib -o FLAMES.so RcppExports.o flexiplex.o utility/edlib-1.2.7/edlib.o -pthread -D_FILE_OFFSET_BITS=64 -F/Library/Frameworks/R.framework/.. -framework R -Wl,-framework -Wl,CoreFoundation
if test -e "/usr/bin/strip" & test -e "/bin/uname" & [[ `uname` == "Linux" ]] ; then /usr/bin/strip --strip-debug FLAMES.so; fi
installing to /Users/biocbuild/bbs-3.18-bioc/meat/FLAMES.buildbin-libdir/00LOCK-FLAMES/00new/FLAMES/libs
** R
** inst
** byte-compile and prepare package for lazy loading
** help
*** installing help indices
** building package indices
** installing vignettes
** testing if installed package can be loaded from temporary location
** checking absolute paths in shared objects and dynamic libraries
** testing if installed package can be loaded from final location
** testing if installed package keeps a record of temporary installation path
* DONE (FLAMES)


>>>>>>> 
>>>>>>> FIXING PATHS TO DYNAMIC LIBRARIES FOR FLAMES.buildbin-libdir/FLAMES/libs/FLAMES.so
>>>>>>> 

>>>>>>> Paths before fix:
FLAMES.buildbin-libdir/FLAMES/libs/FLAMES.so:
	FLAMES.so (compatibility version 0.0.0, current version 0.0.0)
	/Library/Frameworks/R.framework/Versions/4.3-x86_64/Resources/lib/libR.dylib (compatibility version 4.3.0, current version 4.3.1)
	/System/Library/Frameworks/CoreFoundation.framework/Versions/A/CoreFoundation (compatibility version 150.0.0, current version 1775.118.101)
	/usr/lib/libc++.1.dylib (compatibility version 1.0.0, current version 905.6.0)
	/usr/lib/libSystem.B.dylib (compatibility version 1.0.0, current version 1292.100.5)

>>>>>>> Fix with install_name_tool:
install_name_tool -change "/usr/local/lib/libgcc_s.1.1.dylib" "/Library/Frameworks/R.framework/Versions/4.3-x86_64/Resources/lib/libgcc_s.1.1.dylib" "FLAMES.buildbin-libdir/FLAMES/libs/FLAMES.so"
install_name_tool -change "/usr/local/lib/libgfortran.5.dylib" "/Library/Frameworks/R.framework/Versions/4.3-x86_64/Resources/lib/libgfortran.5.dylib" "FLAMES.buildbin-libdir/FLAMES/libs/FLAMES.so"
install_name_tool -change "/usr/local/lib/libquadmath.0.dylib" "/Library/Frameworks/R.framework/Versions/4.3-x86_64/Resources/lib/libquadmath.0.dylib" "FLAMES.buildbin-libdir/FLAMES/libs/FLAMES.so"

>>>>>>> Paths after fix:

FLAMES.buildbin-libdir/FLAMES/libs/FLAMES.so:
	FLAMES.so (compatibility version 0.0.0, current version 0.0.0)
	/Library/Frameworks/R.framework/Versions/4.3-x86_64/Resources/lib/libR.dylib (compatibility version 4.3.0, current version 4.3.1)
	/System/Library/Frameworks/CoreFoundation.framework/Versions/A/CoreFoundation (compatibility version 150.0.0, current version 1775.118.101)
	/usr/lib/libc++.1.dylib (compatibility version 1.0.0, current version 905.6.0)
	/usr/lib/libSystem.B.dylib (compatibility version 1.0.0, current version 1292.100.5)