Back to Multiple platform build/check report for BioC 3.18:   simplified   long
A[B]CDEFGHIJKLMNOPQRSTUVWXYZ

This page was generated on 2023-06-07 11:04:30 -0400 (Wed, 07 Jun 2023).

HostnameOSArch (*)R versionInstalled pkgs
nebbiolo2Linux (Ubuntu 22.04.2 LTS)x86_644.3.0 RC (2023-04-18 r84287) -- "Already Tomorrow" 4598
palomino4Windows Server 2022 Datacenterx644.3.0 RC (2023-04-18 r84287 ucrt) -- "Already Tomorrow" 4347
lconwaymacOS 12.6.5 Montereyx86_644.3.0 RC (2023-04-13 r84266) -- "Already Tomorrow" 4354
Click on any hostname to see more info about the system (e.g. compilers)      (*) as reported by 'uname -p', except on Windows and Mac OS X

All results for package BioNet


To the developers/maintainers of the BioNet package:
- Allow up to 24 hours (and sometimes 48 hours) for your latest push to git@git.bioconductor.org:packages/BioNet.git to reflect on this report. See Troubleshooting Build Report for more information.
- Use the following Renviron settings to reproduce errors and warnings.
- If 'R CMD check' started to fail recently on the Linux builder(s) over a missing dependency, add the missing dependency to 'Suggests:' in your DESCRIPTION file. See Renviron.bioc for more information.

raw results

Package 208/2199HostnameOS / ArchINSTALLBUILDCHECKBUILD BIN
BioNet 1.61.0  (landing page)
Marcus Dittrich
Snapshot Date: 2023-06-06 14:00:07 -0400 (Tue, 06 Jun 2023)
git_url: https://git.bioconductor.org/packages/BioNet
git_branch: devel
git_last_commit: c4acbe6
git_last_commit_date: 2023-04-25 10:17:41 -0400 (Tue, 25 Apr 2023)
nebbiolo2Linux (Ubuntu 22.04.2 LTS) / x86_64  OK    OK    OK  UNNEEDED, same version is already published
palomino4Windows Server 2022 Datacenter / x64  OK    OK    OK    OK  UNNEEDED, same version is already published
lconwaymacOS 12.6.5 Monterey / x86_64  OK    OK    OK    OK  UNNEEDED, same version is already published

Results for Bioconductor software packages that depend directly on package BioNet

QUICK STATSOS / ArchINSTALLBUILDCHECKBUILD BIN
nebbiolo2Linux (Ubuntu 22.04.2 LTS) / x86_64
001
001
0001
palomino4Windows Server 2022 Datacenter / x64
001
001
0001
001
lconwaymacOS 12.6.5 Monterey / x86_64
001
001
0001
001
Package 1/1HostnameOS / ArchINSTALLBUILDCHECKBUILD BIN
SMITE 1.29.0  (landing page)
Neil Ari Wijetunga
git_last_commit: e2077af
git_last_commit_date: 2023-04-25 10:44:07 -0400
nebbiolo2Linux (Ubuntu 22.04.2 LTS) / x86_64  OK    OK    OK  UNNEEDED, same version is already published
palomino4Windows Server 2022 Datacenter / x64  OK    OK    OK    OK  UNNEEDED, same version is already published
lconwaymacOS 12.6.5 Monterey / x86_64  OK    OK    OK    OK  UNNEEDED, same version is already published