Back to Multiple platform build/check report for BioC 3.11
ABCDEFG[H]IJKLMNOPQRSTUVWXYZ

Multiple platform build/check report for BioC 3.11

Results for HTSeqGenie

This page was generated on 2020-04-01 13:09:30 -0400 (Wed, 01 Apr 2020).

Package 813/1855HostnameOS / ArchINSTALLBUILDCHECKBUILD BIN
HTSeqGenie 4.17.1
Jens Reeder
Snapshot Date: 2020-03-31 16:45:16 -0400 (Tue, 31 Mar 2020)
URL: https://git.bioconductor.org/packages/HTSeqGenie
Branch: master
Last Commit: 4a4256f
Last Changed Date: 2020-03-16 20:22:54 -0400 (Mon, 16 Mar 2020)
malbec2 Linux (Ubuntu 18.04.4 LTS) / x86_64  OK  OK  ERROR 
tokay2 Windows Server 2012 R2 Standard / x64 ...NOT SUPPORTED...