Back to Multiple platform build/check report for BioC 3.18:   simplified   long
ABCDEFGHIJKLMNOPQR[S]TUVWXYZ

This page was generated on 2023-09-21 11:37:21 -0400 (Thu, 21 Sep 2023).

HostnameOSArch (*)R versionInstalled pkgs
nebbiolo2Linux (Ubuntu 22.04.2 LTS)x86_644.3.1 (2023-06-16) -- "Beagle Scouts" 4654
palomino4Windows Server 2022 Datacenterx644.3.1 (2023-06-16 ucrt) -- "Beagle Scouts" 4388
lconwaymacOS 12.6.5 Montereyx86_644.3.1 Patched (2023-06-17 r84564) -- "Beagle Scouts" 4402
kunpeng2Linux (openEuler 22.03 LTS-SP1)aarch644.3.1 (2023-06-16) -- "Beagle Scouts" 4391
Click on any hostname to see more info about the system (e.g. compilers)      (*) as reported by 'uname -p', except on Windows and Mac OS X

Package 1980/2229HostnameOS / ArchINSTALLBUILDCHECKBUILD BIN
spatzie 1.7.0  (landing page)
Jennifer Hammelman
Snapshot Date: 2023-09-20 14:05:05 -0400 (Wed, 20 Sep 2023)
git_url: https://git.bioconductor.org/packages/spatzie
git_branch: devel
git_last_commit: 5136a10
git_last_commit_date: 2023-05-05 13:01:35 -0400 (Fri, 05 May 2023)
nebbiolo2Linux (Ubuntu 22.04.2 LTS) / x86_64  OK    OK    OK  UNNEEDED, same version is already published
palomino4Windows Server 2022 Datacenter / x64  OK    OK    OK    OK  UNNEEDED, same version is already published
lconwaymacOS 12.6.5 Monterey / x86_64  OK    OK    OK    OK  UNNEEDED, same version is already published
kunpeng2Linux (openEuler 22.03 LTS-SP1) / aarch64  OK    OK    OK  

BUILD results for spatzie on nebbiolo2


To the developers/maintainers of the spatzie package:
- Allow up to 24 hours (and sometimes 48 hours) for your latest push to git@git.bioconductor.org:packages/spatzie.git to reflect on this report. See Troubleshooting Build Report for more information.
- Use the following Renviron settings to reproduce errors and warnings.
- If 'R CMD check' started to fail recently on the Linux builder(s) over a missing dependency, add the missing dependency to 'Suggests:' in your DESCRIPTION file. See Renviron.bioc for more information.

raw results


Summary

Package: spatzie
Version: 1.7.0
Command: /home/biocbuild/bbs-3.18-bioc/R/bin/R CMD build --keep-empty-dirs --no-resave-data spatzie
StartedAt: 2023-09-20 18:40:08 -0400 (Wed, 20 Sep 2023)
EndedAt: 2023-09-20 18:41:08 -0400 (Wed, 20 Sep 2023)
EllapsedTime: 59.7 seconds
RetCode: 0
Status:   OK  
PackageFile: spatzie_1.7.0.tar.gz
PackageFileSize: 1.884 MiB

Command output

##############################################################################
##############################################################################
###
### Running command:
###
###   /home/biocbuild/bbs-3.18-bioc/R/bin/R CMD build --keep-empty-dirs --no-resave-data spatzie
###
##############################################################################
##############################################################################


* checking for file ‘spatzie/DESCRIPTION’ ... OK
* preparing ‘spatzie’:
* checking DESCRIPTION meta-information ... OK
* installing the package to build vignettes
* creating vignettes ... OK
* checking for LF line-endings in source and make files and shell scripts
* checking for empty or unneeded directories
* building ‘spatzie_1.7.0.tar.gz’