Back to Multiple platform build/check report for BioC 3.11
ABCDEFGH[I]JKLMNOPQRSTUVWXYZ

Multiple platform build/check report for BioC 3.11

Results for IsoformSwitchAnalyzeR

This page was generated on 2020-04-06 13:17:17 -0400 (Mon, 06 Apr 2020).

Package 881/1857HostnameOS / ArchINSTALLBUILDCHECKBUILD BIN
IsoformSwitchAnalyzeR 1.9.1
Kristoffer Vitting-Seerup
Snapshot Date: 2020-04-05 16:45:17 -0400 (Sun, 05 Apr 2020)
URL: https://git.bioconductor.org/packages/IsoformSwitchAnalyzeR
Branch: master
Last Commit: f71518f
Last Changed Date: 2020-02-26 10:13:04 -0400 (Wed, 26 Feb 2020)
malbec2 Linux (Ubuntu 18.04.4 LTS) / x86_64  OK  OK  OK UNNEEDED, same version exists in internal repository
tokay2 Windows Server 2012 R2 Standard / x64  OK  OK  OK  OK UNNEEDED, same version exists in internal repository