Back to Multiple platform build/check report for BioC 3.15
ABCDEF[G]HIJKLMNOPQRSTUVWXYZ

This page was generated on 2022-01-18 11:04:38 -0500 (Tue, 18 Jan 2022).

HostnameOSArch (*)R versionInstalled pkgs
nebbiolo1Linux (Ubuntu 20.04.4 LTS)x86_64R Under development (unstable) (2022-01-05 r81451) -- "Unsuffered Consequences" 4161
riesling1Windows Server 2019 Standardx64R Under development (unstable) (2021-11-21 r81221) -- "Unsuffered Consequences" 4056
palomino3Windows Server 2022 Datacenterx64R Under development (unstable) (2021-12-21 r81400 ucrt) -- "Unsuffered Consequences" 3998
merida1macOS 10.14.6 Mojavex86_64R Under development (unstable) (2022-01-05 r81451) -- "Unsuffered Consequences" 4115
Click on any hostname to see more info about the system (e.g. compilers)      (*) as reported by 'uname -p', except on Windows and Mac OS X

All results for package GOstats


To the developers/maintainers of the GOstats package:
- Please allow up to 24 hours (and sometimes 48 hours) for your latest push to git@git.bioconductor.org:packages/GOstats.git to
reflect on this report. See How and When does the builder pull? When will my changes propagate? here for more information.
- Make sure to use the following settings in order to reproduce any error or warning you see on this page.

raw results

Package 804/2074HostnameOS / ArchINSTALLBUILDCHECKBUILD BIN
GOstats 2.61.0  (landing page)
Bioconductor Package Maintainer
Snapshot Date: 2022-01-17 13:55:17 -0500 (Mon, 17 Jan 2022)
git_url: https://git.bioconductor.org/packages/GOstats
git_branch: master
git_last_commit: cd3ee9b
git_last_commit_date: 2021-10-26 11:47:01 -0500 (Tue, 26 Oct 2021)
nebbiolo1Linux (Ubuntu 20.04.4 LTS) / x86_64  OK    OK    OK  UNNEEDED, same version is already published
riesling1Windows Server 2019 Standard / x64  OK    OK    OK    OK  
palomino3Windows Server 2022 Datacenter / x64  OK    OK    OK    OK  NO, package depends on 'Biobase' which is not available
merida1macOS 10.14.6 Mojave / x86_64  OK    OK    OK    OK  UNNEEDED, same version is already published

Results for Bioconductor software packages that depend directly on package GOstats

QUICK STATSOS / ArchINSTALLBUILDCHECKBUILD BIN
nebbiolo1Linux (Ubuntu 20.04.4 LTS) / x86_64
0013
0013
00310
riesling1Windows Server 2019 Standard / x64
0013
0112
0039
0012
palomino3Windows Server 2022 Datacenter / x64
0013
0013
00310
0013
merida1macOS 10.14.6 Mojave / x86_64
0013
0112
00210
0012
Package 1/13HostnameOS / ArchINSTALLBUILDCHECKBUILD BIN
affycoretools 1.67.2  (landing page)
James W. MacDonald
git_last_commit: 59ffb8d
git_last_commit_date: 2021-11-11 10:49:35 -0500
nebbiolo1Linux (Ubuntu 20.04.4 LTS) / x86_64  OK    OK    WARNINGS  UNNEEDED, same version is already published
riesling1Windows Server 2019 Standard / x64  OK    OK    WARNINGS    OK  
palomino3Windows Server 2022 Datacenter / x64  OK    OK    WARNINGS    OK  NO, package depends on 'Biobase' which is not available
merida1macOS 10.14.6 Mojave / x86_64  OK    OK    WARNINGS    OK  UNNEEDED, same version is already published
Package 2/13HostnameOS / ArchINSTALLBUILDCHECKBUILD BIN
attract 1.47.0  (landing page)
Samuel Zimmerman
git_last_commit: b7601f8
git_last_commit_date: 2021-10-26 11:56:18 -0500
nebbiolo1Linux (Ubuntu 20.04.4 LTS) / x86_64  OK    OK    OK  UNNEEDED, same version is already published
riesling1Windows Server 2019 Standard / x64  OK    OK    OK    OK  
palomino3Windows Server 2022 Datacenter / x64  OK    OK    OK    OK  NO, package depends on 'AnnotationDbi' which is not available
merida1macOS 10.14.6 Mojave / x86_64  OK    OK    OK    OK  UNNEEDED, same version is already published
Package 3/13HostnameOS / ArchINSTALLBUILDCHECKBUILD BIN
categoryCompare 1.39.0  (landing page)
Robert M. Flight
git_last_commit: b76dc35
git_last_commit_date: 2021-10-26 12:03:05 -0500
nebbiolo1Linux (Ubuntu 20.04.4 LTS) / x86_64  OK    OK    OK  UNNEEDED, same version is already published
riesling1Windows Server 2019 Standard / x64  OK    OK    OK    OK  
palomino3Windows Server 2022 Datacenter / x64  OK    OK    OK    OK  NO, package depends on 'Biobase' which is not available
merida1macOS 10.14.6 Mojave / x86_64  OK    OK    OK    OK  UNNEEDED, same version is already published
Package 4/13HostnameOS / ArchINSTALLBUILDCHECKBUILD BIN
GmicR 1.9.0  (landing page)
Richard Virgen-Slane
git_last_commit: 9099ed0
git_last_commit_date: 2021-10-26 12:54:44 -0500
nebbiolo1Linux (Ubuntu 20.04.4 LTS) / x86_64  OK    OK    WARNINGS  UNNEEDED, same version is already published
riesling1Windows Server 2019 Standard / x64  OK    OK    WARNINGS    OK  
palomino3Windows Server 2022 Datacenter / x64  OK    OK    WARNINGS    OK  NO, package depends on 'AnnotationDbi' which is not available
merida1macOS 10.14.6 Mojave / x86_64  OK    OK    WARNINGS    OK  UNNEEDED, same version is already published
Package 5/13HostnameOS / ArchINSTALLBUILDCHECKBUILD BIN
ideal 1.19.1  (landing page)
Federico Marini
git_last_commit: 8aae42f
git_last_commit_date: 2021-12-01 16:40:18 -0500
nebbiolo1Linux (Ubuntu 20.04.4 LTS) / x86_64  OK    OK    OK  UNNEEDED, same version is already published
riesling1Windows Server 2019 Standard / x64  OK    OK    OK    OK  
palomino3Windows Server 2022 Datacenter / x64  OK    OK    OK    OK  NO, package depends on 'topGO' which is not available
merida1macOS 10.14.6 Mojave / x86_64  OK    OK    OK    OK  UNNEEDED, same version is already published
Package 6/13HostnameOS / ArchINSTALLBUILDCHECKBUILD BIN
MIGSA 1.19.0  (landing page)
Juan C. Rodriguez
git_last_commit: 505d14d
git_last_commit_date: 2021-10-26 12:33:30 -0500
nebbiolo1Linux (Ubuntu 20.04.4 LTS) / x86_64  OK    OK    OK  UNNEEDED, same version is already published
riesling1Windows Server 2019 Standard / x64  OK    OK    OK    OK  
palomino3Windows Server 2022 Datacenter / x64  OK    OK    OK    OK  NO, package depends on 'BiocGenerics' which is not available
merida1macOS 10.14.6 Mojave / x86_64  OK    OK    OK    OK  UNNEEDED, same version is already published
Package 7/13HostnameOS / ArchINSTALLBUILDCHECKBUILD BIN
MineICA 1.35.0  (landing page)
Anne Biton
git_last_commit: 7293f30
git_last_commit_date: 2021-10-26 12:06:44 -0500
nebbiolo1Linux (Ubuntu 20.04.4 LTS) / x86_64  OK    OK    WARNINGS  UNNEEDED, same version is already published
riesling1Windows Server 2019 Standard / x64  OK    OK    WARNINGS    OK  
palomino3Windows Server 2022 Datacenter / x64  OK    OK    WARNINGS    OK  NO, package depends on 'BiocGenerics' which is not available
merida1macOS 10.14.6 Mojave / x86_64  OK    ERROR  skippedskipped
Package 8/13HostnameOS / ArchINSTALLBUILDCHECKBUILD BIN
miRLAB 1.25.1  (landing page)
Thuc Duy Le
git_last_commit: 83fdf5c
git_last_commit_date: 2021-11-24 18:44:25 -0500
nebbiolo1Linux (Ubuntu 20.04.4 LTS) / x86_64  OK    OK    OK  UNNEEDED, same version is already published
riesling1Windows Server 2019 Standard / x64  OK    OK    OK    OK  
palomino3Windows Server 2022 Datacenter / x64  OK    OK    OK    OK  NO, package depends on 'TCGAbiolinks' which is not available
merida1macOS 10.14.6 Mojave / x86_64  OK    OK    OK    OK  UNNEEDED, same version is already published
Package 9/13HostnameOS / ArchINSTALLBUILDCHECKBUILD BIN
netZooR 0.99.85  (landing page)
Marouen Ben Guebila
git_last_commit: 2baf915
git_last_commit_date: 2021-11-10 09:05:42 -0500
nebbiolo1Linux (Ubuntu 20.04.4 LTS) / x86_64  OK    OK    OK  UNNEEDED, same version is already published
riesling1Windows Server 2019 Standard / x64  OK    OK    OK    OK  
palomino3Windows Server 2022 Datacenter / x64  OK    OK    OK    OK  NO, package depends on 'pandaR' which is not available
merida1macOS 10.14.6 Mojave / x86_64  OK    OK    OK    OK  UNNEEDED, same version is already published
Package 10/13HostnameOS / ArchINSTALLBUILDCHECKBUILD BIN
pcaExplorer 2.21.0  (landing page)
Federico Marini
git_last_commit: a5af062
git_last_commit_date: 2021-10-26 12:27:09 -0500
nebbiolo1Linux (Ubuntu 20.04.4 LTS) / x86_64  OK    OK    OK  UNNEEDED, same version is already published
riesling1Windows Server 2019 Standard / x64  OK    OK    OK    OK  
palomino3Windows Server 2022 Datacenter / x64  OK    OK    OK    OK  NO, package depends on 'DESeq2' which is not available
merida1macOS 10.14.6 Mojave / x86_64  OK    OK    OK    OK  UNNEEDED, same version is already published
Package 11/13HostnameOS / ArchINSTALLBUILDCHECKBUILD BIN
PloGO2 1.7.0  (landing page)
Jemma Wu , Dana Pascovici
git_last_commit: 78eba39
git_last_commit_date: 2021-10-26 12:58:58 -0500
nebbiolo1Linux (Ubuntu 20.04.4 LTS) / x86_64  OK    OK    OK  UNNEEDED, same version is already published
riesling1Windows Server 2019 Standard / x64  OK    ERROR  skippedskipped
palomino3Windows Server 2022 Datacenter / x64  OK    OK    OK    OK  NO, package depends on 'GOstats' which is not available
merida1macOS 10.14.6 Mojave / x86_64  OK    OK    OK    OK  UNNEEDED, same version is already published
Package 12/13HostnameOS / ArchINSTALLBUILDCHECKBUILD BIN
ReportingTools 2.35.0  (landing page)
Jason A. Hackney , Gabriel Becker
git_last_commit: d3a5ca7
git_last_commit_date: 2021-10-26 12:04:45 -0500
nebbiolo1Linux (Ubuntu 20.04.4 LTS) / x86_64  OK    OK    OK  UNNEEDED, same version is already published
riesling1Windows Server 2019 Standard / x64  OK    OK    OK    OK  
palomino3Windows Server 2022 Datacenter / x64  OK    OK    OK    OK  NO, package depends on 'Biobase' which is not available
merida1macOS 10.14.6 Mojave / x86_64  OK    OK    OK    OK  UNNEEDED, same version is already published
Package 13/13HostnameOS / ArchINSTALLBUILDCHECKBUILD BIN
scTensor 2.5.1  (landing page)
Koki Tsuyuzaki
git_last_commit: 642ea01
git_last_commit_date: 2021-12-16 01:05:05 -0500
nebbiolo1Linux (Ubuntu 20.04.4 LTS) / x86_64  OK    OK    OK  UNNEEDED, same version is already published
riesling1Windows Server 2019 Standard / x64  OK    OK    OK    OK  
palomino3Windows Server 2022 Datacenter / x64  OK    OK    OK    OK  NO, package depends on 'S4Vectors' which is not available
merida1macOS 10.14.6 Mojave / x86_64  OK    OK    OK    OK  NO, package depends on 'ReactomePA' which is not available