Back to Multiple platform build/check report for BioC 3.13
ABCDEFGHIJKLMNOPQR[S]TUVWXYZ

Multiple platform build/check report for BioC 3.13

Results for shinyMethyl

This page was generated on 2020-11-30 12:17:04 -0500 (Mon, 30 Nov 2020).

Package 1643/1914HostnameOS / ArchINSTALLBUILDCHECKBUILD BIN
shinyMethyl 1.27.0
Jean-Philippe Fortin
Snapshot Date: 2020-11-29 14:40:27 -0500 (Sun, 29 Nov 2020)
URL: https://git.bioconductor.org/packages/shinyMethyl
Branch: master
Last Commit: d059eb4
Last Changed Date: 2020-10-27 10:57:34 -0500 (Tue, 27 Oct 2020)
malbec2 Linux (Ubuntu 20.04.1 LTS) / x86_64  OK  OK  OK UNNEEDED, same version exists in internal repository
tokay2 Windows Server 2012 R2 Standard / x64  OK  OK  OK  NA 
riesling1 Windows Server 2019 Standard / x64  OK  OK  OK  OK 
machv2 macOS 10.14.6 Mojave / x86_64  OK  OK  OK  OK UNNEEDED, same version exists in internal repository